Workbook
Name a: #REF!
Name b: #REF!
Name otra: #REF!
Name SprkR57C81: 'IMS4'!#REF!

Sheet Caratula
A8: INFORMACION MONETARIA SEMANAL

Sheet Presentación

Sheet Índice
C2: REPORTE MONETARIO SEMANAL No. 954
C3: 16 de mayo de 2025
C5: 1 | D5: Principales Indicadores Monetarios
C6: 1.1 | D6: Oferta Monetaria (M1) y Liquidez Total (M2)
C7: 2 | D7: Reservas Internacionales
C8: 3 | D8: Panorama del Banco Central del Ecuador
C9: 4 | D9: Balance Sectorial Banco Central del Ecuador
C10: 5 | D10: Sistema de balances
C11: 6 | D11: Panorama Otras Sociedades de Depósito (OSD)
C12: 7 | D12: Balance Sectorial Otras Sociedades de Depósito (OSD)
C13: 8 | D13: Panorama Monetario (PM)
C14: 9 | D14: Panorama Otras Sociedades Financieras (OSF)
C15: 10 | D15: Panorama Financiero (PF)
C16: 11 | D16: Memo Ítem: Panorama Bancos Privados
C17: 12 | D17: Balance Sectorial Bancos Privados
C18: 13 | D18: Captaciones del Sistema Financiero - por entidad financiera -
C19: 14 | D19: Crédito al Sector Privado - por entidad financiera -
D21: Links de interés:
D22: BOLETÍN DE TASAS DE INTERÉS
D23: Consultas y sugerencias: pub.econ@bce.ec
C26: Nota: La Junta de Política de Regulación Monetaria y Financiera, debido a la emergencia sanitaria que vive el país, comunicó a la Superintendencia de Bancos mediante oficio Nro.JPRMF-2020-0106-O de 23 de marzo de 2020, y a la Superintendencia de Economía Popular y Solidaria mediante Oficio Nro.JPRMF-2020-0105-O de 22 de marzo de 2020, el cambio en la normativa de gestión de riesgo que afecta a las estructuras de información de los depósitos, y cartera, entre otras variables, que el BCE recibe de las entidades financieras de manera sectorizada. En este contexto, cada entidad supervisora prorrogó la entrega de requerimientos de información, por lo cual, el Banco Central del Ecuador publicará información del sistema financiero tan pronto cuente con las estructuras de banca privada, economía popular y solidaria, y banca pública. Debido a revisiones metodológicas, se realizaron reprocesos en las cifras del Banco Central del Ecuador (BCE), a partir del 09 de agosto de 2016, dado que existieron valores registrados en la cuenta de Obligaciones con el Fondo Monetario Internacional (FMI) que deben registrarse en la cuenta de Endeudamiento Externo. El 13 de mayo de 2015, se crea BanEcuador mediante Decreto Ejecutivo 667-2015. El 11 de marzo de 2016, se emite el Decreto Ejecutivo 952-2016, donde se establece la forma y plazo de transferencia de los activos, pasivos y patrimonio de BNF a BanEcuador. A partir del 9 de mayo de 2016 BanEcuador inicia sus actividades. . Mediante Resoluciones 043-2015-F de 5 de marzo de 2015 y 059-2015-F de 16 de abril de 2015, la Junta de Política y Regulación Monetaria y Financiera expidió las normas que regulan la segmentación de la cartera de crédito de las entidades del Sistema Financiero Nacional. El envío de información al Banco Central del Ecuador por parte de las entidades financieras, se encuentra en un período de adaptación. Bajo esta consideración, se dispone de información consolidada de OSD y OSF a partir de agosto de 2015; la misma que es provisional y sujeta a revisión. A partir de octubre de 2014, se registran operaciones de dinero electrónico. El cuadro Resumen del Sistema de Balances del Banco Central del Ecuador fue publicado hasta el Boletín 399 de 26 de septiembre de 2014, en cumplimiento a lo dispuesto en el Código Orgánico Monetario y Financiero (Registro Oficial 332 de 12 de septiembre de 2014). De conformidad al Artículo 137 del Código Orgánico Monetario y Financiero, la Reserva Internacional de Libre Disponibilidad (RILD), pasa a denominarse Reservas Internacionales (RI). La Junta de Política y Regulación Monetaria y Financiera (JPRMF) mediante la Codificación de Resoluciones Monetarias, Financieras, de Valores y Seguros que incluye la Resolución No.603-2020-F, de 22 de septiembre de 2020 que expidió las Normas que regulan la segmentación de la cartera de crédito de las entidades del Sistema Financiero Nacional (SFN), la misma que entrara en vigencia a partir del 1 de mayo de 2021. Las cifras presentadas son provisionales, su reproceso se realizará conforme a la recepción de la información enviada por las entidades del sistema financiero.

Sheet IMS1
A2: 1. PRINCIPALES INDICADORES MONETARIOS
A3: En millones de dólares al final del período
A5: Menú Principal
A7: Período | D7: BANCO CENTRAL | I7: PANORAMA FINANCIERO (5) (11) (12) | S7: TASAS DE INTERÉS REFERENCIALES porcentajes | W7: INFLACIÓN porcentajes
D8: Reservas internacionales RI(11) | E8: Pasivos Monetarios PM (1) | F8: Emisión monetaria EM(2) | G8: Dinero Electrónico DE(3) | H8: Reservas bancarias (Rb) | I8: Depósitos a la vista (4) | J8: Cuasidinero | P8: Crédito al sector privado(6)
J9: Total | K9: Ahorro | L9: Plazo | M9: Restringido | N9: Operaciones de Reporto | O9: Otros depósitos | P9: Total | Q9: Cartera | R9: Otros | S9: Básica (7) | T9: Pasiva (8) | U9: Activa (9) | V9: Activa de Corto Plazo para el segmento Productivo Corporativo (10) | W9: Mensual | X9: Anual | Y9: Acumulada
D14: a | E14: b=c+d+e | F14: c | G14: d | H14: e | I14: f | J14: g=h+i+j+k+l | K14: h | L14: i | M14: j | N14: k | O14: l | P14: m=n+o | Q14: n | R14: o
A16: 2006 | B16: Enero | C16: 31 | D16: 1939.92 | E16: 409.58 | F16: 62 | G16: 0 | H16: 347.58 | I16: 3143.66 | J16: 5141.94 | K16: 2534.95 | L16: 2436.24 | M16: 1 | N16: 47.01 | O16: 122.74 | P16: 7740.15 | Q16: 7132.9 | R16: 607.25 | S16: 3 | T16: 4.44 | U16: 7.94 | W16: 0.47811487 | X16: 3.3743337 | Y16: 0.47811487
B17: Febrero | C17: 28 | D17: 1913.4878 | E17: 493.13698 | F17: 60.435125 | G17: 0 | H17: 432.70186 | I17: 3124.3153 | J17: 5272.98 | K17: 2577.08 | L17: 2481.29 | M17: 0 | N17: 83.78 | O17: 130.83 | P17: 7864.559 | Q17: 7234.98 | R17: 629.57903 | S17: 3 | T17: 4.29 | U17: 8.29 | W17: 0.70780765 | X17: 3.8234338 | Y17: 1.1893067
B18: Marzo | C18: 31 | D18: 2350.74 | E18: 485.14 | F18: 61.91 | G18: 0 | H18: 423.23 | I18: 3264.66 | J18: 5353.84 | K18: 2628.6 | L18: 2551.93 | M18: 0 | N18: 61.87 | O18: 111.44 | P18: 8029.51 | Q18: 7355.09 | R18: 674.42 | S18: 2.95 | T18: 4.45 | U18: 8.52 | W18: 0.65160567 | X18: 4.2254541 | Y18: 1.8486619
B19: Abril | C19: 30 | D19: 2701.34 | E19: 514.64 | F19: 61.18 | G19: 0 | H19: 453.46 | I19: 3318.16 | J19: 5407.5 | K19: 2765.26 | L19: 2493.07 | M19: 0 | N19: 48.8 | O19: 100.37 | P19: 7874.14 | Q19: 7419.66 | R19: 454.48 | S19: 2.95 | T19: 4.21 | U19: 8.11 | W19: 0.06847522 | X19: 3.4307043 | Y19: 1.918403
B20: Mayo | C20: 31 | D20: 2229.7315 | E20: 432.75398 | F20: 62.501905 | G20: 0 | H20: 370.25208 | I20: 3460.4835 | J20: 5535.16 | K20: 2768.32 | L20: 2568.18 | M20: 1.79 | N20: 76.73 | O20: 120.14 | P20: 7894.8263 | Q20: 7552.19 | R20: 342.63635 | S20: 2.94 | T20: 4.32 | U20: 7.42 | W20: -0.14 | X20: 3.11 | Y20: 1.78
B21: Junio | C21: 30 | D21: 2264.1 | E21: 553.89 | F21: 62.4 | G21: 0 | H21: 491.49 | I21: 3454.17 | J21: 5551.1 | K21: 2787.89 | L21: 2576.32 | M21: 1.68 | N21: 69.25 | O21: 115.96 | P21: 8085.8 | Q21: 7690.96 | R21: 394.84 | S21: 2.94 | T21: 4.31 | U21: 8.36 | W21: -0.23 | X21: 2.8 | Y21: 1.54
B22: Julio | C22: 31 | D22: 2398.8 | E22: 447.93 | F22: 63.04 | G22: 0 | H22: 384.89 | I22: 3460.06 | J22: 5563.94 | K22: 2794.98 | L22: 2597.17 | M22: 1.35 | N22: 56.23 | O22: 114.21 | P22: 8175.92 | Q22: 7780.39 | R22: 395.53 | S22: 2.93 | T22: 4.59 | U22: 8.5 | W22: 0.03 | X22: 2.99 | Y22: 1.57
B23: Agosto | C23: 31 | D23: 2660.17 | E23: 516.28 | F23: 64.07 | G23: 0 | H23: 452.21 | I23: 3535.79 | J23: 5612.11 | K23: 2810.9 | L23: 2648.86 | M23: 1.06 | N23: 44.64 | O23: 106.65 | P23: 8354.68 | Q23: 7971.17 | R23: 383.51 | S23: 2.96 | T23: 4.46 | U23: 8.58 | W23: 0.21 | X23: 3.36 | Y23: 1.79
B24: Septiembre | C24: 30 | D24: 2853.8014 | E24: 499.84475 | F24: 63.421189 | G24: 0 | H24: 436.42357 | I24: 3547.2625 | J24: 5685.84 | K24: 2823.67 | L24: 2677.81 | M24: 3.04 | N24: 69.16 | O24: 112.16 | P24: 8655.6784 | Q24: 8252.38 | R24: 403.29836 | S24: 2.98 | T24: 4.87 | U24: 7.56 | W24: 0.57 | X24: 3.21 | Y24: 2.38
B25: Octubre | C25: 31 | D25: 2991.67 | E25: 466.92 | F25: 63.66 | G25: 0 | H25: 403.26 | I25: 3501.81 | J25: 5856.12 | K25: 2813.77 | L25: 2648.71 | M25: 45.79 | N25: 67.98 | O25: 279.87 | P25: 8785.63 | Q25: 8379.49 | R25: 406.14 | S25: 2.94 | T25: 4.73 | U25: 10.29 | W25: 0.35 | X25: 3.21 | Y25: 2.73
B26: Noviembre | C26: 30 | D26: 2412.97 | E26: 500.88 | F26: 64.57 | G26: 0 | H26: 436.31 | I26: 3650.11 | J26: 5791.99 | K26: 2829.91 | L26: 2660.77 | M26: 112.26 | N26: 48.8 | O26: 140.25 | P26: 8997.93 | Q26: 8556.15 | R26: 441.78 | S26: 2.92 | T26: 5.14 | U26: 8.75 | W26: 0.17 | X26: 3.21 | Y26: 2.9
B27: Diciembre | C27: 31 | D27: 2023.35 | E27: 585.1 | F27: 65.95 | G27: 0 | H27: 519.15 | I27: 3691.94 | J27: 5826.03 | K27: 2938.45 | L27: 2562.22 | M27: 165.16 | N27: 23.05 | O27: 137.15 | P27: 9197.76 | Q27: 8795.08 | R27: 402.68 | S27: 2.92 | T27: 4.87 | U27: 9.86 | W27: -0.03 | X27: 2.87 | Y27: 2.87
A28: 2007 | B28: Enero | C28: 31 | D28: 2124.04 | E28: 501.75 | F28: 66.06 | G28: 0 | H28: 435.69 | I28: 3627.56 | J28: 5825.8 | K28: 2918 | L28: 2591.03 | M28: 161.12 | N28: 33.77 | O28: 121.88 | P28: 9346.42 | Q28: 8918.52 | R28: 427.9 | S28: 2.93 | T28: 4.79 | U28: 8.9 | W28: 0.3 | X28: 2.68 | Y28: 0.3
B29: Febrero | C29: 28 | D29: 2468.69 | E29: 486.19 | F29: 66.18 | G29: 0 | H29: 420.01 | I29: 3682.41 | J29: 5890.33 | K29: 2946.77 | L29: 2613.23 | M29: 178.06 | N29: 46.99 | O29: 105.28 | P29: 9397.34 | Q29: 8966.32 | R29: 431.02 | S29: 4.93 | T29: 4.93 | U29: 9.51 | W29: 0.07 | X29: 2.03 | Y29: 0.36
B30: Marzo | C30: 31 | D30: 2182.37 | E30: 559.26 | F30: 65.48 | G30: 0 | H30: 493.78 | I30: 3483.05 | J30: 5894.88 | K30: 2938.48 | L30: 2629.26 | M30: 175.23 | N30: 39.7 | O30: 112.21 | P30: 9541.1 | Q30: 9121.67 | R30: 419.43 | S30: 5.33 | T30: 5.33 | U30: 9.38 | W30: 0.1 | X30: 1.47 | Y30: 0.46
B31: Abril | C31: 30 | D31: 2801.24 | E31: 483.66 | F31: 65.91 | G31: 0 | H31: 417.75 | I31: 3568.78 | J31: 6075.91 | K31: 3083.55 | L31: 2646.06 | M31: 201.29 | N31: 37.49 | O31: 107.52 | P31: 9571.08 | Q31: 9150.1 | R31: 420.98 | S31: 5.44 | T31: 5.44 | U31: 9.98 | W31: -0.01 | X31: 1.39 | Y31: 0.45
B32: Mayo | C32: 31 | D32: 3076.33 | E32: 512.94 | F32: 65.78 | G32: 0 | H32: 447.16 | I32: 3759.61 | J32: 6164.33 | K32: 3096.88 | L32: 2706.24 | M32: 205.89 | N32: 52.07 | O32: 103.25 | P32: 9694.47 | Q32: 9272.77 | R32: 421.7 | S32: 5.64 | T32: 5.64 | U32: 9.35 | W32: 0.03 | X32: 1.56 | Y32: 0.48
B33: Junio | C33: 30 | D33: 3204.37 | E33: 547.66 | F33: 65.6 | G33: 0 | H33: 482.06 | I33: 3763.66 | J33: 6185.64 | K33: 3070.37 | L33: 2748.76 | M33: 202.53 | N33: 44.94 | O33: 119.04 | P33: 9823.23 | Q33: 9405.09 | R33: 418.14 | S33: 5.2 | T33: 5.2 | U33: 9.79 | W33: 0.39 | X33: 2.19 | Y33: 0.87
B34: Julio | C34: 31 | D34: 3440.77 | E34: 526.61 | F34: 66.39 | G34: 0 | H34: 460.22 | I34: 3842.28 | J34: 6287.57 | K34: 3128.7 | L34: 2737.21 | M34: 258.81 | N34: 41.44 | O34: 121.41 | P34: 9981.39 | Q34: 9554.27 | R34: 427.12 | S34: 5.53 | T34: 5.53 | U34: 10.92 | W34: 0.42 | X34: 2.58 | Y34: 1.29
B35: Agosto | C35: 31 | D35: 3510.08 | E35: 596.9 | F35: 67.26 | G35: 0 | H35: 529.64 | I35: 3963.98 | J35: 6468.43 | K35: 3252.26 | L35: 2792.63 | M35: 261.21 | N35: 50.25 | O35: 112.08 | P35: 10095.65 | Q35: 9671.41 | R35: 424.24 | S35: 5.53 | T35: 5.53 | U35: 10.92 | W35: 0.07 | X35: 2.44 | Y35: 1.37
B36: Septiembre | C36: 30 | D36: 3611.13 | E36: 603.71 | F36: 67.9 | G36: 0 | H36: 535.81 | I36: 3970.69 | J36: 6502.36 | K36: 3246.75 | L36: 2821.78 | M36: 251.49 | N36: 74.19 | O36: 108.15 | P36: 10198.79 | Q36: 9759.98 | R36: 438.81 | S36: 5.61 | T36: 5.61 | U36: 11.82 | W36: 0.71 | X36: 2.58 | Y36: 2.09
B37: Octubre | C37: 31 | D37: 3690.85 | E37: 544.57 | F37: 69.79 | G37: 0 | H37: 474.78 | I37: 4133.09 | J37: 6617.3 | K37: 3259.9 | L37: 2906.32 | M37: 251.28 | N37: 70.75 | O37: 129.05 | P37: 10294.89 | Q37: 9834.6 | R37: 460.29 | S37: 5.63 | T37: 5.63 | U37: 10.7 | W37: 0.13 | X37: 2.36 | Y37: 2.22
B38: Noviembre | C38: 30 | D38: 3617.78 | E38: 597.88 | F38: 70.31 | G38: 0 | H38: 527.57 | I38: 4268.76 | J38: 6789.82 | K38: 3423.79 | L38: 2927.18 | M38: 243.84 | N38: 80.53 | O38: 114.48 | P38: 10474.83 | Q38: 9940.48 | R38: 534.35 | S38: 5.79 | T38: 5.79 | U38: 10.55 | W38: 0.49747634 | X38: 2.6997647 | Y38: 2.7324503
B39: Diciembre | C39: 31 | D39: 3520.83 | E39: 763.66 | F39: 71.42 | G39: 0 | H39: 692.24 | I39: 4453.61 | J39: 7007.24 | K39: 3638.55 | L39: 2926.02 | M39: 255.34 | N39: 69.59 | O39: 117.74 | P39: 10639.31 | Q39: 10140.79 | R39: 498.52 | S39: 5.64 | T39: 5.64 | U39: 10.72 | W39: 0.57163644 | X39: 3.3197064 | Y39: 3.3197064
A40: 2008 | B40: Enero | C40: 31 | D40: 3511.0513 | E40: 835.50021 | F40: 72.173156 | G40: 0 | H40: 763.32705 | I40: 4627.045 | J40: 7063.82 | K40: 3567.17 | L40: 3035.75 | M40: 264.04 | N40: 85.87 | O40: 110.99 | P40: 10754.106 | Q40: 10266.08 | R40: 488.02585 | S40: 5.91 | T40: 5.91 | U40: 10.74 | W40: 1.1421267 | X40: 4.1904224 | Y40: 1.1421267
B41: Febrero | C41: 29 | D41: 3989.4212 | E41: 782.40967 | F41: 72.09099 | G41: 0 | H41: 710.31868 | I41: 4814.101 | J41: 7267.39 | K41: 3586.43 | L41: 3213.54 | M41: 252.85 | N41: 101.78 | O41: 112.79 | P41: 10844.928 | Q41: 10354.95 | R41: 489.97838 | S41: 2.27 | T41: 5.97 | U41: 10.5 | W41: 0.9435654 | X41: 5.102512 | Y41: 2.0964688
B42: Marzo | C42: 31 | D42: 4143.5528 | E42: 744.67841 | F42: 73.528708 | G42: 0 | H42: 671.1497 | I42: 4910.8292 | J42: 7338.74 | K42: 3646.56 | L42: 3210.97 | M42: 257.14 | N42: 107.4 | O42: 116.67 | P42: 11047.292 | Q42: 10561.28 | R42: 486.0118 | S42: 1.96 | T42: 5.96 | U42: 10.43 | W42: 1.4796048 | X42: 6.5554855 | Y42: 3.607093
B43: Abril | C43: 30 | D43: 5599.1134 | E43: 775.4371 | F43: 74.4329 | G43: 0 | H43: 701.0042 | I43: 4964.8837 | J43: 7766.58 | K43: 3943.64 | L43: 3362.34 | M43: 250.8 | N43: 77.2 | O43: 132.6 | P43: 11297.083 | Q43: 10738.41 | R43: 558.67254 | S43: 1.3 | T43: 5.96 | U43: 10.17 | W43: 1.5183164 | X43: 8.1835931 | Y43: 5.1801764
B44: Mayo | C44: 31 | D44: 5874.7229 | E44: 829.24505 | F44: 74.267401 | G44: 0 | H44: 754.97764 | I44: 5227.7408 | J44: 7816.12 | K44: 3924.73 | L44: 3427.03 | M44: 248.8 | N44: 80.99 | O44: 134.57 | P44: 11536.649 | Q44: 10962.08 | R44: 574.56916 | S44: 1.22 | T44: 5.86 | U44: 10.14 | W44: 1.048818 | X44: 9.2853147 | Y44: 6.283325
B45: Junio | C45: 30 | D45: 6103.1229 | E45: 798.76236 | F45: 74.362309 | G45: 0 | H45: 724.40005 | I45: 5253.3519 | J45: 7844.33 | K45: 3886.63 | L45: 3471.41 | M45: 261.43 | N45: 82.76 | O45: 142.1 | P45: 11790.824 | Q45: 11220.86 | R45: 569.96443 | S45: 1.1 | T45: 5.45 | U45: 9.59 | W45: 0.7567842 | X45: 9.6873225 | Y45: 7.0876604
B46: Julio | C46: 31 | D46: 6161.4124 | E46: 829.69794 | F46: 75.268478 | G46: 0 | H46: 754.42946 | I46: 5527.1183 | J46: 8063.61 | K46: 4001.08 | L46: 3554.48 | M46: 264.55 | N46: 77.22 | O46: 166.28 | P46: 11974.143 | Q46: 11496.23 | R46: 477.91288 | S46: 1.1 | T46: 5.36 | U46: 9.52 | W46: 0.58619143 | X46: 9.8709981 | Y46: 7.7177524
B47: Agosto | C47: 31 | D47: 6372.3133 | E47: 819.4303 | F47: 75.036155 | G47: 0 | H47: 744.39414 | I47: 5601.7171 | J47: 8190.45 | K47: 4069.44 | L47: 3601.46 | M47: 262.38 | N47: 85.77 | O47: 171.4 | P47: 12389.5 | Q47: 11908.38 | R47: 481.12014 | S47: 1.1 | T47: 5.3 | U47: 9.31 | W47: 0.20987268 | X47: 10.021329 | Y47: 7.9438225
B48: Septiembre | C48: 30 | D48: 6511.4456 | E48: 709.49504 | F48: 75.191046 | G48: 0 | H48: 634.30399 | I48: 5468.1822 | J48: 8158.8 | K48: 4038.44 | L48: 3630.08 | M48: 280.28 | N48: 62.36 | O48: 147.64 | P48: 12744.176 | Q48: 12230.64 | R48: 513.53638 | S48: 1.1 | T48: 5.29 | U48: 9.31 | W48: 0.65937352 | X48: 9.9658594 | Y48: 8.6555755
...

Sheet IMS1.1
A2: 1.1. OFERTA MONETARIA (M1) Y LIQUIDEZ TOTAL (M2)
A3: En millones de dólares al final del período
A5: Menú Principal
A7: Período | C7: Especies Monetarias en Circulación (1) | D7: Moneda Fraccionaria | E7: Dinero Electrónico (2) | F7: Depósitos a la vista (3) | G7: OFERTA MONETARIA M1 (4) | H7: Cuasidinero (5) | I7: LIQUIDEZ TOTAL M2 (6) | J7: Reservas Bancarias (7) | K7: Caja BCE | L7: Caja OSD | M7: BASE MONETARIA BM (8) | N7: Multiplicador M1/BM (9) | O7: Multiplicador M2/BM (9)
C8: a | D8: b | E8: c | F8: d | G8: e=a+b+c+d | H8: f | I8: g=e+f | J8: h | K8: i | L8: j | M8: k=a+b+c+h+i+j | N8: l=e/k | O8: m=g/k
A10: 2010 | B10: Enero | C10: 3984.1615 | D10: 77.224971 | F10: 4872.22 | G10: 8933.6064 | H10: 9424.72 | I10: 18358.326 | J10: 1697.5338 | K10: 538.52018 | L10: 543.19 | M10: 6840.6304 | N10: 1.3059624 | O10: 2.6837185
B11: Febrero | C11: 3954.472 | D11: 77.439156 | F11: 5008.04 | G11: 9039.9512 | H11: 9455.01 | I11: 18494.961 | J11: 1444.4747 | K11: 531.61765 | L11: 543.67 | M11: 6551.6735 | N11: 1.3797927 | O11: 2.8229369
B12: Marzo | C12: 3927.2175 | D12: 77.90467 | F12: 5250.95 | G12: 9256.0722 | H12: 9574.54 | I12: 18830.612 | J12: 1632.2811 | K12: 482.47213 | L12: 575.77 | M12: 6695.6454 | N12: 1.3824018 | O12: 2.812367
B13: Abril | C13: 4029.1083 | D13: 78.303752 | F13: 5120.94 | G13: 9228.352 | H13: 9891.83 | I13: 19120.182 | J13: 1720.1363 | K13: 504.47139 | L13: 499.62 | M13: 6831.6397 | N13: 1.3508253 | O13: 2.7987691
B14: Mayo | C14: 4078.7518 | D14: 78.34093 | F14: 5215.31 | G14: 9372.4027 | H14: 9971.79 | I14: 19344.193 | J14: 1850.0471 | K14: 462.31585 | L14: 595.34 | M14: 7064.7957 | N14: 1.3266346 | O14: 2.7381107
B15: Junio | C15: 4065.1885 | D15: 78.665864 | F15: 5206.74 | G15: 9350.5943 | H15: 10213.64 | I15: 19564.234 | J15: 1546.4145 | K15: 417.50919 | L15: 628.91 | M15: 6736.688 | N15: 1.3880106 | O15: 2.9041325
B16: Julio | C16: 4159.2881 | D16: 79.794747 | F16: 5278.79 | G16: 9517.8729 | H16: 10438.94 | I16: 19956.813 | J16: 1584.7153 | K16: 434.40352 | L16: 587.86 | M16: 6846.0617 | N16: 1.3902698 | O16: 2.9150793
B17: Agosto | C17: 4218.8214 | D17: 79.969243 | F17: 5478.39 | G17: 9777.1807 | H17: 10524.03 | I17: 20301.211 | J17: 1474.7544 | K17: 383.96023 | L17: 648.85 | M17: 6806.3553 | N17: 1.4364782 | O17: 2.9826845
B18: Septiembre | C18: 4191.9239 | D18: 81.264515 | F18: 5522.67 | G18: 9795.8584 | H18: 10548.8 | I18: 20344.658 | J18: 1494.3926 | K18: 684.82579 | L18: 626.29 | M18: 7078.6967 | N18: 1.3838506 | O18: 2.8740684
B19: Octubre | C19: 4325.1885 | D19: 81.299613 | F19: 5570.34 | G19: 9976.8281 | H19: 10689.42 | I19: 20666.248 | J19: 1795.1901 | K19: 516.76512 | L19: 648.88 | M19: 7367.3233 | N19: 1.3541999 | O19: 2.805123
B20: Noviembre | C20: 4222.6095 | D20: 81.761841 | F20: 5852.3 | G20: 10156.671 | H20: 10843.49 | I20: 21000.161 | J20: 1625.1286 | K20: 725.01414 | L20: 629.93 | M20: 7284.4441 | N20: 1.394296 | O20: 2.8828777
B21: Diciembre | C21: 4545.384 | D21: 82.432862 | F21: 6148.33 | G21: 10776.147 | H21: 11413.22 | I21: 22189.367 | J21: 1606.7282 | K21: 519.19565 | L21: 677.2 | M21: 7430.9407 | N21: 1.4501726 | O21: 2.9860778
A22: 2011 | B22: Enero | C22: 4338.0574 | D22: 82.292037 | F22: 6022.11 | G22: 10442.459 | H22: 11236.35 | I22: 21678.809 | J22: 1325.554 | K22: 363.93821 | L22: 638.38 | M22: 6748.2217 | N22: 1.5474387 | O22: 3.2125218
B23: Febrero | C23: 4327.3877 | D23: 81.765212 | F23: 6130.64 | G23: 10539.793 | H23: 11441.14 | I23: 21980.933 | J23: 1490.3473 | K23: 275.56992 | L23: 662.95 | M23: 6838.0201 | N23: 1.5413515 | O23: 3.2145171
B24: Marzo | C24: 4346.75 | D24: 81.680068 | F24: 6449.47 | G24: 10877.9 | H24: 11848.84 | I24: 22726.74 | J24: 1779.9779 | K24: 429.7636 | L24: 686.19 | M24: 7324.3616 | N24: 1.485167 | O24: 3.1028971
B25: Abril | C25: 4477.1809 | D25: 81.716566 | F25: 6209.46 | G25: 10768.358 | H25: 12376.5 | I25: 23144.858 | J25: 1907.02 | K25: 575.6447 | L25: 678.99 | M25: 7720.5522 | N25: 1.3947652 | O25: 2.9978241
B26: Mayo | C26: 4438.88 | D26: 82.09353 | F26: 6371.44 | G26: 10892.414 | H26: 12438.89 | I26: 23331.304 | J26: 1694.5173 | K26: 712.00764 | L26: 747.8 | M26: 7675.2984 | N26: 1.4191518 | O26: 3.0397911
B27: Junio | C27: 4561.0026 | D27: 82.114227 | F27: 6431.69 | G27: 11074.807 | H27: 12631.44 | I27: 23706.247 | J27: 1747.6103 | K27: 506.38408 | L27: 726.15 | M27: 7623.2612 | N27: 1.452765 | O27: 3.1097251
B28: Julio | C28: 4662.685 | D28: 82.462857 | F28: 6535.23 | G28: 11280.378 | H28: 12927.14 | I28: 24207.518 | J28: 1842.625 | K28: 423.47165 | L28: 710.48 | M28: 7721.7245 | N28: 1.4608625 | O28: 3.1349885
B29: Agosto | C29: 4665.1856 | D29: 82.762439 | F29: 6583.85 | G29: 11331.798 | H29: 13176.23 | I29: 24508.028 | J29: 1837.0135 | K29: 527.87104 | L29: 749.08 | M29: 7861.9125 | N29: 1.4413539 | O29: 3.1173112
B30: Septiembre | C30: 4742.9395 | D30: 82.841513 | F30: 6408.5 | G30: 11234.281 | H30: 13614.42 | I30: 24848.701 | J30: 1833.5796 | K30: 522.08512 | L30: 703.9 | M30: 7885.3458 | N30: 1.4247037 | O30: 3.1512507
B31: Octubre | C31: 4792.1152 | D31: 83.414454 | F31: 6417.28 | G31: 11292.81 | H31: 13780.94 | I31: 25073.75 | J31: 1754.1108 | K31: 605.93648 | L31: 799.21 | M31: 8034.7869 | N31: 1.4054896 | O31: 3.120649
B32: Noviembre | C32: 4777.2189 | D32: 82.813536 | F32: 6383.74 | G32: 11243.772 | H32: 13714.86 | I32: 24958.632 | J32: 1521.8084 | K32: 816.22078 | L32: 773.84 | M32: 7971.9016 | N32: 1.4104254 | O32: 3.1308255
B33: Diciembre | C33: 5290.9794 | D33: 83.197874 | F33: 6718.79 | G33: 12092.967 | H33: 14464.01 | I33: 26556.977 | J33: 1594.7785 | K33: 649.25623 | L33: 773.52 | M33: 8391.7321 | N33: 1.4410574 | O33: 3.1646598
A34: 2012 | B34: Enero | C34: 4958.1532 | D34: 83.402306 | F34: 6874.13 | G34: 11915.686 | H34: 14412.78 | I34: 26328.466 | J34: 1699.2723 | K34: 863.62242 | L34: 731.84 | M34: 8336.2903 | N34: 1.4293751 | O34: 3.1582952
B35: Febrero | C35: 4922.1882 | D35: 83.006349 | F35: 6890.55 | G35: 11895.745 | H35: 14836.3 | I35: 26732.045 | J35: 1706.5279 | K35: 697.02341 | L35: 808.32 | M35: 8217.0659 | N35: 1.4476876 | O35: 3.2532348
B36: Marzo | C36: 5060.4835 | D36: 82.884368 | F36: 7300.46 | G36: 12443.828 | H36: 15103.01 | I36: 27546.838 | J36: 1910.4775 | K36: 755.39812 | L36: 733.65 | M36: 8542.8935 | N36: 1.4566292 | O36: 3.2245325
B37: Abril | C37: 5211.7885 | D37: 82.539484 | F37: 7003.69 | G37: 12298.018 | H37: 15374.52 | I37: 27672.538 | J37: 1639.7876 | K37: 579.69318 | L37: 803.57 | M37: 8317.3787 | N37: 1.478593 | O37: 3.3270744
B38: Mayo | C38: 5206.3147 | D38: 83.258436 | F38: 7247.7 | G38: 12537.273 | H38: 15622.01 | I38: 28159.283 | J38: 1654.3634 | K38: 644.08696 | L38: 820.05 | M38: 8408.0735 | N38: 1.4910994 | O38: 3.3490767
B39: Junio | C39: 5255.8124 | D39: 83.414597 | F39: 7084.47 | G39: 12423.697 | H39: 15796.53 | I39: 28220.227 | J39: 1830.3942 | K39: 654.47929 | L39: 760.16 | M39: 8584.2604 | N39: 1.4472647 | O39: 3.2874383
B40: Julio | C40: 5373.0146 | D40: 82.833945 | F40: 6949.83 | G40: 12405.679 | H40: 15698.63 | I40: 28104.309 | J40: 1720.1694 | K40: 459.76706 | L40: 829.12 | M40: 8464.905 | N40: 1.4655426 | O40: 3.3200973
B41: Agosto | C41: 5517.3858 | D41: 83.26651 | F41: 6911.38 | G41: 12512.032 | H41: 15944.45 | I41: 28456.482 | J41: 2416.6761 | K41: 447.6638 | L41: 807.1 | M41: 9272.0922 | N41: 1.3494292 | O41: 3.0690465
B42: Septiembre | C42: 5508.0796 | D42: 83.158872 | F42: 6950.85 | G42: 12542.088 | H42: 15900.74 | I42: 28442.828 | J42: 2307.4553 | K42: 604.18602 | L42: 808.86 | M42: 9311.7398 | N42: 1.3469114 | O42: 3.0545128
B43: Octubre | C43: 5615.2751 | D43: 83.289644 | F43: 7154.53 | G43: 12853.095 | H43: 16089.98 | I43: 28943.075 | J43: 2211.5024 | K43: 581.66459 | L43: 869.04 | M43: 9360.7717 | N43: 1.3730807 | O43: 3.0919539
B44: Noviembre | C44: 5761.628 | D44: 83.082588 | F44: 7491.93 | G44: 13336.641 | H44: 15961.34 | I44: 29297.981 | J44: 2127.5798 | K44: 968.58165 | L44: 825.77 | M44: 9766.6421 | N44: 1.3655298 | O44: 2.9998008
...

Sheet IMS2
A2: 2. RESERVAS INTERNACIONALES (1)
A3: En millones de dólares al final del período
A5: Menú Principal
B7: 2006 | N7: 2007 | Z7: 2008 | AL7: 2009 | AX7: 2010 | BJ7: 2011 | BV7: 2012 | CH7: 2013 | CT7: 2014 | DF7: 2015 | DR7: 2016 | ED7: 2017 | EP7: 2018 | FB7: 2019 | FN7: 2020 | FZ7: 2021 | GL7: 2022 | GX7: 2023 | HJ7: 2024 | HV7: 2025
B8: Ene | C8: Feb | D8: Mar | E8: Abr | F8: May | G8: Jun | H8: Jul | I8: Ago | J8: Sep | K8: Oct | L8: Nov | M8: Dic | N8: Ene | O8: Feb | P8: Mar | Q8: Abr | R8: May | S8: Jun | T8: Jul | U8: Ago | V8: Sep | W8: Oct | X8: Nov | Y8: Dic | Z8: Ene | AA8: Feb | AB8: Mar | AC8: Abr | AD8: May | AE8: Jun | AF8: Jul | AG8: Ago | AH8: Sep | AI8: Oct | AJ8: Nov | AK8: Dic | AL8: Ene | AM8: Feb | AN8: Mar | AO8: Abr | AP8: May | AQ8: Jun | AR8: Jul | AS8: Ago | AT8: Sep | AU8: Oct | AV8: Nov | AW8: Dic | AX8: Ene | AY8: Feb | AZ8: Mar | BA8: Abr | BB8: May | BC8: Jun | BD8: Jul | BE8: Ago | BF8: Sep | BG8: Oct | BH8: Nov | BI8: Dic | BJ8: Ene | BK8: Feb | BL8: Mar | BM8: Abr | BN8: May | BO8: Jun | BP8: Jul | BQ8: Ago | BR8: Sep | BS8: Oct | BT8: Nov | BU8: Dic | BV8: Ene | BW8: Feb | BX8: Mar | BY8: Abr | BZ8: May | CA8: Jun | CB8: Jul | CC8: Ago | CD8: Sep | CE8: Oct | CF8: Nov | CG8: Dic | CH8: Ene | CI8: Feb | CJ8: Mar | CK8: Abr | CL8: May | CM8: Jun | CN8: Jul | CO8: Ago | CP8: Sep | CQ8: Oct | CR8: Nov | CS8: Dic | CT8: Ene | CU8: Feb | CV8: Mar | CW8: Abr | CX8: May | CY8: Jun | CZ8: Jul | DA8: Ago | DB8: Sep | DC8: Oct | DD8: Nov | DE8: Dic | DF8: Ene | DG8: Feb | DH8: Mar | DI8: Abr | DJ8: May | DK8: Jun | DL8: Jul | DM8: Ago | DN8: Sep | DO8: Oct | DP8: Nov | DQ8: Dic | DR8: Ene | DS8: Feb | DT8: Mar | DU8: Abr | DV8: May | DW8: Jun | DX8: Jul | DY8: Ago | DZ8: Sep | EA8: Oct | EB8: Nov | EC8: Dic | ED8: Ene | EE8: Feb | EF8: Mar | EG8: Abr | EH8: May | EI8: Jun | EJ8: Jul | EK8: Ago | EL8: Sep | EM8: Oct | EN8: Nov | EO8: Dic | EP8: Ene | EQ8: Feb | ER8: Mar | ES8: Abr | ET8: May | EU8: Jun | EV8: Jul | EW8: Ago | EX8: Sep | EY8: Oct | EZ8: Nov | FA8: Dic | FB8: Ene | FC8: Feb | FD8: Mar | FE8: Abr | FF8: May | FG8: Jun | FH8: Jul | FI8: Ago | FJ8: Sep | FK8: Oct | FL8: Nov | FM8: Dic | FN8: Ene | FO8: Feb | FP8: Mar | FQ8: Abr | FR8: May | FS8: Jun | FT8: Jul | FU8: Ago | FV8: Sep | FW8: Oct | FX8: Nov | FY8: Dic | FZ8: Ene | GA8: Feb | GB8: Mar | GC8: Abr | GD8: May | GE8: Jun | GF8: Jul | GG8: Ago | GH8: Sep | GI8: Oct | GJ8: Nov | GK8: Dic | GL8: Ene | GM8: Feb | GN8: Mar | GO8: Abr | GP8: May | GQ8: Jun | GR8: Jul | GS8: Ago | GT8: Sep | GU8: Oct | GV8: Nov | GW8: Dic | GX8: Ene | GY8: Feb | GZ8: Mar | HA8: Abr | HB8: May | HC8: Jun | HD8: Jul | HE8: Ago | HF8: Sep | HG8: Oct | HH8: Nov | HI8: Dic | HJ8: Ene | HK8: Feb | HL8: Mar | HM8: Abr | HN8: May | HO8: Jun | HP8: Jul | HQ8: Ago | HR8: Sep | HS8: Oct | HT8: Nov | HU8: Dic | HV8: Ene | HW8: Feb | HX8: Mar | HY8: 45751 | HZ8: 45758 | IA8: 45764 | IB8: 45772 | IC8: 45777 | ID8: 45786 | IE8: 45793
CM9: 41455 | CR9: 41608 | GM9: 44575 | GN9: 44576 | GO9: 44577
A11: 1. Posición neta en divisas (1.1+1.2+1.3) | B11: 1419.0949 | C11: 1418.3385 | D11: 1830.32 | E11: 2114.64 | F11: 1656.1534 | G11: 1727.59 | H11: 1849.11 | I11: 2105.71 | J11: 2312.491 | K11: 2446.24 | L11: 1837.23 | M11: 1455.63 | N11: 1537.88 | O11: 1877.71 | P11: 1577.18 | Q11: 2202.68 | R11: 2483.21 | S11: 2619.69 | T11: 2844.01 | U11: 2880.74 | V11: 2929.84 | W11: 2956.5 | X11: 2890.25 | Y11: 2762.75 | Z11: 2668.2776 | AA11: 3113.2583 | AB11: 3298.6059 | AC11: 4811.986 | AD11: 5060.9539 | AE11: 5243.187 | AF11: 5324.8817 | AG11: 5588.9346 | AH11: 5688.8218 | AI11: 5593.9352 | AJ11: 5259.896 | AK11: 3711.6482 | AL11: 3440.5736 | AM11: 3132.0368 | AN11: 2399.7768 | AO11: 2335.191 | AP11: 1661.5647 | AQ11: 1852.2262 | AR11: 2287.3989 | AS11: 3040.9331 | AT11: 3733.3832 | AU11: 3648.7253 | AV11: 4178.0081 | AW11: 2846.4891 | AX11: 2940.6722 | AY11: 2607.0663 | AZ11: 3003.2353 | BA11: 3273.7211 | BB11: 3490.4407 | BC11: 2978.0324 | BD11: 2814.7613 | BE11: 2364.5036 | BF11: 3193.6331 | BG11: 2473.4017 | BH11: 2216.2759 | BI11: 1387.2745 | BJ11: 1677.0325 | BK11: 2659.7272 | BL11: 2680.1427 | BM11: 2807.3986 | BN11: 2528.0349 | BO11: 2534.2053 | BP11: 2553.7339 | BQ11: 2533.816 | BR11: 2218.9159 | BS11: 3023.7037 | BT11: 2544.5177 | BU11: 1597.5722 | BV11: 1823.9695 | BW11: 1812.0126 | BX11: 1895.2688 | BY11: 2317.2482 | BZ11: 2534.8991 | CA11: 2531.9592 | CB11: 2602.219 | CC11: 2755.03 | CD11: 3312.14 | CE11: 2509.07 | CF11: 1915.33 | CG11: 469.2 | CH11: 1037.04 | CI11: 2307.71 | CJ11: 2354.41 | CK11: 2945.15 | CL11: 2469.18 | CM11: 2181.73 | CN11: 2452.9 | CO11: 3200.67 | CP11: 2949.4268 | CQ11: 2882.8233 | CR11: 2773.253 | CS11: 3088.1959 | CT11: 3010.1586 | CU11: 3066.2194 | CV11: 2711.8372 | CW11: 2261.4799 | CX11: 3285.8826 | CY11: 5027.931 | CZ11: 4953.9041 | DA11: 5535.3978 | DB11: 6065.2379 | DC11: 5351.332 | DD11: 5176.963 | DE11: 3237.4113 | DF11: 3082.9431 | DG11: 3149.6045 | DH11: 3072.5444 | DI11: 2816.0787 | DJ11: 3929.9266 | DK11: 4120.1844 | DL11: 4268.2161 | DM11: 3672.7239 | DN11: 2961.7156 | DO11: 2711.3069 | DP11: 2528.5994 | DQ11: 1884.5674 | DR11: 2696.2196 | DS11: 2773.5944 | DT11: 1998.7065 | DU11: 1883.1825 | DV11: 1572.9799 | DW11: 2818.594 | DX11: 3699.2811 | DY11: 3577.0423 | DZ11: 3876.4273 | EA11: 3690.7956 | EB11: 3347.728 | EC11: 3721.7576 | ED11: 4345.2671 | EE11: 3628.4982 | EF11: 2665.5568 | EG11: 2069.0192 | EH11: 1618.9818 | EI11: 3328.424 | EJ11: 3083.2121 | EK11: 2434.7097 | EL11: 1167.126 | EM11: 3999.6805 | EN11: 3211.0136 | EO11: 1622.2815 | EP11: 4845.2768 | EQ11: 4560.9108 | ER11: 4012.773 | ES11: 3403.0251 | ET11: 2900.0832 | EU11: 2340.7924 | EV11: 2309.5804 | EW11: 2231.3294 | EX11: 1865.4659 | EY11: 1879.5522 | EZ11: 1522.2742 | FA11: 2209.0245 | FB11: 2706.362 | FC11: 2353.2978 | FD11: 3051.2672 | FE11: 2565.0028 | FF11: 3149.814 | FG11: 3091.7775 | FH11: 2748.7429 | FI11: 2735.4295 | FJ11: 4077.0341 | FK11: 3015.9635 | FL11: 2128.6012 | FM11: 2274.1795 | FN11: 2382.879 | FO11: 2071.636 | FP11: 1169.4931 | FQ11: 1587.5962 | FR11: 2113.1425 | FS11: 1242.2389 | FT11: 1454.112 | FU11: 1682.6187 | FV11: 1449.9363 | FW11: 3528.4034 | FX11: 3201.7721 | FY11: 5162.3019 | FZ11: 4643.9936 | GA11: 3996.8047 | GB11: 4037.7692 | GC11: 3935.6939 | GD11: 3970.2547 | GE11: 4227.7233 | GF11: 3482.6249 | GG11: 3046.8443 | GH11: 4494.3959 | GI11: 5669.9804 | GJ11: 5690.4305 | GK11: 6021.9301 | GL11: 6078.4237 | GM11: 6092.048 | GN11: 7056.8827 | GO11: 6290.1705 | GP11: 6129.8635 | GQ11: 6557.9963 | GR11: 7004.645 | GS11: 7099.8779 | GT11: 6519.7691 | GU11: 5837.422 | GV11: 5589.9466 | GW11: 6450.5781 | GX11: 6112.417 | GY11: 5864.8624 | GZ11: 5998.1172 | HA11: 5728.1545 | HB11: 5355.1831 | HC11: 4847.7964 | HD11: 4630.6736 | HE11: 4206.1019 | HF11: 4238.1749 | HG11: 3647.2871 | HH11: 3401.7126 | HI11: 2652.1745 | HJ11: 2557.282 | HK11: 3305.8658 | HL11: 3379.0067 | HM11: 3852.498 | HN11: 4702.7243 | HO11: 5075.2931 | HP11: 4982.3128 | HQ11: 6235.7622 | HR11: 6304.3552 | HS11: 6115.5223 | HT11: 5357.5081 | HU11: 4638.8463 | HV11: 4869.1257 | HW11: 5271.6126 | HX11: 5049.8202 | HY11: 4983.3773 | HZ11: 5330.5327 | IA11: 5571.4762 | IB11: 5175.9487 | IC11: 4796.5095 | ID11: 4911.824 | IE11: 5581.0965
A12: 1.1 Caja en divisas | B12: 155.90938 | C12: 145.19391 | D12: 178.71 | E12: 117.34 | F12: 246.41323 | G12: 131.32 | H12: 97.43 | I12: 112.07 | J12: 114.46384 | K12: 132.19 | L12: 310.62 | M12: 124.41 | N12: 247.31 | O12: 181.74 | P12: 217.24 | Q12: 218.13 | R12: 154.54 | S12: 149.04 | T12: 139.5 | U12: 124.24 | V12: 221.16 | W12: 167.73 | X12: 191.73 | Y12: 121.79 | Z12: 265.34907 | AA12: 234.6678 | AB12: 214.30329 | AC12: 143.7772 | AD12: 139.89314 | AE12: 124.68462 | AF12: 155.95318 | AG12: 150.00604 | AH12: 178.77353 | AI12: 219.30446 | AJ12: 220.79558 | AK12: 191.56964 | AL12: 535.53378 | AM12: 436.03471 | AN12: 354.41144 | AO12: 255.56691 | AP12: 305.78269 | AQ12: 263.31515 | AR12: 231.4348 | AS12: 269.32354 | AT12: 235.97561 | AU12: 179.98856 | AV12: 333.2929 | AW12: 358.8954 | AX12: 538.52018 | AY12: 531.61765 | AZ12: 482.47213 | BA12: 504.47139 | BB12: 462.31585 | BC12: 417.50919 | BD12: 434.40352 | BE12: 383.96023 | BF12: 684.82579 | BG12: 516.76512 | BH12: 725.01414 | BI12: 519.19565 | BJ12: 363.93821 | BK12: 275.56992 | BL12: 429.7636 | BM12: 575.6447 | BN12: 712.00764 | BO12: 506.38408 | BP12: 423.47165 | BQ12: 527.87104 | BR12: 522.08512 | BS12: 605.93648 | BT12: 816.22078 | BU12: 649.25623 | BV12: 863.62242 | BW12: 697.02341 | BX12: 755.39812 | BY12: 579.69318 | BZ12: 644.08696 | CA12: 654.47929 | CB12: 459.76706 | CC12: 447.66 | CD12: 604.19 | CE12: 581.66 | CF12: 968.58 | CG12: 244.19 | CH12: 407.22 | CI12: 365.32 | CJ12: 429.14 | CK12: 512.89 | CL12: 469.53 | CM12: 423.09 | CN12: 527.64 | CO12: 964.33 | CP12: 1095.4702 | CQ12: 986.66665 | CR12: 1076.2045 | CS12: 360.43945 | CT12: 689.87116 | CU12: 581.36766 | CV12: 496.22237 | CW12: 442.77382 | CX12: 398.30765 | CY12: 386.07273 | CZ12: 469.64218 | DA12: 469.24464 | DB12: 380.37764 | DC12: 483.13193 | DD12: 847.39022 | DE12: 360.96491 | DF12: 695.371 | DG12: 529.00852 | DH12: 429.67722 | DI12: 440.9242 | DJ12: 564.00497 | DK12: 570.52244 | DL12: 574.66362 | DM12: 582.06882 | DN12: 644.43585 | DO12: 775.65155 | DP12: 1108.4611 | DQ12: 434.5602 | DR12: 702.03281 | DS12: 568.159 | DT12: 484.84196 | DU12: 241.67562 | DV12: 373.49146 | DW12: 341.3286 | DX12: 329.63522 | DY12: 320.7362 | DZ12: 440.8093 | EA12: 528.02732 | EB12: 730.30837 | EC12: 357.68917 | ED12: 525.81592 | EE12: 580.77046 | EF12: 503.67704 | EG12: 470.67432 | EH12: 584.49809 | EI12: 485.93959 | EJ12: 584.94443 | EK12: 465.76088 | EL12: 568.60775 | EM12: 536.37123 | EN12: 775.06446 | EO12: 431.40571 | EP12: 598.76634 | EQ12: 607.55175 | ER12: 613.0476 | ES12: 477.81072 | ET12: 565.7377 | EU12: 489.67953 | EV12: 417.64285 | EW12: 568.73263 | EX12: 555.18303 | EY12: 564.54283 | EZ12: 690.14857 | FA12: 295.89378 | FB12: 722.35721 | FC12: 725.17492 | FD12: 600.81578 | FE12: 477.08845 | FF12: 623.74738 | FG12: 441.82779 | FH12: 551.72944 | FI12: 447.698 | FJ12: 658.62509 | FK12: 537.54446 | FL12: 673.59546 | FM12: 492.87675 | FN12: 692.17861 | FO12: 622.49821 | FP12: 420.15373 | FQ12: 242.11037 | FR12: 336.13801 | FS12: 412.02778 | FT12: 456.00638 | FU12: 427.75177 | FV12: 350.38241 | FW12: 670.2817 | FX12: 835.76139 | FY12: 511.5188 | FZ12: 595.1594 | GA12: 569.94372 | GB12: 587.03096 | GC12: 599.38494 | GD12: 529.49967 | GE12: 444.84277 | GF12: 467.70894 | GG12: 584.61325 | GH12: 521.68194 | GI12: 558.0601 | GJ12: 554.80529 | GK12: 461.20083 | GL12: 665.70074 | GM12: 524.83888 | GN12: 608.14036 | GO12: 585.43119 | GP12: 686.65672 | GQ12: 553.13501 | GR12: 560.69738 | GS12: 468.5729 | GT12: 642.82901 | GU12: 361.21376 | GV12: 356.03379 | GW12: 514.4504 | GX12: 625.2767 | GY12: 543.15723 | GZ12: 447.33915 | HA12: 482.78099 | HB12: 461.08736 | HC12: 605.46372 | HD12: 685.57808 | HE12: 496.49418 | HF12: 544.24782 | HG12: 511.42804 | HH12: 600.71666 | HI12: 564.47828 | HJ12: 695.24739 | HK12: 666.67995 | HL12: 605.47008 | HM12: 427.00739 | HN12: 588.74844 | HO12: 718.94828 | HP12: 588.75203 | HQ12: 735.5657 | HR12: 733.93522 | HS12: 844.55794 | HT12: 1243.6848 | HU12: 1262.9805 | HV12: 1766.5972 | HW12: 1834.0537 | HX12: 1946.8254 | HY12: 1903.9925 | HZ12: 1808.5209 | IA12: 1755.7333 | IB12: 1773.769 | IC12: 1765.6026 | ID12: 1443.1947 | IE12: 1280.1091
A13: 1.2 Depósitos netos en bancos e instituciones financieras del exterior | B13: 80.246657 | C13: -11.802665 | D13: -4.56 | E13: 2.03 | F13: 1210.2075 | G13: 1512.65 | H13: 569.19 | I13: 856.65 | J13: 956.71694 | K13: 673.4 | L13: 910.99 | M13: 703.34 | N13: 1050.89 | O13: 1202.12 | P13: 866.24 | Q13: 1639.86 | R13: 1739.58 | S13: 1782.58 | T13: 1920.19 | U13: 1937.54 | V13: 1509.1 | W13: 1366.23 | X13: 1322.71 | Y13: 1060.89 | Z13: 843.87047 | AA13: 1207.4885 | AB13: 1600.1454 | AC13: 2558.1736 | AD13: 3081.6317 | AE13: 667.89404 | AF13: 2251.6352 | AG13: 2775.6616 | AH13: 2882.7073 | AI13: 2446.3959 | AJ13: 2399.1512 | AK13: 1684.5117 | AL13: 1298.5788 | AM13: 735.22797 | AN13: 784.34588 | AO13: 1285.7158 | AP13: 667.04836 | AQ13: 1471.9744 | AR13: 1.601909 | AS13: 1.595448 | AT13: 544.35096 | AU13: 164.40475 | AV13: 570.60584 | AW13: 596.96582 | AX13: 522.72642 | AY13: 288.93256 | AZ13: 402.96172 | BA13: 349.63315 | BB13: 305.71311 | BC13: 205.41308 | BD13: 232.99226 | BE13: 297.43743 | BF13: 406.95041 | BG13: 472.19989 | BH13: 399.03262 | BI13: 504.51315 | BJ13: 373.32451 | BK13: 502.62653 | BL13: 322.42297 | BM13: 343.07528 | BN13: 161.88295 | BO13: 374.47997 | BP13: 418.56705 | BQ13: 205.93658 | BR13: 298.23978 | BS13: 409.08681 | BT13: 400.76067 | BU13: 295.39474 | BV13: 358.91184 | BW13: 373.4149 | BX13: 355.57694 | BY13: 466.86634 | BZ13: 444.8561 | CA13: 518.23013 | CB13: 381.86119 | CC13: 382.03 | CD13: 334.89 | CE13: 367.22 | CF13: 301.97 | CG13: 225.01 | CH13: 337.25 | CI13: 258.41 | CJ13: 316.37 | CK13: 338.76 | CL13: 214.64 | CM13: 162.69 | CN13: 416.5 | CO13: 342.62 | CP13: 372.47169 | CQ13: 215.3826 | CR13: 486.52641 | CS13: 1428.6922 | CT13: 1048.6207 | CU13: 1309.6027 | CV13: 1524.1761 | CW13: 1240.1588 | CX13: 1350.6248 | CY13: 1371.6486 | CZ13: 1246.5866 | DA13: 1409.5357 | DB13: 1300.8243 | DC13: 1286.3777 | DD13: 1540.5795 | DE13: 1193.1223 | DF13: 1271.3909 | DG13: 944.50892 | DH13: 695.2872 | DI13: 811.88581 | DJ13: 647.08574 | DK13: 692.66378 | DL13: 574.99153 | DM13: 533.53466 | DN13: 577.64015 | DO13: 758.9493 | DP13: 982.22766 | DQ13: 560.65888 | DR13: 539.93859 | DS13: 345.30397 | DT13: 332.67605 | DU13: 176.94262 | DV13: 305.18145 | DW13: 200.24986 | DX13: 212.70727 | DY13: 411.43187 | DZ13: 1255.9681 | EA13: 234.62154 | EB13: 374.96744 | EC13: 331.53868 | ED13: 166.98746 | EE13: 351.80287 | EF13: 285.35214 | EG13: 292.37465 | EH13: 178.90131 | EI13: 61.891121 | EJ13: 332.00384 | EK13: 247.72898 | EL13: 268.43708 | EM13: 257.74047 | EN13: 400.21731 | EO13: 216.9576 | EP13: 324.00963 | EQ13: 292.83497 | ER13: 158.13064 | ES13: 281.26312 | ET13: 157.81519 | EU13: 175.25544 | EV13: 453.65219 | EW13: 188.30799 | EX13: 233.34553 | EY13: 157.85687 | EZ13: 229.0063 | FA13: 305.70592 | FB13: 601.74766 | FC13: 364.52108 | FD13: 359.83766 | FE13: 558.61086 | FF13: 352.50829 | FG13: 385.44673 | FH13: 212.68105 | FI13: 299.06047 | FJ13: 313.39405 | FK13: 288.70776 | FL13: 277.48154 | FM13: 372.15231 | FN13: 342.50834 | FO13: 377.6388 | FP13: 346.11435 | FQ13: 523.89388 | FR13: 500.92829 | FS13: 450.20171 | FT13: 358.07508 | FU13: 565.568 | FV13: 590.23923 | FW13: 554.22126 | FX13: 446.90001 | FY13: 218.35215 | FZ13: 375.74574 | GA13: 254.65443 | GB13: 256.83681 | GC13: 297.87176 | GD13: 128.09124 | GE13: 261.56797 | GF13: 218.81235 | GG13: 199.84594 | GH13: 204.60165 | GI13: 169.67159 | GJ13: 223.11439 | GK13: 184.15857 | GL13: 454.4542 | GM13: 217.76592 | GN13: 239.15394 | GO13: 406.63012 | GP13: 148.72041 | GQ13: 384.87064 | GR13: 186.08174 | GS13: 190.51027 | GT13: 207.1072 | GU13: 447.61439 | GV13: 389.94638 | GW13: 345.97383 | GX13: 278.1151 | GY13: 137.49887 | GZ13: 509.56607 | HA13: 93.238433 | HB13: 344.43991 | HC13: 543.75266 | HD13: 355.85992 | HE13: 385.55224 | HF13: 294.43669 | HG13: 448.11378 | HH13: 241.34784 | HI13: 425.2125 | HJ13: 367.19132 | HK13: 399.57037 | HL13: 70.302224 | HM13: 570.82456 | HN13: 224.26232 | HO13: 99.184713 | HP13: 738.9268 | HQ13: 731.36378 | HR13: 478.66169 | HS13: 628.74478 | HT13: 251.10983 | HU13: 394.04753 | HV13: 787.21693 | HW13: 419.10119 | HX13: 108.72235 | HY13: 540.98403 | HZ13: 590.34277 | IA13: 758.83478 | IB13: 334.80977 | IC13: 246.29175 | ID13: 685.89334 | IE13: 550.85714
A14: 1.3 Inversiones, depósitos a plazo y títulos | B14: 1182.9388 | C14: 1284.9472 | D14: 1656.17 | E14: 1995.27 | F14: 199.53268 | G14: 83.62 | H14: 1182.49 | I14: 1136.99 | J14: 1241.3103 | K14: 1640.65 | L14: 615.62 | M14: 627.88 | N14: 239.68 | O14: 493.85 | P14: 493.7 | Q14: 344.69 | R14: 589.09 | S14: 688.07 | T14: 784.32 | U14: 818.96 | V14: 1199.58 | W14: 1422.54 | X14: 1375.81 | Y14: 1580.07 | Z14: 1559.058 | AA14: 1671.102 | AB14: 1484.1572 | AC14: 2110.0352 | AD14: 1839.4291 | AE14: 4450.6084 | AF14: 2917.2934 | AG14: 2663.267 | AH14: 2627.341 | AI14: 2928.2348 | AJ14: 2639.9492 | AK14: 1835.5669 | AL14: 1606.461 | AM14: 1960.7742 | AN14: 1261.0195 | AO14: 793.90827 | AP14: 688.73363 | AQ14: 116.93672 | AR14: 2054.3622 | AS14: 2770.0141 | AT14: 2953.0566 | AU14: 3304.3319 | AV14: 3274.1094 | AW14: 1890.6279 | AX14: 1879.4256 | AY14: 1786.516 | AZ14: 2117.8014 | BA14: 2419.6166 | BB14: 2722.4117 | BC14: 2355.1102 | BD14: 2147.3655 | BE14: 1683.106 | BF14: 2101.8569 | BG14: 1484.4367 | BH14: 1092.2291 | BI14: 363.56573 | BJ14: 939.76978 | BK14: 1881.5308 | BL14: 1927.9561 | BM14: 1888.6786 | BN14: 1654.1443 | BO14: 1653.3413 | BP14: 1711.6952 | BQ14: 1800.0084 | BR14: 1398.591 | BS14: 2008.6804 | BT14: 1327.5363 | BU14: 652.92125 | BV14: 601.43521 | BW14: 741.57426 | BX14: 784.29377 | BY14: 1270.6887 | BZ14: 1445.956 | CA14: 1359.2497 | CB14: 1760.5907 | CC14: 1925.34 | CD14: 2373.06 | CE14: 1560.19 | CF14: 644.78 | CG14: 0 | CH14: 292.57 | CI14: 1683.98 | CJ14: 1608.9 | CK14: 2093.5 | CL14: 1785.01 | CM14: 1595.95 | CN14: 1508.76 | CO14: 1893.72 | CP14: 1481.4849 | CQ14: 1680.7741 | CR14: 1210.5221 | CS14: 1299.0642 | CT14: 1271.6668 | CU14: 1175.2491 | CV14: 691.43877 | CW14: 578.5473 | CX14: 1536.9502 | CY14: 3270.2096 | CZ14: 3237.6753 | DA14: 3656.6175 | DB14: 4384.036 | DC14: 3581.8224 | DD14: 2788.9933 | DE14: 1683.3241 | DF14: 1116.1811 | DG14: 1676.0871 | DH14: 1947.58 | DI14: 1563.2687 | DJ14: 2718.8359 | DK14: 2856.9982 | DL14: 3118.561 | DM14: 2557.1204 | DN14: 1739.6396 | DO14: 1176.7061 | DP14: 437.91067 | DQ14: 889.34837 | DR14: 1454.2482 | DS14: 1860.1315 | DT14: 1181.1885 | DU14: 1464.5643 | DV14: 894.30695 | DW14: 2277.0156 | DX14: 3156.9386 | DY14: 2844.8742 | DZ14: 2179.6499 | EA14: 2928.1467 | EB14: 2242.4522 | EC14: 3032.5297 | ED14: 3652.4637 | EE14: 2695.9248 | EF14: 1876.5276 | EG14: 1305.9702 | EH14: 855.58242 | EI14: 2780.5933 | EJ14: 2166.2638 | EK14: 1721.2199 | EL14: 330.08121 | EM14: 3205.5688 | EN14: 2035.7318 | EO14: 973.91821 | EP14: 3922.5008 | EQ14: 3660.524 | ER14: 3241.5948 | ES14: 2643.9513 | ET14: 2176.5303 | EU14: 1675.8574 | EV14: 1438.2854 | EW14: 1474.2888 | EX14: 1076.9373 | EY14: 1157.1525 | EZ14: 603.11929 | FA14: 1607.4248 | FB14: 1382.2571 | FC14: 1263.6019 | FD14: 2090.6138 | FE14: 1529.3035 | FF14: 2173.5583 | FG14: 2264.503 | FH14: 1984.3324 | FI14: 1988.6711 | FJ14: 3105.015 | FK14: 2189.7113 | FL14: 1177.5241 | FM14: 1409.1504 | FN14: 1348.192 | FO14: 1071.499 | FP14: 403.22503 | FQ14: 821.59194 | FR14: 1276.0762 | FS14: 380.00941 | FT14: 640.03056 | FU14: 689.2989 | FV14: 509.31468 | FW14: 2303.9004 | FX14: 1919.1107 | FY14: 4432.431 | FZ14: 3673.0884 | GA14: 3172.2066 | GB14: 3193.9014 | GC14: 3038.4372 | GD14: 3312.6638 | GE14: 3521.3125 | GF14: 2796.1036 | GG14: 2262.3851 | GH14: 3768.1123 | GI14: 4942.2487 | GJ14: 4912.5109 | GK14: 5376.5707 | GL14: 4958.2688 | GM14: 5349.4432 | GN14: 6209.5884 | GO14: 5298.1092 | GP14: 5294.4864 | GQ14: 5619.9906 | GR14: 6257.8659 | GS14: 6440.7947 | GT14: 5669.8329 | GU14: 5028.5938 | GV14: 4843.9665 | GW14: 5590.1539 | GX14: 5209.0252 | GY14: 5184.2063 | GZ14: 5041.212 | HA14: 5152.1351 | HB14: 4549.6559 | HC14: 3698.5801 | HD14: 3589.2356 | HE14: 3324.0555 | HF14: 3399.4904 | HG14: 2687.7453 | HH14: 2559.6481 | HI14: 1662.4837 | HJ14: 1494.8433 | HK14: 2239.6155 | HL14: 2703.2344 | HM14: 2854.666 | HN14: 3889.7135 | HO14: 4257.1601 | HP14: 3654.634 | HQ14: 4768.8328 | HR14: 5091.7583 | HS14: 4642.2196 | HT14: 3862.7134 | HU14: 2981.8183 | HV14: 2315.3116 | HW14: 3018.4577 | HX14: 2994.2724 | HY14: 2538.4008 | HZ14: 2931.669 | IA14: 3056.9081 | IB14: 3067.3699 | IC14: 2784.6151 | ID14: 2782.736 | IE14: 3750.1303
A15: 2. Oro | B15: 480.43866 | C15: 468.10564 | D15: 491.63 | E15: 544.01 | F15: 551.60693 | G15: 518.24 | H15: 534.29 | I15: 526.69 | J15: 506.20284 | K15: 510.01 | L15: 546.29 | M15: 533.87 | N15: 549.49 | O15: 561.06 | P15: 559 | Q15: 571.88 | R15: 556.76 | S15: 549.49 | T15: 562.16 | U15: 567.66 | V15: 627.63 | W15: 666.91 | X15: 661.85 | Y15: 704.29 | Z15: 779.89449 | AA15: 820.65258 | AB15: 788.55294 | AC15: 735.75749 | AD15: 748.21721 | AE15: 785.80758 | AF15: 775.45967 | AG15: 703.65785 | AH15: 747.16131 | AI15: 617.37473 | AJ15: 688.12064 | AK15: 734.70158 | AL15: 776.72676 | AM15: 804.1804 | AN15: 774.19258 | AO15: 746.1054 | AP15: 824.03149 | AQ15: 789.39767 | AR15: 793.19894 | AS15: 807.13694 | AT15: 841.13722 | AU15: 878.5164 | AV15: 993.18813 | AW15: 918.64095 | AX15: 911.0384 | AY15: 936.16904 | AZ15: 942.29331 | BA15: 996.14468 | BB15: 1020.0082 | BC15: 1050.8408 | BD15: 987.48622 | BE15: 1052.5302 | BF15: 1104.0586 | BG15: 1137.6365 | BH15: 1168.6802 | BI15: 1187.2642 | BJ15: 1120.9531 | BK15: 1191.9102 | BL15: 1215.5626 | BM15: 1297.0788 | BN15: 1297.9235 | BO15: 1271.737 | BP15: 1375.6384 | BQ15: 1531.9319 | BR15: 1368.4751 | BS15: 1454.6384 | BT15: 1474.9121 | BU15: 1293.2935 | BV15: 1473.2226 | BW15: 1495.1858 | BX15: 1404.7989 | BY15: 1394.8732 | BZ15: 1316.1643 | CA15: 1350.4446 | CB15: 1370.514 | CC15: 1393.17 | CD15: 1501.37 | CE15: 1453.57 | CF15: 1460.02 | CG15: 1402.55 | CH15: 1408.87 | CI15: 1344.7 | CJ15: 1353.21 | CK15: 1244.25 | CL15: 1181.49 | CM15: 1010.63 | CN15: 1114.46 | CO15: 1182.56 | CP15: 1125.3448 | CQ15: 1123.3667 | CR15: 1063.703 | CS15: 1023.4593 | CT15: 1062.7396 | CU15: 1127.0729 | CV15: 1098.0411 | CW15: 1095.2957 | CX15: 477.67129 | CY15: 502.35061 | CZ15: 494.68181 | DA15: 494.93057 | DB15: 468.72904 | DC15: 448.92009 | DD15: 456.09233 | DE15: 464.90684 | DF15: 485.47402 | DG15: 468.06755 | DH15: 457.91789 | DI15: 455.40435 | DJ15: 459.68579 | DK15: 452.07384 | DL15: 424.59121 | DM15: 438.46695 | DN15: 430.50546 | DO15: 443.84052 | DP15: 410.97093 | DQ15: 410.45765 | DR15: 430.09599 | DS15: 476.7655 | DT15: 477.56164 | DU15: 496.00577 | DV15: 468.12159 | DW15: 509.85157 | DX15: 519.13181 | DY15: 509.04672 | DZ15: 516.67585 | EA15: 499.56143 | EB15: 466.21456 | EC15: 456.42745 | ED15: 484.39043 | EE15: 1086.2205 | EF15: 1083.5635 | EG15: 1105.1758 | EH15: 1110.1805 | EI15: 1093.4461 | EJ15: 1118.9077 | EK15: 1158.5316 | EL15: 1138.064 | EM15: 752.21757 | EN15: 762.75197 | EO15: 772.83087 | EP15: 804.36691 | EQ15: 791.34881 | ER15: 800.59286 | ES15: 803.95818 | ET15: 801.02967 | EU15: 775.82172 | EV15: 768.74257 | EW15: 770.69465 | EX15: 779.73849 | EY15: 803.93974 | EZ15: 815.23379 | FA15: 422.34768 | FB15: 885.02574 | FC15: 886.64026 | FD15: 878.97136 | FE15: 876.88758 | FF15: 892.40976 | FG15: 961.52746 | FH15: 976.70796 | FI15: 1032.6058 | FJ15: 1013.106 | FK15: 1033.1804 | FL15: 1008.3295 | FM15: 1082.0039 | FN15: 1138.1691 | FO15: 1157.9853 | FP15: 772.4368 | FQ15: 1224.7288 | FR15: 1243.0277 | FS15: 1377.3085 | FT15: 1530.2355 | FU15: 1527.7914 | FV15: 1932.1388 | FW15: 1935.1333 | FX15: 1823.7702 | FY15: 1960.0723 | FZ15: 1873.5595 | GA15: 1751.9761 | GB15: 1699.9049 | GC15: 1771.8798 | GD15: 1909.8988 | GE15: 1772.3824 | GF15: 1835.3102 | GG15: 1824.3532 | GH15: 1751.9259 | GI15: 1778.4139 | GJ15: 1813.8484 | GK15: 1815.306 | GL15: 1804.6505 | GM15: 1894.6694 | GN15: 2109.3439 | GO15: 2075.8381 | GP15: 1996.9882 | GQ15: 1973.4201 | GR15: 1904.345 | GS15: 1863.6167 | GT15: 1815.666 | GU15: 1780.0966 | GV15: 1904.4536 | GW15: 1969.8904 | GX15: 2089.5228 | GY15: 1981.6744 | GZ15: 2150.1265 | HA15: 2153.2218 | HB15: 2133.5094 | HC15: 2076.8699 | HD15: 2140.2974 | HE15: 2109.5068 | HF15: 2031.5258 | HG15: 2168.8072 | HH15: 2210.6758 | HI15: 1756.1706 | HJ15: 1734.9198 | HK15: 1730.526 | HL15: 1871.0433 | HM15: 1949.3291 | HN15: 1984.1838 | HO15: 1969.5237 | HP15: 2050.1332 | HQ15: 2123.6872 | HR15: 2222.2098 | HS15: 2310.255 | HT15: 2240.0386 | HU15: 2204.5924 | HV15: 2376.0776 | HW15: 2395.0892 | HX15: 2632.1435 | HY15: 2580.9388 | HZ15: 2729.6522 | IA15: 2807.7268 | IB15: 2769.1965 | IC15: 2790.1093 | ID15: 2809.121 | IE15: 2689.4743
A16: 3. DEGs | B16: 8.375237 | C16: 2.221095 | D16: 0.75 | E16: 8.12 | F16: 1.634674 | G16: 1.21 | H16: 7.86 | I16: 1.37 | J16: 7.600867 | K16: 7.62 | L16: 1.25 | M16: 7.6 | N16: 7.53 | O16: 1.25 | P16: 7.64 | Q16: 1.08 | R16: 0.55 | S16: 0.55 | T16: 0.56 | U16: 24.19 | V16: 24.02 | W16: 24.35 | X16: 24.73 | Y16: 24.55 | Z16: 24.577006 | AA16: 24.683067 | AB16: 25.20338 | AC16: 24.885828 | AD16: 27.766232 | AE16: 27.987753 | AF16: 27.769487 | AG16: 26.846396 | AH16: 26.595846 | AI16: 25.418758 | AJ16: 25.446969 | AK16: 26.232793 | AL16: 25.40933 | AM16: 24.964386 | AN16: 25.43582 | AO16: 25.482777 | AP16: 26.319593 | AQ16: 26.390661 | AR16: 26.409363 | AS16: 26.578035 | AT16: 26.925573 | AU16: 27.019382 | AV16: 27.435087 | AW16: 26.711121 | AX16: 26.481101 | AY16: 25.924052 | AZ16: 25.419655 | BA16: 25.300446 | BB16: 24.70379 | BC16: 24.780365 | BD16: 25.444235 | BE16: 25.30918 | BF16: 25.830889 | BG16: 26.08983 | BH16: 24.698772 | BI16: 24.929446 | BJ16: 25.284117 | BK16: 25.086698 | BL16: 25.285249 | BM16: 25.850758 | BN16: 25.053958 | BO16: 25.049046 | BP16: 25.065167 | BQ16: 25.242913 | BR16: 23.869969 | BS16: 24.241098 | BT16: 23.785405 | BU16: 23.139666 | BV16: 23.377955 | BW16: 23.474175 | BX16: 23.19278 | BY16: 23.197571 | BZ16: 22.62482 | CA16: 22.575842 | CB16: 22.43868 | CC16: 22.53 | CD16: 22.83 | CE16: 24.35 | CF16: 24.27 | CG16: 24.21 | CH16: 24.28 | CI16: 23.8 | CJ16: 23.53 | CK16: 23.71 | CL16: 23.43 | CM16: 23.55 | CN16: 23.69 | CO16: 23.66 | CP16: 23.94902 | CQ16: 27.942203 | CR16: 27.817933 | CS16: 27.904728 | CT16: 27.799632 | CU16: 28.054568 | CV16: 27.898419 | CW16: 27.968694 | CX16: 27.686116 | CY16: 27.783527 | CZ16: 27.521487 | DA16: 27.20244 | DB16: 26.561067 | DC16: 26.484927 | DD16: 26.239564 | DE16: 25.900884 | DF16: 25.210971 | DG16: 25.174399 | DH16: 24.624755 | DI16: 25.105472 | DJ16: 24.77168 | DK16: 25.054759 | DL16: 24.846502 | DM16: 25.091372 | DN16: 24.962846 | DO16: 24.840676 | DP16: 24.357735 | DQ16: 24.618501 | DR16: 24.505606 | DS16: 24.475353 | DT16: 24.962801 | DU16: 25.113589 | DV16: 24.811783 | DW16: 24.74033 | DX16: 24.643763 | DY16: 24.616633 | DZ16: 22.802562 | EA16: 22.443814 | EB16: 21.181273 | EC16: 21.033729 | ED16: 21.260599 | EE16: 19.873771 | EF16: 19.901198 | EG16: 20.109033 | EH16: 18.746218 | EI16: 18.841959 | EJ16: 19.063503 | EK16: 17.148283 | EL16: 17.147192 | EM16: 17.042729 | EN16: 15.191919 | EO16: 15.285405 | EP16: 15.639492 | EQ16: 13.15885 | ER16: 13.229654 | ES16: 13.085224 | ET16: 10.482245 | EU16: 10.40766 | EV16: 10.395081 | EW16: 7.697928 | EX16: 7.6642 | EY16: 7.592131 | EZ16: 4.896528 | FA16: 4.92329 | FB16: 4.95837 | FC16: 2.001902 | FD16: 1.987968 | FE16: 6.141683 | FF16: 1.340175 | FG16: 1.352423 | FH16: 7.345491 | FI16: 0.673419 | FJ16: 0.670943 | FK16: 8.955197 | FL16: 2.121405 | FM16: 0.822547 | FN16: 7.7038 | FO16: 11.624346 | FP16: 9.35313 | FQ16: 9.364095 | FR16: 6.724184 | FS16: 6.742611 | FT16: 15.403787 | FU16: 6.882964 | FV16: 20.903655 | FW16: 13.815553 | FX16: 0.27839 | FY16: 32.196755 | FZ16: 32.208603 | GA16: 1.089749 | GB16: 1.073046 | GC16: 39.907571 | GD16: 1.941892 | GE16: 8.012137 | GF16: 46.602127 | GG16: 960.52658 | GH16: 8.01631 | GI16: 60.844947 | GJ16: 20.727766 | GK16: 20.709862 | GL16: 64.435367 | GM16: 20.840037 | GN16: 20.663062 | GO16: 63.229164 | GP16: 18.68026 | GQ16: 15.317633 | GR16: 69.668103 | GS16: 9.469906 | GT16: 9.31374 | GU16: 85.070806 | GV16: 0.49072845 | GW16: 0.22054148 | GX16: 120.23729 | GY16: 3.0392975 | GZ16: 3.0769002 | HA16: 135.08795 | HB16: 3.9136322 | HC16: 3.921327 | HD16: 151.95126 | HE16: 5.0422574 | HF16: 4.9855389 | HG16: 154.00583 | HH16: 7.6910274 | HI16: 7.739367 | HJ16: 158.61274 | HK16: 12.140945 | HL16: 12.103175 | HM16: 154.25752 | HN16: 15.388433 | HO16: 7.7114478 | HP16: 162.64928 | HQ16: 12.203005 | HR16: 12.291451 | HS16: 181.58376 | HT16: 20.088939 | HU16: 18.86222 | HV16: 140.79708 | HW16: 9.0324691 | HX16: 9.1684047 | HY16: 9.2404436 | HZ16: 9.3304923 | IA16: 9.346018 | IB16: 147.55662 | IC16: 147.68076 | ID16: 17.610947 | IE16: 17.599208
A17: 4. Posición de reserva en FMI | B17: 24.789682 | C17: 24.621434 | D17: 24.71 | E17: 25.23 | F17: 25.616691 | G17: 25.37 | H17: 25.35 | I17: 25.53 | J17: 25.320841 | K17: 25.39 | L17: 25.86 | M17: 25.8 | N17: 25.55 | O17: 25.81 | P17: 25.9 | Q17: 26.14 | R17: 25.95 | S17: 26 | T17: 26.26 | U17: 26.28 | V17: 26.7 | W17: 26.9 | X17: 27.27 | Y17: 27.07 | Z17: 27.360064 | AA17: 27.622128 | AB17: 28.204395 | AC17: 27.849032 | AD17: 27.796036 | AE17: 28.017795 | AF17: 27.799295 | AG17: 26.95908 | AH17: 26.707478 | AI17: 25.525449 | AJ17: 25.625438 | AK17: 26.416773 | AL17: 25.587535 | AM17: 25.166313 | AN17: 25.64156 | AO17: 25.688896 | AP17: 26.550206 | AQ17: 26.621896 | AR17: 26.640762 | AS17: 26.822388 | AT17: 27.173121 | AU17: 27.267793 | AV17: 27.615782 | AW17: 26.887047 | AX17: 26.655512 | AY17: 26.284884 | AZ17: 26.038943 | BA17: 25.916829 | BB17: 25.285853 | BC17: 25.364232 | BD17: 26.043745 | BE17: 25.878926 | BF17: 26.689813 | BG17: 26.957365 | BH17: 26.168259 | BI17: 26.412657 | BJ17: 26.78843 | BK17: 26.978975 | BL17: 27.192501 | BM17: 27.800667 | BN17: 27.454393 | BO17: 27.448905 | BP17: 27.46657 | BQ17: 27.601718 | BR17: 26.782942 | BS17: 45.238974 | BT17: 44.2594 | BU17: 43.794716 | BV17: 44.245708 | BW17: 44.386625 | BX17: 44.188942 | BY17: 44.19807 | BZ17: 43.081287 | CA17: 43.28924 | CB17: 43.026232 | CC17: 43.42 | CD17: 43.99 | CE17: 43.95 | CF17: 43.78 | CG17: 43.84 | CH17: 43.97 | CI17: 43.21 | CJ17: 42.73 | CK17: 43.05 | CL17: 42.7 | CM17: 42.9 | CN17: 43.17 | CO17: 43.22 | CP17: 43.76077 | CQ17: 43.873732 | CR17: 43.793004 | CS17: 43.929643 | CT17: 43.764193 | CU17: 44.140733 | CV17: 44.090243 | CW17: 44.206057 | CX17: 43.94305 | CY17: 44.097659 | CZ17: 43.681754 | DA17: 43.312916 | DB17: 42.291695 | DC17: 42.17046 | DD17: 41.768532 | DE17: 41.316114 | DF17: 40.215591 | DG17: 40.146844 | DH17: 39.350976 | DI17: 40.119174 | DJ17: 39.665044 | DK17: 40.118318 | DL17: 39.784852 | DM17: 40.166812 | DN17: 40.042725 | DO17: 39.846753 | DP17: 39.142167 | DQ17: 39.561211 | DR17: 39.379787 | DS17: 39.402893 | DT17: 40.187636 | DU17: 40.43039 | DV17: 40.018193 | DW17: 39.902949 | DX17: 39.747198 | DY17: 39.774583 | DZ17: 39.816516 | EA17: 39.190091 | EB17: 38.617008 | EC17: 38.348011 | ED17: 38.761634 | EE17: 38.65181 | EF17: 38.705153 | EG17: 39.109363 | EH17: 39.488755 | EI17: 39.690432 | EJ17: 40.157113 | EK17: 40.317998 | EL17: 40.315431 | EM17: 40.069825 | EN17: 40.375906 | EO17: 40.624365 | EP17: 41.565429 | EQ17: 41.245085 | ER17: 41.467015 | ES17: 41.014312 | ET17: 40.410992 | EU17: 40.123453 | EV17: 40.074959 | EW17: 39.97569 | EX17: 39.800542 | EY17: 39.426284 | EZ17: 39.457662 | FA17: 39.673317 | FB17: 39.956007 | FC17: 39.878417 | FD17: 39.600861 | FE17: 39.529832 | FF17: 39.297633 | FG17: 39.656772 | FH17: 39.234876 | FI17: 39.032914 | FJ17: 38.889429 | FK17: 39.348123 | FL17: 39.157001 | FM17: 39.446252 | FN17: 39.27852 | FO17: 39.173831 | FP17: 38.931933 | FQ17: 38.977574 | FR17: 39.137889 | FS17: 39.245145 | FT17: 40.30887 | FU17: 40.475461 | FV17: 40.151979 | FW17: 40.268078 | FX17: 40.794378 | FY17: 41.08477 | FZ17: 41.099889 | GA17: 41.056245 | GB17: 40.426967 | GC17: 41.0126 | GD17: 41.174627 | GE17: 40.689689 | GF17: 40.756724 | GG17: 40.628073 | GH17: 40.189062 | GI17: 40.374765 | GJ17: 39.958859 | GK17: 39.924343 | GL17: 39.701557 | GM17: 39.771731 | GN17: 39.433986 | GO17: 38.347155 | GP17: 38.501194 | GQ17: 37.87591 | GR17: 37.756672 | GS17: 37.121689 | GT17: 36.509527 | GU17: 36.606799 | GV17: 37.506787 | GW17: 37.963198 | GX17: 38.466107 | GY17: 37.904721 | GZ17: 38.373684 | HA17: 38.42446 | HB17: 37.866781 | HC17: 37.941234 | HD17: 38.30836 | HE17: 37.937525 | HF17: 37.51078 | HG17: 37.486819 | HH17: 38.033087 | HI17: 38.272132 | HJ17: 37.935814 | HK17: 37.869634 | HL17: 37.751823 | HM17: 37.594931 | HN17: 37.754961 | HO17: 37.521049 | HP17: 37.894166 | HQ17: 38.413049 | HR17: 38.691461 | HS17: 37.985734 | HT17: 37.480258 | HU17: 37.201276 | HV17: 37.192718 | HW17: 37.340196 | HX17: 37.902153 | HY17: 38.199962 | HZ17: 38.572223 | IA17: 38.636406 | IB17: 38.651525 | IC17: 38.684044 | ID17: 38.514886 | IE17: 38.489213
A18: 5. Posición con ALADI | B18: 7.221816 | C18: 0.201193 | D18: 3.33 | E18: 9.33 | F18: -5.280159 | G18: -8.31 | H18: -17.81 | I18: 0.87 | J18: 2.185834 | K18: 2.42 | L18: 2.34 | M18: 0.44 | N18: 3.6 | O18: 2.85 | P18: 12.65 | Q18: -0.55 | R18: 9.87 | S18: 8.65 | T18: 7.78 | U18: 11.2 | V18: 2.93 | W18: 16.19 | X18: 13.68 | Y18: 2.18 | Z18: 10.942116 | AA18: 3.205187 | AB18: 2.986161 | AC18: -1.364902 | AD18: 9.989447 | AE18: 18.122772 | AF18: 5.502238 | AG18: 25.915378 | AH18: 22.159151 | AI18: 11.307524 | AJ18: 12.408249 | AK18: -25.930344 | AL18: 3.320573 | AM18: 10.158262 | AN18: 19.025869 | AO18: 9.79659 | AP18: 55.933369 | AQ18: -19.620921 | AR18: 18.127748 | AS18: 20.125153 | AT18: -3.909817 | AU18: 23.256623 | AV18: 10.420259 | AW18: -26.677295 | AX18: 13.357113 | AY18: 7.545922 | AZ18: 10.077389 | BA18: 0.902896 | BB18: 14.88934 | BC18: 24.521674 | BD18: 3.868732 | BE18: 22.182103 | BF18: 3.157989 | BG18: 4.794576 | BH18: 15.300365 | BI18: -3.827151 | BJ18: 19.393963 | BK18: 3.239801 | BL18: -0.69701 | BM18: 6.712351 | BN18: 5.874995 | BO18: -16.955227 | BP18: -1.233496 | BQ18: 6.027509 | BR18: -2.625799 | BS18: 0.768999 | BT18: 6.209394 | BU18: -0.179797 | BV18: 6.563004 | BW18: 0.47807 | BX18: 0.63968 | BY18: 7.868075 | BZ18: 1.312836 | CA18: -17.352105 | CB18: 2.122932 | CC18: 4.66 | CD18: 3.09 | CE18: 2.25 | CF18: -0.43 | CG18: 2.22 | CH18: -2.19 | CI18: 1.83 | CJ18: 4.02 | CK18: -1.68 | CL18: -0.25 | CM18: 1.79 | CN18: 0.1 | CO18: 2.48 | CP18: -0.230742 | CQ18: 2.207177 | CR18: -5.966247 | CS18: 0.306629 | CT18: 6.002769 | CU18: 9.480374 | CV18: 12.017675 | CW18: 12.382538 | CX18: 0.673543 | CY18: 0.192265 | CZ18: 9.576952 | DA18: 11.315501 | DB18: -1.963619 | DC18: 1.328457 | DD18: -1.914036 | DE18: -21.003008 | DF18: 0.08818 | DG18: 0.633427 | DH18: 2.1551 | DI18: 6.0006 | DJ18: -0.290091 | DK18: -19.481369 | DL18: 0.557761 | DM18: 3.094158 | DN18: 0.390906 | DO18: -1.518858 | DP18: -1.747425 | DQ18: -19.556643 | DR18: -2.841233 | DS18: -0.000725 | DT18: -0.685222 | DU18: -2.165925 | DV18: 0.089799 | DW18: -18.578084 | DX18: 2.097665 | DY18: 2.066883 | DZ18: -0.020593 | EA18: 0.408657 | EB18: 0.741048 | EC18: -17.746451 | ED18: -0.703215 | EE18: 0.26937 | EF18: 0.327303 | EG18: 0.129964 | EH18: 0.000483 | EI18: -18.196024 | EJ18: -0.428087 | EK18: -0.226834 | EL18: -0.531844 | EM18: -2.677434 | EN18: -11.122324 | EO18: -0.340211 | EP18: -0.261249 | EQ18: -9.2e-05 | ER18: -0.10192 | ES18: -0.85066 | ET18: -0.09136 | EU18: -0.526914 | EV18: -0.326585 | EW18: 0 | EX18: -0.159845 | EY18: -0.640884 | EZ18: -0.122876 | FA18: 0.066974 | FB18: -0.449941 | FC18: 0 | FD18: 0.014139 | FE18: -0.237867 | FF18: -0.217268 | FG18: -0.022268 | FH18: -0.26669 | FI18: -0.028466 | FJ18: 0 | FK18: -0.267779 | FL18: -0.14641 | FM18: -0.00025 | FN18: -0.000635 | FO18: -0.020063 | FP18: -0.046506 | FQ18: -0.192405 | FR18: 0 | FS18: 0.073365 | FT18: -0.107815 | FU18: 0.044936 | FV18: -0.148435 | FW18: -0.000919 | FX18: 0 | FY18: -0.001351
