Workbook
Name a: #REF!
Name b: #REF!
Name otra: #REF!

Sheet Portada

Sheet Índice
A10: IMAEc POR ACTIVIDAD ECONÓMICA
A12: Índices de Volumen Encadenados, 2018 = 100, Datos Originales
A13: Índices de Volumen Encadenados, 2018 = 100, Datos Ajustados de Estacionalidad
A14: Índices de Volumen Encadenados, 2018 = 100, Datos Ajustados de Estacionalidad, Variación Interanual
A15: Índices de Volumen Encadenados, 2018 = 100, Datos Ajustados de Estacionalidad, Contribuciones al Crecimiento Interanual
A16: Índices de Volumen Encadenados, 2018 = 100, Datos Ajustados de Estacionalidad, Variación Interanual Acumulada
A18: IMAEc PETROLERO Y NO PETROLERO
A20: Índices de Volumen Encadenados, 2018 = 100, Datos Originales
A21: Índices de Volumen Encadenados, 2018 = 100, Datos Ajustados de Estacionalidad
A22: Índices de Volumen Encadenados, 2018 = 100, Datos Ajustados de Estacionalidad, Variación Interanual
A23: Índices de Volumen Encadenados, 2018 = 100, Datos Ajustados de Estacionalidad, Contribuciones al Crecimiento Interanual
A24: Índices de Volumen Encadenados, 2018 = 100, Datos Ajustados de Estacionalidad, Variación Interanual Acumulada
A42: CARÁTULA

Sheet Of_Ivol_brut_clas
A9: Fecha | B9: Agricultura, ganadería, silvicultura y pesca | C9: Petróleo y minas | D9: Manufactura | E9: Construcción | F9: Comercio | G9: Servicios | H9: Impuestos netos sobre los productos | I9: IMAEc
A10: 2018.ene | B10: 91.74682 | C10: 102.06326 | D10: 92.148076 | E10: 65.74582 | F10: 89.282815 | G10: 95.777405 | H10: 90.251787 | I10: 92.519553
A11: 2018.feb | B11: 88.677663 | C11: 80.593543 | D11: 90.179424 | E11: 90.909434 | F11: 86.008664 | G11: 95.108226 | H11: 80.769659 | I11: 90.690621
A12: 2018.mar | B12: 99.347145 | C12: 106.71269 | D12: 97.773514 | E12: 81.491449 | F12: 97.56654 | G12: 99.211785 | H12: 88.301141 | I12: 97.698083
A13: 2018.abr | B13: 96.888057 | C13: 92.329161 | D13: 97.028019 | E13: 82.655955 | F13: 95.565293 | G13: 98.345106 | H13: 85.854846 | I13: 95.753352
A14: 2018.may | B14: 103.96782 | C14: 97.824808 | D14: 104.27542 | E14: 88.205731 | F14: 101.34381 | G14: 100.5914 | H14: 102.87493 | I14: 100.79228
A15: 2018.jun | B15: 112.98694 | C15: 95.810044 | D15: 105.45435 | E15: 106.01893 | F15: 113.52296 | G15: 105.58424 | H15: 95.976185 | I15: 106.17731
A16: 2018.jul | B16: 94.064909 | C16: 99.382013 | D16: 100.39427 | E16: 104.93521 | F16: 97.665534 | G16: 99.650923 | H16: 90.543877 | I16: 98.771349
A17: 2018.ago | B17: 90.707194 | C17: 108.25451 | D17: 100.782 | E17: 97.838641 | F17: 97.793579 | G17: 99.395719 | H17: 93.039467 | I17: 98.769194
A18: 2018.sep | B18: 89.695054 | C18: 98.847102 | D18: 95.566169 | E18: 135.70411 | F18: 92.885399 | G18: 97.562014 | H18: 91.975865 | I18: 97.745467
A19: 2018.oct | B19: 104.76401 | C19: 102.38648 | D19: 102.80829 | E19: 108.38474 | F19: 100.92301 | G19: 100.69283 | H19: 115.12201 | I19: 102.66401
A20: 2018.nov | B20: 100.63958 | C20: 101.06622 | D20: 100.95318 | E20: 117.03737 | F20: 100.73331 | G20: 101.44433 | H20: 111.87345 | I20: 102.59276
A21: 2018.dic | B21: 126.51481 | C21: 114.73017 | D21: 112.63728 | E21: 121.07261 | F21: 126.70908 | G21: 106.63602 | H21: 153.41678 | I21: 115.82601
... A106: 2026.ene | B106: 126.07218 | C106: 110.23384 | D106: 108.98069 | E106: 75.841039 | F106: 113.52445 | G106: 109.02477 | H106: 86.994698 | I106: 107.71264
A108: Nota: El IMAEc de Petróleo y minas incluye la extracción de petróleo crudo y actividades mineras
A109: Elaboración: Banco Central del Ecuador

Sheet Of_Ivol_ajus_clas
A9: Fecha | B9: Agricultura, ganadería, silvicultura y pesca | C9: Petróleo y minas | D9: Manufactura | E9: Construcción | F9: Comercio | G9: Servicios | H9: Impuestos netos sobre los productos | I9: IMAEc
A10: 2018.ene | B10: 96.733479 | C10: 102.92944 | D10: 98.612756 | E10: 103.88992 | F10: 99.258243 | G10: 101.05471 | H10: 102.44678 | I10: 100.45632
A11: 2018.feb | B11: 94.596381 | C11: 84.466001 | D11: 101.03237 | E11: 107.24826 | F11: 98.075259 | G11: 100.51204 | H11: 103.11373 | I11: 99.289323
A12: 2018.mar | B12: 103.38589 | C12: 99.663109 | D12: 101.15951 | E12: 93.936297 | F12: 100.65274 | G12: 100.37515 | H12: 106.4299 | I12: 100.72504
A13: 2018.abr | B13: 102.49657 | C13: 96.592995 | D13: 100.12537 | E13: 92.660153 | F13: 99.521301 | G13: 100.05838 | H13: 98.545246 | I13: 99.499781
A14: 2018.may | B14: 105.29288 | C14: 95.398518 | D14: 103.7158 | E14: 95.861898 | F14: 102.79351 | G14: 101.05857 | H14: 100.64198 | I14: 101.37263
A15: 2018.jun | B15: 96.885317 | C15: 98.830675 | D15: 100.91377 | E15: 115.08298 | F15: 100.03359 | G15: 99.298183 | H15: 95.879302 | I15: 100.04103
A16: 2018.jul | B16: 100.30835 | C16: 98.727508 | D16: 102.42261 | E16: 101.43606 | F16: 100.8098 | G16: 100.55157 | H16: 96.770078 | I16: 100.55077
A17: 2018.ago | B17: 98.379996 | C17: 107.0408 | D17: 99.842801 | E17: 97.921705 | F17: 99.623983 | G17: 99.916276 | H17: 98.73061 | I17: 100.00476
A18: 2018.sep | B18: 97.933959 | C18: 97.992972 | D18: 97.419205 | E18: 115.9419 | F18: 98.810375 | G18: 99.073813 | H18: 94.963094 | I18: 99.298892
A19: 2018.oct | B19: 102.72687 | C19: 100.66684 | D19: 99.670864 | E19: 92.879939 | F19: 98.675444 | G19: 100.02869 | H19: 102.31063 | I19: 99.791776
A20: 2018.nov | B20: 99.031542 | C20: 103.5143 | D20: 97.812713 | E20: 93.008647 | F20: 100.24685 | G20: 99.414079 | H20: 99.366781 | I20: 99.193041
A21: 2018.dic | B21: 102.22876 | C21: 114.17684 | D21: 97.272239 | E21: 90.132244 | F21: 101.4989 | G21: 98.658543 | H21: 100.80188 | I21: 99.776632
... A106: 2026.ene | B106: 127.49445 | C106: 112.80607 | D106: 115.87226 | E106: 79.34182 | F106: 118.02563 | G106: 113.66032 | H106: 99.488989 | I106: 112.80041
A108: Nota: El IMAEc de Petróleo y minas incluye la extracción de petróleo crudo y actividades mineras
A109: Elaboración: Banco Central del Ecuador

Sheet Of_Ivol_ajus_clas_vY
A9: Fecha | B9: Agricultura, ganadería, silvicultura y pesca | C9: Petróleo y minas | D9: Manufactura | E9: Construcción | F9: Comercio | G9: Servicios | H9: Impuestos netos sobre los productos | I9: IMAEc
A10: 2018.ene
A11: 2018.feb
A12: 2018.mar
A13: 2018.abr
A14: 2018.may
A15: 2018.jun
A16: 2018.jul
A17: 2018.ago
A18: 2018.sep
A19: 2018.oct
A20: 2018.nov
A21: 2018.dic
A22: 2019.ene | B22: 2.2925465 | C22: 3.5583661 | D22: -1.2394154 | E22: 21.035982 | F22: 4.0283855 | G22: -0.52561078 | H22: -3.897407 | I22: 1.5635607
A23: 2019.feb | B23: 4.8221625 | C23: 28.636352 | D23: -2.9608579 | E23: -14.675558 | F23: 3.8649356 | G23: -0.62187862 | H23: -0.73988972 | I23: 0.9835387
A24: 2019.mar | B24: -3.2766863 | C24: 2.9912291 | D24: -3.8061198 | E24: 6.2589281 | F24: -2.0448708 | G24: -1.822739 | H24: -11.339617 | I24: -2.0573141
A25: 2019.abr | B25: 3.8104442 | C25: 12.344551 | D25: 1.0633816 | E25: 10.660184 | F25: 7.0624403 | G25: 2.5594889 | H25: -0.56412997 | I25: 3.9976977
A26: 2019.may | B26: -2.6739766 | C26: 10.455854 | D26: -2.2455921 | E26: 2.5465768 | F26: 2.5052911 | G26: -0.052413806 | H26: -1.8396548 | I26: 0.49113647
A27: 2019.jun | B27: 2.6553689 | C27: 4.3218587 | D27: -3.3924059 | E27: -27.688841 | F27: 2.1356225 | G27: -1.0318934 | H27: -5.3928318 | I27: -2.0409738
A28: 2019.jul | B28: 3.4642926 | C28: 5.6052908 | D28: -2.4486312 | E28: -13.158138 | F28: 3.1809938 | G28: 1.0026186 | H28: -1.8057193 | I28: 0.46288639
A29: 2019.ago | B29: 5.859178 | C29: -4.471645 | D29: -1.0588681 | E29: -18.098749 | F29: 4.4211505 | G29: 0.79586883 | H29: 0.62811373 | I29: 0.17759129
A30: 2019.sep | B30: 3.3354214 | C30: 3.2461759 | D30: -2.2499496 | E30: -33.882024 | F30: 4.218165 | G30: 2.8121123 | H30: 3.2275836 | I30: 0.22537314
A31: 2019.oct | B31: -5.6221066 | C31: 0.87822438 | D31: -8.1116968 | E31: -10.901885 | F31: -3.0999965 | G31: -0.12825511 | H31: -12.602893 | I31: -3.1766619
A32: 2019.nov | B32: 9.9436178 | C32: -9.7552147 | D32: 1.8222389 | E32: -13.19229 | F32: 6.4496313 | G32: 3.5909186 | H32: -10.52523 | I32: 1.6495368
A33: 2019.dic | B33: 3.9337622 | C33: -14.393951 | D33: -1.6104903 | E33: -11.560637 | F33: 1.0011795 | G33: 4.1859038 | H33: -15.199189 | I33: -0.25750996
... A106: 2026.ene | B106: -7.4370375 | C106: 6.1478468 | D106: 7.2038298 | E106: 0.99904384 | F106: 2.6807175 | G106: 2.925496 | H106: -1.0067395 | I106: 2.1506619
A108: Nota: El IMAEc de Petróleo y minas incluye la extracción de petróleo crudo y actividades mineras
A109: Elaboración: Banco Central del Ecuador

Sheet Of_Ivol_ajus_cont_vY
A9: Fecha | B9: Agricultura, ganadería, silvicultura y pesca | C9: Petróleo y minas | D9: Manufactura | E9: Construcción | F9: Comercio | G9: Servicios | H9: Impuestos netos sobre los productos | I9: IMAEc
A10: 2018.ene
A11: 2018.feb
A12: 2018.mar
A13: 2018.abr
A14: 2018.may
A15: 2018.jun
A16: 2018.jul
A17: 2018.ago
A18: 2018.sep
A19: 2018.oct
A20: 2018.nov
A21: 2018.dic
... A33: 2019.dic
A34: 2020.ene | B34: 1.0285355 | C34: -0.6807874 | D34: 0.14129123 | E34: -1.8307694 | F34: 1.1065545 | G34: 1.4897137 | H34: 0.54351363 | I34: 1.7980518
A35: 2020.feb | B35: 0.83850041 | C35: -0.85957837 | D35: 0.080517418 | E35: -0.01435715 | F35: 0.63384259 | G35: 1.8111983 | H35: -1.1440128 | I35: 1.3461105
A36: 2020.mar | B36: 0.17026316 | C36: 1.5710483 | D36: -2.5054891 | E36: -1.625554 | F36: -2.0177017 | G36: -3.4534288 | H36: -1.1675087 | I36: -9.028371
A37: 2020.abr | B37: -0.51317726 | C37: 0.099998588 | D37: -4.7660299 | E37: -3.5428189 | F37: -4.4156602 | G37: -7.8588892 | H37: -1.563383 | I37: -22.55996
A38: 2020.may | B38: -0.052269716 | C38: -2.1969595 | D38: -2.9739827 | E38: -3.2236553 | F38: -3.4059582 | G38: -6.8039679 | H38: -1.6830888 | I38: -20.339882
A39: 2020.jun | B39: 0.21720556 | C39: -0.80622862 | D39: -0.85835363 | E39: -1.7122761 | F39: -1.3301216 | G39: -4.9526992 | H39: -1.2594352 | I39: -10.701909
A40: 2020.jul | B40: -0.14104906 | C40: -1.1668604 | D40: -1.6982985 | E40: -1.2606147 | F40: -2.3052952 | G40: -4.101127 | H40: -1.5357666 | I40: -12.209012
A41: 2020.ago | B41: -0.40819374 | C41: -0.83442632 | D41: -1.4707997 | E41: -0.63958569 | F41: -2.5401487 | G41: -3.9731139 | H41: -1.7971098 | I41: -11.663378
A42: 2020.sep | B42: 0.066357824 | C42: 0.34113249 | D42: -0.64530833 | E42: -0.3278131 | F42: -1.8707355 | G42: -3.1902015 | H42: -1.5514427 | I42: -7.1780109
A43: 2020.oct | B43: 0.087740025 | C43: -0.35144924 | D43: 0.45538393 | E43: -0.69374867 | F43: -0.50144945 | G43: -1.5641533 | H43: -1.2066719 | I43: -3.7743486
A44: 2020.nov | B44: -0.55286494 | C44: 1.0228508 | D44: -0.79412043 | E44: -0.35675026 | F44: -1.7320009 | G44: -3.7193802 | H44: -1.0775578 | I44: -7.2098237
A45: 2020.dic | B45: -0.78434438 | C45: -0.3554658 | D45: -0.87027787 | E45: -0.28906521 | F45: -2.4861683 | G45: -3.3820551 | H45: -0.64652204 | I45: -8.8138987
... A106: 2026.ene | B106: -0.78652371 | C106: 0.40737932 | D106: 0.93528684 | E106: 0.0408377 | F106: 0.38792182 | G106: 1.2470369 | H106: -0.081276992 | I106: 2.1506619
A108: Nota: El IMAEc de Petróleo y minas incluye la extracción de petróleo crudo y actividades mineras
A109: Elaboración: Banco Central del Ecuador

Sheet Of_Ivol_ajus_acum_vY
A9: Fecha | B9: Agricultura, ganadería, silvicultura y pesca | C9: Petróleo y minas | D9: Manufactura | E9: Construcción | F9: Comercio | G9: Servicios | H9: Impuestos netos sobre los productos | I9: IMAEc
A10: 2018.ene
A11: 2018.feb
A12: 2018.mar
A13: 2018.abr
A14: 2018.may
A15: 2018.jun
A16: 2018.jul
A17: 2018.ago
A18: 2018.sep
A19: 2018.oct
A20: 2018.nov
A21: 2018.dic
A22: 2019.ene | B22: 2.2925465 | C22: 3.5583661 | D22: -1.2394154 | E22: 21.035982 | F22: 4.0283855 | G22: -0.52561078 | H22: -3.897407 | I22: 1.5635607
A23: 2019.feb | B23: 3.543227 | C23: 14.861934 | D23: -2.1105682 | E23: 2.896201 | F23: 3.9471505 | G23: -0.57361511 | H23: -2.313526 | I23: 1.2752441
A24: 2019.mar | B24: 1.1508105 | C24: 10.740575 | D24: -2.6807761 | E24: 3.9316273 | F24: 1.9231867 | G24: -0.98886389 | H24: -5.3926141 | I24: 0.15809
A25: 2019.abr | B25: 1.8371017 | C25: 11.144413 | D25: -1.7457372 | E25: 5.4991778 | F25: 3.2098672 | G25: -0.10567441 | H25: -4.2335816 | I25: 1.1132609
A26: 2019.may | B26: 0.89186887 | C26: 11.007292 | D26: -1.8484683 | E26: 4.92575 | F26: 3.0651027 | G26: -0.094974983 | H26: -3.7622591 | I26: 0.98746599
A27: 2019.jun | B27: 1.1769205 | C27: 9.8639321 | D27: -2.1057585 | E27: -1.2406877 | F27: 2.9102237 | G27: -0.2494254 | H27: -4.0197937 | I27: 0.48368111
A28: 2019.jul | B28: 1.5048366 | C28: 9.2425311 | D28: -2.1553614 | E28: -2.9430292 | F28: 2.9491547 | G28: -0.070319631 | H28: -3.7153778 | I28: 0.48070231
A29: 2019.ago | B29: 2.0416007 | C29: 7.3692736 | D29: -2.0198407 | E29: -4.7796696 | F29: 3.1322864 | G29: 0.037482617 | H29: -3.1810416 | I29: 0.44290327
A30: 2019.sep | B30: 2.183015 | C30: 6.9109985 | D30: -2.0446042 | E30: -8.4314645 | F30: 3.2515601 | G30: 0.34227643 | H30: -2.5029705 | I30: 0.4189357
A31: 2019.oct | B31: 1.3802075 | C31: 6.2927609 | D31: -2.6463589 | E31: -8.6571128 | F31: 2.6237214 | G31: 0.29530032 | H31: -3.5364742 | I31: 0.060493936
A32: 2019.nov | B32: 2.1527252 | C32: 4.7628663 | D32: -2.2499912 | E32: -9.0371677 | F32: 2.9728657 | G32: 0.59278377 | H32: -4.1682532 | I32: 0.20375756
A33: 2019.dic | B33: 2.3044529 | C33: 2.9401455 | D33: -2.1981531 | E33: -9.226706 | F33: 2.8060957 | G33: 0.88819376 | H33: -5.094869 | I33: 0.16540446
... A106: 2026.ene | B106: -7.4370375 | C106: 6.1478468 | D106: 7.2038298 | E106: 0.99904384 | F106: 2.6807175 | G106: 2.925496 | H106: -1.0067395 | I106: 2.1506619
A108: Nota: El IMAEc de Petróleo y minas incluye la extracción de petróleo crudo y actividades mineras
A109: Elaboración: Banco Central del Ecuador

Sheet Of_Ivol_brut_clas_pet
A9: Fecha | B9: IMAEc Petrolero | C9: IMAEc no petrolero | D9: Impuestos netos sobre los productos | E9: IMAEc
A10: 2018.ene | B10: 102.51901 | C10: 91.875632 | D10: 90.251787 | E10: 92.519553
A11: 2018.feb | B11: 83.352796 | C11: 91.913583 | D11: 80.769659 | E11: 90.690621
A12: 2018.mar | B12: 107.98408 | C12: 97.493302 | D12: 88.301141 | E12: 97.698083
A13: 2018.abr | B13: 92.92925 | C13: 96.617887 | D13: 85.854846 | E13: 95.753352
A14: 2018.may | B14: 99.635818 | C14: 100.74884 | D14: 102.87493 | E14: 100.79228
A15: 2018.jun | B15: 96.913131 | C15: 107.57077 | D15: 95.976185 | E15: 106.17731
A16: 2018.jul | B16: 100.50802 | C16: 99.166947 | D16: 90.543877 | E16: 98.771349
A17: 2018.ago | B17: 106.5067 | C17: 98.528415 | D17: 93.039467 | E17: 98.769194
A18: 2018.sep | B18: 98.329644 | C18: 98.072999 | D18: 91.975865 | E18: 97.745467
A19: 2018.oct | B19: 99.599533 | C19: 102.09939 | D19: 115.12201 | E19: 102.66401
A20: 2018.nov | B20: 99.973502 | C20: 102.19874 | D20: 111.87345 | E20: 102.59276
A21: 2018.dic | B21: 111.74852 | C21: 113.7135 | D21: 153.41678 | E21: 115.82601
... A106: 2026.ene | B106: 90.462099 | C106: 111.1654 | D106: 86.994698 | E106: 107.71264
A108: Nota: El IMAEc Petrolero incluye la extracción de petróleo crudo y refinados
A109: Elaboración: Banco Central del Ecuador

Sheet Of_Ivol_ajus_clas_pet
A9: Fecha | B9: IMAEc Petrolero | C9: IMAEc no petrolero | D9: Impuestos netos sobre los productos | E9: IMAEc
A10: 2018.ene | B10: 103.28137 | C10: 100.10396 | D10: 102.44678 | E10: 100.45632
A11: 2018.feb | B11: 86.761106 | C11: 100.0324 | D11: 103.11373 | E11: 99.289323
A12: 2018.mar | B12: 101.77945 | C12: 100.27211 | D12: 106.4299 | E12: 100.72504
A13: 2018.abr | B13: 96.682027 | C13: 99.784457 | D13: 98.545246 | E13: 99.499781
A14: 2018.may | B14: 97.50034 | C14: 101.72621 | D14: 100.64198 | E14: 101.37263
A15: 2018.jun | B15: 99.571712 | C15: 100.34772 | D15: 95.879302 | E15: 100.04103
A16: 2018.jul | B16: 99.931962 | C16: 100.84461 | D16: 96.770078 | E16: 100.55077
A17: 2018.ago | B17: 105.43847 | C17: 99.657568 | D17: 98.73061 | E17: 100.00476
A18: 2018.sep | B18: 97.577889 | C18: 99.715856 | D18: 94.963094 | E18: 99.298892
A19: 2018.oct | B19: 98.086004 | C19: 99.763518 | D19: 102.31063 | E19: 99.791776
A20: 2018.nov | B20: 102.12816 | C20: 98.94966 | D20: 99.366781 | E20: 99.193041
A21: 2018.dic | B21: 111.26152 | C21: 98.801925 | D21: 100.80188 | E21: 99.776632
... A106: 2026.ene | B106: 90.462099 | C106: 115.96159 | D106: 99.488989 | E106: 112.80041
A108: Nota: El IMAEc Petrolero incluye la extracción de petróleo crudo y refinados
A109: Elaboración: Banco Central del Ecuador

Sheet Of_Ivol_ajus_clas_vY_pet
A9: Fecha | B9: IMAEc Petrolero | C9: IMAEc no petrolero | D9: Impuestos netos sobre los productos | E9: IMAEc
A10: 2018.ene
A11: 2018.feb
A12: 2018.mar
A13: 2018.abr
A14: 2018.may
A15: 2018.jun
A16: 2018.jul
A17: 2018.ago
A18: 2018.sep
A19: 2018.oct
A20: 2018.nov
A21: 2018.dic
A22: 2019.ene | B22: 2.1370983 | C22: 1.7932992 | D22: -3.897407 | E22: 1.5635607
A23: 2019.feb | B23: 22.634937 | C23: -0.54359156 | D23: -0.73988972 | E23: 0.9835387
A24: 2019.mar | B24: -1.5123653 | C24: -1.5002731 | D24: -11.339617 | E24: -2.0573141
A25: 2019.abr | B25: 8.234603 | C25: 3.938776 | D25: -0.56412997 | E25: 3.9976977
A26: 2019.may | B26: 7.4531556 | C26: 0.042446425 | D26: -1.8396548 | E26: 0.49113647
A27: 2019.jun | B27: 1.1421716 | C27: -2.147155 | D27: -5.3928318 | E27: -2.0409738
A28: 2019.jul | B28: 1.6776137 | C28: 0.49766104 | D28: -1.8057193 | E28: 0.46288639
A29: 2019.ago | B29: -6.5893096 | C29: 0.75853612 | D29: 0.62811373 | E29: 0.17759129
A30: 2019.sep | B30: 0.12782128 | C30: 0.095044478 | D30: 3.2275836 | E30: 0.22537314
A31: 2019.oct | B31: -2.796345 | C31: -2.5428021 | D31: -12.602893 | E31: -3.1766619
A32: 2019.nov | B32: -11.618816 | C32: 3.8035716 | D32: -10.52523 | E32: 1.6495368
A33: 2019.dic | B33: -19.896036 | C33: 2.7553513 | D33: -15.199189 | E33: -0.25750996
... A106: 2026.ene | B106: 0.91605513 | C106: 2.5973229 | D106: -1.0067395 | E106: 2.1506619
A108: Nota: El IMAEc Petrolero incluye la extracción de petróleo crudo y refinados
A109: Elaboración: Banco Central del Ecuador

Sheet Of_Ivol_ajus_cont_vY_pet
A9: Fecha | B9: IMAEc Petrolero | C9: IMAEc no petrolero | D9: Impuestos netos sobre los productos | E9: IMAEc
A10: 2018.ene
A11: 2018.feb
A12: 2018.mar
A13: 2018.abr
A14: 2018.may
A15: 2018.jun
A16: 2018.jul
A17: 2018.ago
A18: 2018.sep
A19: 2018.oct
A20: 2018.nov
A21: 2018.dic
... A33: 2019.dic
A34: 2020.ene | B34: -1.4165105 | C34: 2.6710487 | D34: 0.54351363 | E34: 1.7980518
A35: 2020.feb | B35: -1.650637 | C35: 4.1407602 | D35: -1.1440128 | E35: 1.3461105
A36: 2020.mar | B36: 0.73599446 | C36: -8.5968567 | D36: -1.1675087 | E36: -9.028371
A37: 2020.abr | B37: -0.40826786 | C37: -20.588309 | D37: -1.563383 | E37: -22.55996
A38: 2020.may | B38: -2.5054778 | C38: -16.151315 | D38: -1.6830888 | E38: -20.339882
A39: 2020.jun | B39: 0.0059735432 | C39: -9.4484471 | D39: -1.2594352 | E39: -10.701909
A40: 2020.jul | B40: -1.5471394 | C40: -9.1261054 | D40: -1.5357666 | E40: -12.209012
A41: 2020.ago | B41: -1.3393977 | C41: -8.5268704 | D41: -1.7971098 | E41: -11.663378
A42: 2020.sep | B42: -0.27487363 | C42: -5.3516946 | D42: -1.5514427 | E42: -7.1780109
A43: 2020.oct | B43: -0.78378456 | C43: -1.7838922 | D43: -1.2066719 | E43: -3.7743486
A44: 2020.nov | B44: 0.3891462 | C44: -6.5214121 | D44: -1.0775578 | E44: -7.2098237
A45: 2020.dic | B45: -0.25511386 | C45: -7.9122628 | D45: -0.64652204 | E45: -8.8138987
... A106: 2026.ene | B106: -0.0097932826 | C106: 2.2417322 | D106: -0.081276992 | E106: 2.1506619
A108: Nota: El IMAEc Petrolero incluye la extracción de petróleo crudo y refinados
A109: Elaboración: Banco Central del Ecuador

Sheet Of_Ivol_ajus_acum_vY_pet
A9: Fecha | B9: IMAEc Petrolero | C9: IMAEc no petrolero | D9: Impuestos netos sobre los productos | E9: IMAEc
A10: 2018.ene
A11: 2018.feb
A12: 2018.mar
A13: 2018.abr
A14: 2018.may
A15: 2018.jun
A16: 2018.jul
A17: 2018.ago
A18: 2018.sep
A19: 2018.oct
A20: 2018.nov
A21: 2018.dic
A22: 2019.ene | B22: =(Of_Ivol_ajus_clas_pet!B22/Of_Ivol_ajus_clas_pet!B10-1)*100 -> 2.1370983 | C22: =(Of_Ivol_ajus_clas_pet!C22/Of_Ivol_ajus_clas_pet!C10-1)*100 -> 1.7932992 | D22: =(Of_Ivol_ajus_clas_pet!D22/Of_Ivol_ajus_clas_pet!D10-1)*100 -> -3.897407 | E22: =(Of_Ivol_ajus_clas_pet!E22/Of_Ivol_ajus_clas_pet!E10-1)*100 -> 1.5635607
A23: 2019.feb | B23: =(AVERAGE(Of_Ivol_ajus_clas_pet!B22:B23)/AVERAGE(Of_Ivol_ajus_clas_pet!B10:B11)-1)*100 -> 11.495086 | C23: =(AVERAGE(Of_Ivol_ajus_clas_pet!C22:C23)/AVERAGE(Of_Ivol_ajus_clas_pet!C10:C11)-1)*100 -> 0.62527163 | D23: =(AVERAGE(Of_Ivol_ajus_clas_pet!D22:D23)/AVERAGE(Of_Ivol_ajus_clas_pet!D10:D11)-1)*100 -> -2.313526 | E23: =(AVERAGE(Of_Ivol_ajus_clas_pet!E22:E23)/AVERAGE(Of_Ivol_ajus_clas_pet!E10:E11)-1)*100 -> 1.2752441
A24: 2019.mar | B24: =(AVERAGE(Of_Ivol_ajus_clas_pet!B22:B24)/AVERAGE(Of_Ivol_ajus_clas_pet!B10:B12)-1)*100 -> 6.9584453 | C24: =(AVERAGE(Of_Ivol_ajus_clas_pet!C22:C24)/AVERAGE(Of_Ivol_ajus_clas_pet!C10:C12)-1)*100 -> -0.084205194 | D24: =(AVERAGE(Of_Ivol_ajus_clas_pet!D22:D24)/AVERAGE(Of_Ivol_ajus_clas_pet!D10:D12)-1)*100 -> -5.3926141 | E24: =(AVERAGE(Of_Ivol_ajus_clas_pet!E22:E24)/AVERAGE(Of_Ivol_ajus_clas_pet!E10:E12)-1)*100 -> 0.15809
A25: 2019.abr | B25: =(AVERAGE(Of_Ivol_ajus_clas_pet!B22:B25)/AVERAGE(Of_Ivol_ajus_clas_pet!B10:B13)-1)*100 -> 7.2760264 | C25: =(AVERAGE(Of_Ivol_ajus_clas_pet!C22:C25)/AVERAGE(Of_Ivol_ajus_clas_pet!C10:C13)-1)*100 -> 0.91888847 | D25: =(AVERAGE(Of_Ivol_ajus_clas_pet!D22:D25)/AVERAGE(Of_Ivol_ajus_clas_pet!D10:D13)-1)*100 -> -4.2335816 | E25: =(AVERAGE(Of_Ivol_ajus_clas_pet!E22:E25)/AVERAGE(Of_Ivol_ajus_clas_pet!E10:E13)-1)*100 -> 1.1132609
A26: 2019.may | B26: =(AVERAGE(Of_Ivol_ajus_clas_pet!B22:B26)/AVERAGE(Of_Ivol_ajus_clas_pet!B10:B14)-1)*100 -> 7.3115614 | C26: =(AVERAGE(Of_Ivol_ajus_clas_pet!C22:C26)/AVERAGE(Of_Ivol_ajus_clas_pet!C10:C14)-1)*100 -> 0.74125602 | D26: =(AVERAGE(Of_Ivol_ajus_clas_pet!D22:D26)/AVERAGE(Of_Ivol_ajus_clas_pet!D10:D14)-1)*100 -> -3.7622591 | E26: =(AVERAGE(Of_Ivol_ajus_clas_pet!E22:E26)/AVERAGE(Of_Ivol_ajus_clas_pet!E10:E14)-1)*100 -> 0.98746599
A27: 2019.jun | B27: =(AVERAGE(Of_Ivol_ajus_clas_pet!B22:B27)/AVERAGE(Of_Ivol_ajus_clas_pet!B10:B15)-1)*100 -> 6.2625145 | C27: =(AVERAGE(Of_Ivol_ajus_clas_pet!C22:C27)/AVERAGE(Of_Ivol_ajus_clas_pet!C10:C15)-1)*100 -> 0.25999848 | D27: =(AVERAGE(Of_Ivol_ajus_clas_pet!D22:D27)/AVERAGE(Of_Ivol_ajus_clas_pet!D10:D15)-1)*100 -> -4.0197937 | E27: =(AVERAGE(Of_Ivol_ajus_clas_pet!E22:E27)/AVERAGE(Of_Ivol_ajus_clas_pet!E10:E15)-1)*100 -> 0.48368111
A28: 2019.jul | B28: =(AVERAGE(Of_Ivol_ajus_clas_pet!B22:B28)/AVERAGE(Of_Ivol_ajus_clas_pet!B10:B16)-1)*100 -> 5.5941369 | C28: =(AVERAGE(Of_Ivol_ajus_clas_pet!C22:C28)/AVERAGE(Of_Ivol_ajus_clas_pet!C10:C16)-1)*100 -> 0.29408552 | D28: =(AVERAGE(Of_Ivol_ajus_clas_pet!D22:D28)/AVERAGE(Of_Ivol_ajus_clas_pet!D10:D16)-1)*100 -> -3.7153778 | E28: =(AVERAGE(Of_Ivol_ajus_clas_pet!E22:E28)/AVERAGE(Of_Ivol_ajus_clas_pet!E10:E16)-1)*100 -> 0.48070231
A29: 2019.ago | B29: =(AVERAGE(Of_Ivol_ajus_clas_pet!B22:B29)/AVERAGE(Of_Ivol_ajus_clas_pet!B10:B17)-1)*100 -> 3.9700018 | C29: =(AVERAGE(Of_Ivol_ajus_clas_pet!C22:C29)/AVERAGE(Of_Ivol_ajus_clas_pet!C10:C17)-1)*100 -> 0.35174347 | D29: =(AVERAGE(Of_Ivol_ajus_clas_pet!D22:D29)/AVERAGE(Of_Ivol_ajus_clas_pet!D10:D17)-1)*100 -> -3.1810416 | E29: =(AVERAGE(Of_Ivol_ajus_clas_pet!E22:E29)/AVERAGE(Of_Ivol_ajus_clas_pet!E10:E17)-1)*100 -> 0.44290327
A30: 2019.sep | B30: =(AVERAGE(Of_Ivol_ajus_clas_pet!B22:B30)/AVERAGE(Of_Ivol_ajus_clas_pet!B10:B18)-1)*100 -> 3.5480529 | C30: =(AVERAGE(Of_Ivol_ajus_clas_pet!C22:C30)/AVERAGE(Of_Ivol_ajus_clas_pet!C10:C18)-1)*100 -> 0.32338071 | D30: =(AVERAGE(Of_Ivol_ajus_clas_pet!D22:D30)/AVERAGE(Of_Ivol_ajus_clas_pet!D10:D18)-1)*100 -> -2.5029705 | E30: =(AVERAGE(Of_Ivol_ajus_clas_pet!E22:E30)/AVERAGE(Of_Ivol_ajus_clas_pet!E10:E18)-1)*100 -> 0.4189357
A31: 2019.oct | B31: =(AVERAGE(Of_Ivol_ajus_clas_pet!B22:B31)/AVERAGE(Of_Ivol_ajus_clas_pet!B10:B19)-1)*100 -> 2.9173108 | C31: =(AVERAGE(Of_Ivol_ajus_clas_pet!C22:C31)/AVERAGE(Of_Ivol_ajus_clas_pet!C10:C19)-1)*100 -> 0.038081702 | D31: =(AVERAGE(Of_Ivol_ajus_clas_pet!D22:D31)/AVERAGE(Of_Ivol_ajus_clas_pet!D10:D19)-1)*100 -> -3.5364742 | E31: =(AVERAGE(Of_Ivol_ajus_clas_pet!E22:E31)/AVERAGE(Of_Ivol_ajus_clas_pet!E10:E19)-1)*100 -> 0.060493936
A32: 2019.nov | B32: =(AVERAGE(Of_Ivol_ajus_clas_pet!B22:B32)/AVERAGE(Of_Ivol_ajus_clas_pet!B10:B20)-1)*100 -> 1.5537621 | C32: =(AVERAGE(Of_Ivol_ajus_clas_pet!C22:C32)/AVERAGE(Of_Ivol_ajus_clas_pet!C10:C20)-1)*100 -> 0.37643495 | D32: =(AVERAGE(Of_Ivol_ajus_clas_pet!D22:D32)/AVERAGE(Of_Ivol_ajus_clas_pet!D10:D20)-1)*100 -> -4.1682532 | E32: =(AVERAGE(Of_Ivol_ajus_clas_pet!E22:E32)/AVERAGE(Of_Ivol_ajus_clas_pet!E10:E20)-1)*100 -> 0.20375756
A33: 2019.dic | B33: =(AVERAGE(Of_Ivol_ajus_clas_pet!B22:B33)/AVERAGE(Of_Ivol_ajus_clas_pet!B10:B21)-1)*100 -> -0.4350187 | C33: =(AVERAGE(Of_Ivol_ajus_clas_pet!C22:C33)/AVERAGE(Of_Ivol_ajus_clas_pet!C10:C21)-1)*100 -> 0.57230288 | D33: =(AVERAGE(Of_Ivol_ajus_clas_pet!D22:D33)/AVERAGE(Of_Ivol_ajus_clas_pet!D10:D21)-1)*100 -> -5.094869 | E33: =(AVERAGE(Of_Ivol_ajus_clas_pet!E22:E33)/AVERAGE(Of_Ivol_ajus_clas_pet!E10:E21)-1)*100 -> 0.16540446
A34: 2020.ene | B34: =(Of_Ivol_ajus_clas_pet!B34/Of_Ivol_ajus_clas_pet!B22-1)*100 -> -16.786301 | C34: =(Of_Ivol_ajus_clas_pet!C34/Of_Ivol_ajus_clas_pet!C22-1)*100 -> 3.1237905 | D34: =(Of_Ivol_ajus_clas_pet!D34/Of_Ivol_ajus_clas_pet!D22-1)*100 -> 8.4671502 | E34: =(Of_Ivol_ajus_clas_pet!E34/Of_Ivol_ajus_clas_pet!E22-1)*100 -> 1.7980518
A35: 2020.feb | B35: =(AVERAGE(Of_Ivol_ajus_clas_pet!B34:B35)/AVERAGE(Of_Ivol_ajus_clas_pet!B22:B23)-1)*100 -> -17.804326 | C35: =(AVERAGE(Of_Ivol_ajus_clas_pet!C34:C35)/AVERAGE(Of_Ivol_ajus_clas_pet!C22:C23)-1)*100 -> 3.988928 | D35: =(AVERAGE(Of_Ivol_ajus_clas_pet!D34:D35)/AVERAGE(Of_Ivol_ajus_clas_pet!D22:D23)-1)*100 -> -5.1781131 | E35: =(AVERAGE(Of_Ivol_ajus_clas_pet!E34:E35)/AVERAGE(Of_Ivol_ajus_clas_pet!E22:E23)-1)*100 -> 1.5740484
A36: 2020.mar | B36: =(AVERAGE(Of_Ivol_ajus_clas_pet!B34:B36)/AVERAGE(Of_Ivol_ajus_clas_pet!B22:B24)-1)*100 -> -9.0658191 | C36: =(AVERAGE(Of_Ivol_ajus_clas_pet!C34:C36)/AVERAGE(Of_Ivol_ajus_clas_pet!C22:C24)-1)*100 -> -0.62271761 | D36: =(AVERAGE(Of_Ivol_ajus_clas_pet!D34:D36)/AVERAGE(Of_Ivol_ajus_clas_pet!D22:D24)-1)*100 -> -9.5990175 | E36: =(AVERAGE(Of_Ivol_ajus_clas_pet!E34:E36)/AVERAGE(Of_Ivol_ajus_clas_pet!E22:E24)-1)*100 -> -1.9015235
A37: 2020.abr | B37: =(AVERAGE(Of_Ivol_ajus_clas_pet!B34:B37)/AVERAGE(Of_Ivol_ajus_clas_pet!B22:B25)-1)*100 -> -8.0135646 | C37: =(AVERAGE(Of_Ivol_ajus_clas_pet!C34:C37)/AVERAGE(Of_Ivol_ajus_clas_pet!C22:C25)-1)*100 -> -6.6220988 | D37: =(AVERAGE(Of_Ivol_ajus_clas_pet!D34:D37)/AVERAGE(Of_Ivol_ajus_clas_pet!D22:D25)-1)*100 -> -13.569251 | E37: =(AVERAGE(Of_Ivol_ajus_clas_pet!E34:E37)/AVERAGE(Of_Ivol_ajus_clas_pet!E22:E25)-1)*100 -> -7.1872813
A38: 2020.may | B38: =(AVERAGE(Of_Ivol_ajus_clas_pet!B34:B38)/AVERAGE(Of_Ivol_ajus_clas_pet!B22:B26)-1)*100 -> -12.489004 | C38: =(AVERAGE(Of_Ivol_ajus_clas_pet!C34:C38)/AVERAGE(Of_Ivol_ajus_clas_pet!C22:C26)-1)*100 -> -9.0885944 | D38: =(AVERAGE(Of_Ivol_ajus_clas_pet!D34:D38)/AVERAGE(Of_Ivol_ajus_clas_pet!D22:D26)-1)*100 -> -16.297458 | E38: =(AVERAGE(Of_Ivol_ajus_clas_pet!E34:E38)/AVERAGE(Of_Ivol_ajus_clas_pet!E22:E26)-1)*100 -> -9.8336943
A39: 2020.jun | B39: =(AVERAGE(Of_Ivol_ajus_clas_pet!B34:B39)/AVERAGE(Of_Ivol_ajus_clas_pet!B22:B27)-1)*100 -> -10.389119 | C39: =(AVERAGE(Of_Ivol_ajus_clas_pet!C34:C39)/AVERAGE(Of_Ivol_ajus_clas_pet!C22:C27)-1)*100 -> -9.401094 | D39: =(AVERAGE(Of_Ivol_ajus_clas_pet!D34:D39)/AVERAGE(Of_Ivol_ajus_clas_pet!D22:D27)-1)*100 -> -16.987045 | E39: =(AVERAGE(Of_Ivol_ajus_clas_pet!E34:E39)/AVERAGE(Of_Ivol_ajus_clas_pet!E22:E27)-1)*100 -> -9.9744941
A40: 2020.jul | B40: =(AVERAGE(Of_Ivol_ajus_clas_pet!B34:B40)/AVERAGE(Of_Ivol_ajus_clas_pet!B22:B28)-1)*100 -> -11.631983 | C40: =(AVERAGE(Of_Ivol_ajus_clas_pet!C34:C40)/AVERAGE(Of_Ivol_ajus_clas_pet!C22:C28)-1)*100 -> -9.5764468 | D40: =(AVERAGE(Of_Ivol_ajus_clas_pet!D34:D40)/AVERAGE(Of_Ivol_ajus_clas_pet!D22:D28)-1)*100 -> -18.132327 | E40: =(AVERAGE(Of_Ivol_ajus_clas_pet!E34:E40)/AVERAGE(Of_Ivol_ajus_clas_pet!E22:E28)-1)*100 -> -10.294528
A41: 2020.ago | B41: =(AVERAGE(Of_Ivol_ajus_clas_pet!B34:B41)/AVERAGE(Of_Ivol_ajus_clas_pet!B22:B29)-1)*100 -> -12.312718 | C41: =(AVERAGE(Of_Ivol_ajus_clas_pet!C34:C41)/AVERAGE(Of_Ivol_ajus_clas_pet!C22:C29)-1)*100 -> -9.6209073 | D41: =(AVERAGE(Of_Ivol_ajus_clas_pet!D34:D41)/AVERAGE(Of_Ivol_ajus_clas_pet!D22:D29)-1)*100 -> -19.474711 | E41: =(AVERAGE(Of_Ivol_ajus_clas_pet!E34:E41)/AVERAGE(Of_Ivol_ajus_clas_pet!E22:E29)-1)*100 -> -10.464777
A42: 2020.sep | B42: =(AVERAGE(Of_Ivol_ajus_clas_pet!B34:B42)/AVERAGE(Of_Ivol_ajus_clas_pet!B22:B30)-1)*100 -> -11.396799 | C42: =(AVERAGE(Of_Ivol_ajus_clas_pet!C34:C42)/AVERAGE(Of_Ivol_ajus_clas_pet!C22:C30)-1)*100 -> -9.2471695 | D42: =(AVERAGE(Of_Ivol_ajus_clas_pet!D34:D42)/AVERAGE(Of_Ivol_ajus_clas_pet!D22:D30)-1)*100 -> -20.079857 | E42: =(AVERAGE(Of_Ivol_ajus_clas_pet!E34:E42)/AVERAGE(Of_Ivol_ajus_clas_pet!E22:E30)-1)*100 -> -10.103338
A43: 2020.oct | B43: =(AVERAGE(Of_Ivol_ajus_clas_pet!B34:B43)/AVERAGE(Of_Ivol_ajus_clas_pet!B22:B31)-1)*100 -> -11.275626 | C43: =(AVERAGE(Of_Ivol_ajus_clas_pet!C34:C43)/AVERAGE(Of_Ivol_ajus_clas_pet!C22:C31)-1)*100 -> -8.5512282 | D43: =(AVERAGE(Of_Ivol_ajus_clas_pet!D34:D43)/AVERAGE(Of_Ivol_ajus_clas_pet!D22:D31)-1)*100 -> -20.058216 | E43: =(AVERAGE(Of_Ivol_ajus_clas_pet!E34:E43)/AVERAGE(Of_Ivol_ajus_clas_pet!E22:E31)-1)*100 -> -9.4928186
A44: 2020.nov | B44: =(AVERAGE(Of_Ivol_ajus_clas_pet!B34:B44)/AVERAGE(Of_Ivol_ajus_clas_pet!B22:B32)-1)*100 -> -10.021161 | C44: =(AVERAGE(Of_Ivol_ajus_clas_pet!C34:C44)/AVERAGE(Of_Ivol_ajus_clas_pet!C22:C32)-1)*100 -> -8.4514826 | D44: =(AVERAGE(Of_Ivol_ajus_clas_pet!D34:D44)/AVERAGE(Of_Ivol_ajus_clas_pet!D22:D32)-1)*100 -> -19.875714 | E44: =(AVERAGE(Of_Ivol_ajus_clas_pet!E34:E44)/AVERAGE(Of_Ivol_ajus_clas_pet!E22:E32)-1)*100 -> -9.2840205
A45: 2020.dic | B45: =(AVERAGE(Of_Ivol_ajus_clas_pet!B34:B45)/AVERAGE(Of_Ivol_ajus_clas_pet!B22:B33)-1)*100 -> -9.6447875 | C45: =(AVERAGE(Of_Ivol_ajus_clas_pet!C34:C45)/AVERAGE(Of_Ivol_ajus_clas_pet!C22:C33)-1)*100 -> -8.5026199 | D45: =(AVERAGE(Of_Ivol_ajus_clas_pet!D34:D45)/AVERAGE(Of_Ivol_ajus_clas_pet!D22:D33)-1)*100 -> -19.153294 | E45: =(AVERAGE(Of_Ivol_ajus_clas_pet!E34:E45)/AVERAGE(Of_Ivol_ajus_clas_pet!E22:E33)-1)*100 -> -9.2450962
A46: 2021.ene | B46: =(Of_Ivol_ajus_clas_pet!B46/Of_Ivol_ajus_clas_pet!B34-1)*100 -> -0.34668726 | C46: =(Of_Ivol_ajus_clas_pet!C46/Of_Ivol_ajus_clas_pet!C34-1)*100 -> -9.2250405 | D46: =(Of_Ivol_ajus_clas_pet!D46/Of_Ivol_ajus_clas_pet!D34-1)*100 -> -23.320487 | E46: =(Of_Ivol_ajus_clas_pet!E46/Of_Ivol_ajus_clas_pet!E34-1)*100 -> -9.4010507
A47: 2021.feb | B47: =(AVERAGE(Of_Ivol_ajus_clas_pet!B46:B47)/AVERAGE(Of_Ivol_ajus_clas_pet!B34:B35)-1)*100 -> 0.67603789 | C47: =(AVERAGE(Of_Ivol_ajus_clas_pet!C46:C47)/AVERAGE(Of_Ivol_ajus_clas_pet!C34:C35)-1)*100 -> -8.1996896 | D47: =(AVERAGE(Of_Ivol_ajus_clas_pet!D46:D47)/AVERAGE(Of_Ivol_ajus_clas_pet!D34:D35)-1)*100 -> -13.453324 | E47: =(AVERAGE(Of_Ivol_ajus_clas_pet!E46:E47)/AVERAGE(Of_Ivol_ajus_clas_pet!E34:E35)-1)*100 -> -7.7379821
A48: 2021.mar | B48: =(AVERAGE(Of_Ivol_ajus_clas_pet!B46:B48)/AVERAGE(Of_Ivol_ajus_clas_pet!B34:B36)-1)*100 -> -6.1866349 | C48: =(AVERAGE(Of_Ivol_ajus_clas_pet!C46:C48)/AVERAGE(Of_Ivol_ajus_clas_pet!C34:C36)-1)*100 -> -2.2136676 | D48: =(AVERAGE(Of_Ivol_ajus_clas_pet!D46:D48)/AVERAGE(Of_Ivol_ajus_clas_pet!D34:D36)-1)*100 -> -5.8875826 | E48: =(AVERAGE(Of_Ivol_ajus_clas_pet!E46:E48)/AVERAGE(Of_Ivol_ajus_clas_pet!E34:E36)-1)*100 -> -2.5398646
...
