Workbook
Name \C: #REF!
Name \X: #REF!
Name a: #REF!
Name ALLOCATION: #REF!
Name b: #REF!
Name cei: #REF!
Name Fin_Lateral: #REF!
Name Fin_Lateral: #REF!
Name Fin_Registro: #REF!
Name Fin_Registro: #REF!
Name Fin_Superior: #REF!
Name Fin_Superior: #REF!
Name hola: #REF!
Name Ini_Lateral: #REF!
Name Ini_Lateral: #REF!
Name Ini_Registro: #REF!
Name Ini_Registro: #REF!
Name Ini_Superior: #REF!
Name Ini_Superior: #REF!
Name jj: #REF!
Name m: #REF!
Name malo: #REF!
Name malo1: #REF!
Name malo2: #REF!
Name malo3: #REF!
Name malo4: #REF!
Name malo5: #REF!
Name malo6: #REF!
Name malo7: #REF!
Name q: #REF!
Name REDISTRIBUTION: #REF!
Name SECONDARY: #REF!
Name secundaria: #REF!
Name solucion: #REF!
Name SYNOPTIC: #REF!
Name synot: #REF!
Name Titulo: #REF!
Name Titulo: #REF!
Name wot: #REF!
Name X: #REF!
Name xx: #REF!
Name yy: #REF!

Sheet Carátula

Sheet Índice
A9: Datos Corrientes
A11: Valor Agregado Bruto 2018
A12: Valor Agregado Bruto 2019
A13: Valor Agregado Bruto 2020
A14: Valor Agregado Bruto 2021
A15: Valor Agregado Bruto 2022
A16: Valor Agregado Bruto 2023
A17: Valor Agregado Bruto 2024 (p)
A19: A precios del año anterior
A21: Valor Agregado Bruto 2019 a precios 2018
A22: Valor Agregado Bruto 2020 a precios 2019
A23: Valor Agregado Bruto 2021 a precios 2020
... A86: CARÁTULA

Sheet 2018
G8: A | S8: B | W8: C | BJ8: D | BK8: E | BL8: F | BM8: G | BN8: H | BP8: I | BR8: J | BS8: K | BV8: L | BW8: M - N | BX8: O | BY8: P | CA8: Q | CC8: R - S - U | CD8: T
G9: AGRICULTURA, GANADERÍA, SILVICULTURA Y PESCA. | S9: EXPLOTACIÓN DE MINAS Y CANTERAS. | W9: INDUSTRIAS MANUFACTURERAS. | BJ9: SUMINISTRO DE ELECTRICIDAD, GAS, VAPOR Y AIRE ACONDICIONADO. | BK9: DISTRIBUCIÓN DE AGUA; ALCANTARILLADO, GESTIÓN DE DESECHOS Y ACTIVIDADES DE SANEAMIENTO. | BL9: CONSTRUCCIÓN. | BM9: COMERCIO AL POR MAYOR Y AL POR MENOR; REPARACIÓN DE VEHÍCULOS AUTOMOTORES Y MOTOCICLETAS. | BN9: TRANSPORTE Y ALMACENAMIENTO. | BP9: ACTIVIDADES DE ALOJAMIENTO Y DE SERVICIO DE COMIDAS. | BR9: INFORMACIÓN Y COMUNICACIÓN. | BS9: ACTIVIDADES FINANCIERAS Y DE SEGUROS. | BV9: ACTIVIDADES INMOBILIARIAS. | BW9: ACTIVIDADES PROFESIONALES, CIENTÍFICAS Y TÉCNICAS, Y ACTIVIDADES DE SERVICIOS ADMINISTRATIVOS Y DE APOYO. | BX9: ADMINISTRACIÓN PÚBLICA Y DEFENSA; PLANES DE SEGURIDAD SOCIAL DE AFILIACIÓN OBLIGATORIA. | BY9: ENSEÑANZA. | CA9: ACTIVIDADES DE ATENCIÓN DE LA SALUD HUMANA Y DE ASISTENCIA SOCIAL. | CC9: ARTES, ENTRETENIMIENTO Y RECREACIÓN, OTRAS ACTIVIDADES DE SERVICIOS, Y ACTIVIDADES DE ORGANIZACIONES Y ÓRGANOS EXTRATERRITORIALES | CD9: ACTIVIDADES DE LOS HOGARES COMO EMPLEADORES; ACTIVIDADES NO DIFERENCIADAS DE LOS HOGARES COMO PRODUCTORES DE BIENES Y SERVICIOS PARA USO PROPIO.
B10: Otros elementos del PIB | G10: 01 | H10: 02 | I10: 03 | J10: 04 | K10: 05 | L10: 06 | M10: 07 | N10: 08 | O10: 09 | P10: 10 | Q10: 11 | R10: 12 | S10: 13 | T10: 14 | U10: 15 | V10: 16 | W10: 17 | X10: 18 | Y10: 19 | Z10: 20 | AA10: 21 | AB10: 22 | AC10: 23 | AD10: 24 | AE10: 25 | AF10: 26 | AG10: 27 | AH10: 28 | AI10: 29 | AJ10: 30 | AK10: 31 | AL10: 32 | AM10: 33 | AN10: 34 | AO10: 35 | AP10: 36 | AQ10: 37 | AR10: 38 | AS10: 39 | AT10: 40 | AU10: 41 | AV10: 42 | AW10: 43 | AX10: 44 | AY10: 45 | AZ10: 46 | BA10: 47 | BB10: 48 | BC10: 49 | BD10: 50 | BE10: 51 | BF10: 52 | BG10: 53 | BH10: 54 | BI10: 55 | BJ10: 56 | BK10: 57 | BL10: 58 | BM10: 59 | BN10: 60 | BO10: 61 | BP10: 62 | BQ10: 63 | BR10: 64 | BS10: 65 | BT10: 66 | BU10: 67 | BV10: 68 | BW10: 69 | BX10: 70 | BY10: 71 | BZ10: 72 | CA10: 73 | CB10: 74 | CC10: 75 | CD10: 76
B11: Impuestos indirectos sobre productos | C11: Subsidios sobre productos | D11: Derechos arancelarios | E11: Impuesto al valor agregado (IVA) | F11: Descripción | G11: Cultivo de cereales (excepto arroz), legumbres y semillas oleaginosas | H11: Cultivo de arroz | I11: Cultivo de hortalizas y melones, raíces y tubérculos | J11: Cultivo de caña de azúcar | K11: Cultivos de frutas, y otros tipos de cultivos n.c.p. | L11: Cultivo de otras plantas no perennes y propagación de plantas | M11: Cultivo de frutos oleaginosos | N11: Cultivo de plantas con las que se preparan bebidas | O11: Actividades de apoyo a la agricultura, poscosecha y tratamiento de semillas para propagación | P11: Ganadería | Q11: Silvicultura y extracción de madera | R11: Pesca y acuicultura | S11: Servicios Petroleros | T11: Extracción de petróleo crudo y gas natural | U11: Extracción de minerales metálicos | V11: Explotación de otras minas y canteras, y actividades de apoyo | W11: Elaboración y conservación de carne | X11: Preparación y conservación de pescado y otros productos acuaticos elaborados | Y11: Procesamiento y conservación de camarón | Z11: Elaboración de aceites y grasas de origen vegetal y animal | AA11: Elaboración de productos lácteos | AB11: Elaboración de productos de la panadería y pastelería | AC11: Elaboración de productos de molinería | AD11: Elaboración y refinación de azúcar | AE11: Elaboración de cacao, chocolate y productos de confitería | AF11: Elaboración de fideos y de otros productos farináceos | AG11: Elaboración de café | AH11: Elaboración de alimentos preparados para animales | AI11: Elaboración de otros productos alimenticios diversos | AJ11: Elaboración bebidas no alcohólicas (jugos) | AK11: Elaboración bebidas no alcohólicas (excepto jugos) | AL11: Elaboración bebidas alcohólicas | AM11: Elaboración de productos de tabaco | AN11: Fabricación de hilos, hilados; tejidos y confecciones | AO11: Fabricación de prendas de vestir | AP11: Fabricación de cuero, productos de cuero y calzado | AQ11: Producción de madera y de productos de madera | AR11: Fabricación de papel y productos de papel | AS11: Impresión y reproducción de grabaciones | AT11: Fabricación de productos refinados de petróleo y de otros | AU11: Fabricación de sustancias químicas básicas, abonos y plásticos primarios, caucho sintético y artificial | AV11: Fabricación de otros productos químicos | AW11: Fabricación de productos farmacéuticos y medicamentos | AX11: Fabricación de productos de caucho | AY11: Fabricación de productos de plástico | AZ11: Fabricación de vidrio, productos refractarios y de cerámica | BA11: Fabricación de cemento, artículos de hormigón y piedra | BB11: Fabricación de metales comunes | BC11: Fabricación de productos derivados del metal, excepto maquinaria y equipo | BD11: Fabricación de productos de informática, electrónica y óptica | BE11: Fabricación de equipo eléctrico | BF11: Fabricación de maquinaria y equipo n.c.p. | BG11: Fabricación de vehículos y equipos de transporte | BH11: Fabricación de muebles | BI11: Industrias manufactureras n.c.p. | BJ11: Suministro de electricidad, gas, vapor y aire acondicionado | BK11: Distribución de agua; alcantarillado, gestión de desechos y actividades de saneamiento | BL11: Construcción | BM11: Comercio al por mayor y al por menor; reparación de vehículos automotores y motocicletas | BN11: Transporte y almacenamiento | BO11: Actividades postales y de mensajería | BP11: Actividades de alojamiento | BQ11: Servicio de alimento y bebida | BR11: Información y comunicación | BS11: Actividades de servicios financieros, excepto las de seguros y fondos de pensiones | BT11: Seguros, reaseguros y fondos de pensiones, excepto los planes de seguridad social de afiliación obligatoria | BU11: Actividades auxiliares de las actividades de servicios financieros | BV11: Actividades inmobiliarias | BW11: Actividades profesionales, científicas, técnicas y administrativas | BX11: Administración pública y defensa; planes de seguridad social de afiliación obligatoria | BY11: Servicios de enseñanza privada | BZ11: Servicios de enseñanza pública (no de mercado) | CA11: Actividades de atención de la salud humana y de asistencia social privada | CB11: Actividades de atención de la salud humana y de asistencia social no de mercado | CC11: Servicios de asociaciones, personales; esparcimiento; culturales y deportivos | CD11: Actividades de los hogares como empleadores de personal doméstico | CE11: Total de las Industrias | CF11: ECONOMÍA TOTAL
F12: Productos directamente vinculados con la Bioeconomía | G12: 626745 | H12: 281314 | I12: 776670 | J12: 179568 | K12: 4885186 | L12: 1298604 | M12: 293413 | N12: 841167 | O12: 586834 | P12: 2273954 | Q12: 576403 | R12: 3977749 | S12: 0 | T12: 0 | U12: 0 | V12: 75152 | W12: 2456075 | X12: 2218109 | Y12: 3383771 | Z12: 1437239 | AA12: 1751115 | AB12: 667223 | AC12: 1699356 | AD12: 409157 | AE12: 386979 | AF12: 211059 | AG12: 177131 | AH12: 1449497 | AI12: 873440 | AJ12: 144732 | AK12: 902420 | AL12: 784884 | AM12: 71266 | AN12: 0 | AO12: 0 | AP12: 0 | AQ12: 1074350 | AR12: 0 | AS12: 0 | AT12: 0 | AU12: 7894 | AV12: 0 | AW12: 0 | AX12: 0 | AY12: 0 | AZ12: 0 | BA12: 0 | BB12: 0 | BC12: 0 | BD12: 0 | BE12: 0 | BF12: 0 | BG12: 0 | BH12: 0 | BI12: 0 | BJ12: 1102 | BK12: 4 | BL12: 0 | BM12: 0 | BN12: 0 | BO12: 0 | BP12: 0 | BQ12: 0 | BR12: 0 | BS12: 0 | BT12: 0 | BU12: 0 | BV12: 0 | BW12: 0 | BX12: 2782 | BY12: 0 | BZ12: 0 | CA12: 0 | CB12: 0 | CC12: 2594 | CD12: 0 | CE12: 36784938 | CF12: 36784938
F13: Productos funcionalmente relacionados con la Bioeconomía | G13: 0 | H13: 0 | I13: 0 | J13: 0 | K13: 0 | L13: 0 | M13: 0 | N13: 0 | O13: 0 | P13: 0 | Q13: 0 | R13: 0 | S13: 0 | T13: 0 | U13: 0 | V13: 0 | W13: 627 | X13: 9524 | Y13: 0 | Z13: 19 | AA13: 887 | AB13: 6 | AC13: 81 | AD13: 251 | AE13: 853 | AF13: 0 | AG13: 0 | AH13: 222 | AI13: 11178 | AJ13: 0 | AK13: 525 | AL13: 2529 | AM13: 0 | AN13: 576188 | AO13: 1036892 | AP13: 408528 | AQ13: 11701 | AR13: 1892447 | AS13: 598303 | AT13: 0 | AU13: 543239 | AV13: 991690 | AW13: 453690 | AX13: 4006 | AY13: 9 | AZ13: 21 | BA13: 2467 | BB13: 10 | BC13: 272293 | BD13: 3448 | BE13: 40706 | BF13: 62351 | BG13: 9574 | BH13: 20316 | BI13: 11556 | BJ13: 0 | BK13: 275756 | BL13: 417509 | BM13: 0 | BN13: 0 | BO13: 0 | BP13: 100648 | BQ13: 2190572 | BR13: 0 | BS13: 14 | BT13: 0 | BU13: 0 | BV13: 0 | BW13: 1331116 | BX13: 3128 | BY13: 0 | BZ13: 0 | CA13: 0 | CB13: 0 | CC13: 0 | CD13: 0 | CE13: 11284880 | CF13: 11284880
F14: Productos no relacionados con la Bioeconomía | G14: 6407 | H14: 16227 | I14: 7166 | J14: 12330 | K14: 24141 | L14: 33130 | M14: 15667 | N14: 4962 | O14: 24110 | P14: 17763 | Q14: 3261 | R14: 5755 | S14: 3838655 | T14: 9043783 | U14: 422692 | V14: 238624 | W14: 38487 | X14: 46613 | Y14: 39 | Z14: 180 | AA14: 7580 | AB14: 3232 | AC14: 31359 | AD14: 18935 | AE14: 10891 | AF14: 10831 | AG14: 1518 | AH14: 18978 | AI14: 33231 | AJ14: 2822 | AK14: 1849 | AL14: 134 | AM14: 0 | AN14: 12634 | AO14: 26407 | AP14: 5153 | AQ14: 20926 | AR14: 50383 | AS14: 104622 | AT14: 4741992 | AU14: 99770 | AV14: 183131 | AW14: 15152 | AX14: 221337 | AY14: 1315513 | AZ14: 420042 | BA14: 1095239 | BB14: 1420294 | BC14: 1068006 | BD14: 279008 | BE14: 620792 | BF14: 211352 | BG14: 1053295 | BH14: 759472 | BI14: 617651 | BJ14: 3100604 | BK14: 447876 | BL14: 11595182 | BM14: 23467761 | BN14: 10922243 | BO14: 327749 | BP14: 633002 | BQ14: 12130 | BR14: 4935255 | BS14: 4867122 | BT14: 1389522 | BU14: 521223 | BV14: 9969431 | BW14: 11369734 | BX14: 9647069 | BY14: 2458616 | BZ14: 4441012 | CA14: 2922028 | CB14: 4371380 | CC14: 2211416 | CD14: 847047 | CE14: 138740925 | CF14: 138740925
F15: Producción Total de la Economía (pb) | G15: 633152 | H15: 297541 | I15: 783836 | J15: 191898 | K15: 4909327 | L15: 1331734 | M15: 309080 | N15: 846129 | O15: 610944 | P15: 2291717 | Q15: 579664 | R15: 3983504 | S15: 3838655 | T15: 9043783 | U15: 422692 | V15: 313776 | W15: 2495189 | X15: 2274246 | Y15: 3383810 | Z15: 1437438 | AA15: 1759582 | AB15: 670461 | AC15: 1730796 | AD15: 428343 | AE15: 398723 | AF15: 221890 | AG15: 178649 | AH15: 1468697 | AI15: 917849 | AJ15: 147554 | AK15: 904794 | AL15: 787547 | AM15: 71266 | AN15: 588822 | AO15: 1063299 | AP15: 413681 | AQ15: 1106977 | AR15: 1942830 | AS15: 702925 | AT15: 4741992 | AU15: 650903 | AV15: 1174821 | AW15: 468842 | AX15: 225343 | AY15: 1315522 | AZ15: 420063 | BA15: 1097706 | BB15: 1420304 | BC15: 1340299 | BD15: 282456 | BE15: 661498 | BF15: 273703 | BG15: 1062869 | BH15: 779788 | BI15: 629207 | BJ15: 3101706 | BK15: 723636 | BL15: 12012691 | BM15: 23467761 | BN15: 10922243 | BO15: 327749 | BP15: 733650 | BQ15: 2202702 | BR15: 4935255 | BS15: 4867136 | BT15: 1389522 | BU15: 521223 | BV15: 9969431 | BW15: 12700850 | BX15: 9652979 | BY15: 2458616 | BZ15: 4441012 | CA15: 2922028 | CB15: 4371380 | CC15: 2214010 | CD15: 847047 | CE15: 186810743 | CF15: 186810743
F17: Productos directamente vinculados con la Bioeconomía | G17: 240762.76 | H17: 167525.64 | I17: 330683.92 | J17: 102263.12 | K17: 2307536.9 | L17: 549863.87 | M17: 161464.49 | N17: 331574.06 | O17: 230770.81 | P17: 1259378.4 | Q17: 135030.07 | R17: 2652714.1 | S17: 0 | T17: 0 | U17: 0 | V17: 43486.829 | W17: 1478319.2 | X17: 1755592.6 | Y17: 2221223.4 | Z17: 1072913.4 | AA17: 1040615.4 | AB17: 344772.83 | AC17: 1010512.4 | AD17: 228265.29 | AE17: 271750.93 | AF17: 143807.19 | AG17: 113863.2 | AH17: 1144900.7 | AI17: 535295.55 | AJ17: 107781.47 | AK17: 603094.44 | AL17: 333987.83 | AM17: 46947 | AN17: 0 | AO17: 0 | AP17: 0 | AQ17: 685980.42 | AR17: 0 | AS17: 0 | AT17: 0 | AU17: 5468.7498 | AV17: 0 | AW17: 0 | AX17: 0 | AY17: 0 | AZ17: 0 | BA17: 0 | BB17: 0 | BC17: 0 | BD17: 0 | BE17: 0 | BF17: 0 | BG17: 0 | BH17: 0 | BI17: 0 | BJ17: 595.65264 | BK17: 2.1580684 | BL17: 0 | BM17: 0 | BN17: 0 | BO17: 0 | BP17: 0 | BQ17: 0 | BR17: 0 | BS17: 0 | BT17: 0 | BU17: 0 | BV17: 0 | BW17: 0 | BX17: 470.62591 | BY17: 0 | BZ17: 0 | CA17: 0 | CB17: 0 | CC17: 1320.0026 | CD17: 0 | CE17: 21660535 | CF17: 21660535
F18: Productos funcionalmente relacionados con la Bioeconomía | G18: 0 | H18: 0 | I18: 0 | J18: 0 | K18: 0 | L18: 0 | M18: 0 | N18: 0 | O18: 0 | P18: 0 | Q18: 0 | R18: 0 | S18: 0 | T18: 0 | U18: 0 | V18: 0 | W18: 377.39325 | X18: 7538.0713 | Y18: 0 | Z18: 14.183692 | AA18: 527.10751 | AB18: 3.1003683 | AC18: 48.166189 | AD18: 140.03081 | AE18: 599.00807 | AF18: 0 | AG18: 0 | AH18: 175.34907 | AI18: 6850.5377 | AJ18: 0 | AK18: 350.86166 | AL18: 1076.1529 | AM18: 0 | AN18: 366681.82 | AO18: 556023.5 | AP18: 251588.57 | AQ18: 7471.175 | AR18: 1330069.3 | AS18: 323366.63 | AT18: 0 | AU18: 376341.29 | AV18: 614668.83 | AW18: 269390.11 | AX18: 2543.1024 | AY18: 6.0807717 | AZ18: 13.26991 | BA18: 1432.6748 | BB18: 7.969132 | BC18: 142710.04 | BD18: 2508.472 | BE18: 29843.157 | BF18: 33231.329 | BG18: 7914.7465 | BH18: 12290.535 | BI18: 5696.152 | BJ18: 0 | BK18: 148775.08 | BL18: 226220.59 | BM18: 0 | BN18: 0 | BO18: 0 | BP18: 46389.859 | BQ18: 1161148.3 | BR18: 0 | BS18: 4.4394638 | BT18: 0 | BU18: 0 | BV18: 0 | BW18: 516899.38 | BX18: 529.1581 | BY18: 0 | BZ18: 0 | CA18: 0 | CB18: 0 | CC18: 0 | CD18: 0 | CE18: 6451465.5 | CF18: 6451465.5
F19: Productos no relacionados con la Bioeconomía | G19: 2461.2355 | H19: 9663.3604 | I19: 3051.0783 | J19: 7021.8765 | K19: 11403.097 | L19: 14028.133 | M19: 8621.5134 | N19: 1955.938 | O19: 9481.1893 | P19: 9837.6387 | Q19: 763.93261 | R19: 3837.9419 | S19: 1273113 | T19: 3475231 | U19: 207204 | V19: 138080.17 | W19: 23165.445 | X19: 36893.335 | Y19: 25.600938 | Z19: 134.37182 | AA19: 4504.4813 | AB19: 1670.065 | AC19: 18647.451 | AD19: 10563.679 | AE19: 7648.062 | AF19: 7379.8116 | AG19: 975.79948 | AH19: 14989.976 | AI19: 20365.917 | AJ19: 2101.5345 | AK19: 1235.7014 | AL19: 57.020361 | AM19: 0 | AN19: 8040.1849 | AO19: 14160.503 | AP19: 3173.4322 | AQ19: 13361.406 | AR19: 35410.704 | AS19: 56545.369 | AT19: 3277648 | AU19: 69117.959 | AV19: 113508.17 | AW19: 8996.8898 | AX19: 140509.9 | AY19: 888814.92 | AZ19: 265424.73 | BA19: 636044.33 | BB19: 1131851 | BC19: 559746.96 | BD19: 202982.53 | BE19: 455126.84 | BF19: 112644.67 | BG19: 870750.25 | BH19: 459456.46 | BI19: 304450.85 | BJ19: 1675937.3 | BK19: 241636.76 | BL19: 6282664.4 | BM19: 8218887 | BN19: 5732173 | BO19: 162291 | BP19: 291758.14 | BQ19: 6429.7037 | BR19: 2368253 | BS19: 1543386.6 | BT19: 964798 | BU19: 252618 | BV19: 2652696 | BW19: 4415098.6 | BX19: 1631977.2 | BY19: 884325 | BZ19: 644214 | CA19: 1505756 | CB19: 1676496 | CC19: 1125318 | CD19: 0 | CE19: 57230593 | CF19: 57230593
F20: Demanda Intermedia Total de la Economía (pc) | G20: 243224 | H20: 177189 | I20: 333735 | J20: 109285 | K20: 2318940 | L20: 563892 | M20: 170086 | N20: 333530 | O20: 240252 | P20: 1269216 | Q20: 135794 | R20: 2656552 | S20: 1273113 | T20: 3475231 | U20: 207204 | V20: 181567 | W20: 1501862 | X20: 1800024 | Y20: 2221249 | Z20: 1073062 | AA20: 1045647 | AB20: 346446 | AC20: 1029208 | AD20: 238969 | AE20: 279998 | AF20: 151187 | AG20: 114839 | AH20: 1160066 | AI20: 562512 | AJ20: 109883 | AK20: 604681 | AL20: 335121 | AM20: 46947 | AN20: 374722 | AO20: 570184 | AP20: 254762 | AQ20: 706813 | AR20: 1365480 | AS20: 379912 | AT20: 3277648 | AU20: 450928 | AV20: 728177 | AW20: 278387 | AX20: 143053 | AY20: 888821 | AZ20: 265438 | BA20: 637477 | BB20: 1131859 | BC20: 702457 | BD20: 205491 | BE20: 484970 | BF20: 145876 | BG20: 878665 | BH20: 471747 | BI20: 310147 | BJ20: 1676533 | BK20: 390414 | BL20: 6508885 | BM20: 8218887 | BN20: 5732173 | BO20: 162291 | BP20: 338148 | BQ20: 1167578 | BR20: 2368253 | BS20: 1543391 | BT20: 964798 | BU20: 252618 | BV20: 2652696 | BW20: 4931998 | BX20: 1632977 | BY20: 884325 | BZ20: 644214 | CA20: 1505756 | CB20: 1676496 | CC20: 1126638 | CD20: 0 | CE20: 85342594 | CF20: 85342594
B22: 550348 | C22: -71 | D22: 80863 | E22: 1045914 | F22: Productos directamente vinculados con la Bioeconomía | G22: 385982.24 | H22: 113788.36 | I22: 445986.08 | J22: 77304.876 | K22: 2577649.1 | L22: 748740.13 | M22: 131948.51 | N22: 509592.94 | O22: 356063.19 | P22: 1014575.6 | Q22: 441372.93 | R22: 1325034.9 | S22: 0 | T22: 0 | U22: 0 | V22: 31665.171 | W22: 977755.84 | X22: 462516.41 | Y22: 1162547.6 | Z22: 364325.56 | AA22: 710499.59 | AB22: 322450.17 | AC22: 688843.62 | AD22: 180891.71 | AE22: 115228.07 | AF22: 67251.812 | AG22: 63267.799 | AH22: 304596.32 | AI22: 338144.45 | AJ22: 36950.535 | AK22: 299325.56 | AL22: 450896.17 | AM22: 24319 | AN22: 0 | AO22: 0 | AP22: 0 | AQ22: 388369.58 | AR22: 0 | AS22: 0 | AT22: 0 | AU22: 2425.2502 | AV22: 0 | AW22: 0 | AX22: 0 | AY22: 0 | AZ22: 0 | BA22: 0 | BB22: 0 | BC22: 0 | BD22: 0 | BE22: 0 | BF22: 0 | BG22: 0 | BH22: 0 | BI22: 0 | BJ22: 506.34736 | BK22: 1.8419316 | BL22: 0 | BM22: 0 | BN22: 0 | BO22: 0 | BP22: 0 | BQ22: 0 | BR22: 0 | BS22: 0 | BT22: 0 | BU22: 0 | BV22: 0 | BW22: 0 | BX22: 2311.3741 | BY22: 0 | BZ22: 0 | CA22: 0 | CB22: 0 | CC22: 1273.9974 | CD22: 0 | CE22: 15124403 | CF22: 16801457
B23: 48260 | C23: -15259 | D23: 245704 | E23: 1127489 | F23: Productos funcionalmente relacionados con la Bioeconomía | G23: 0 | H23: 0 | I23: 0 | J23: 0 | K23: 0 | L23: 0 | M23: 0 | N23: 0 | O23: 0 | P23: 0 | Q23: 0 | R23: 0 | S23: 0 | T23: 0 | U23: 0 | V23: 0 | W23: 249.60675 | X23: 1985.9287 | Y23: 0 | Z23: 4.8163079 | AA23: 359.89249 | AB23: 2.8996317 | AC23: 32.833811 | AD23: 110.96919 | AE23: 253.99193 | AF23: 0 | AG23: 0 | AH23: 46.650931 | AI23: 4327.4623 | AJ23: 0 | AK23: 174.13834 | AL23: 1452.8471 | AM23: 0 | AN23: 209506.18 | AO23: 480868.5 | AP23: 156939.43 | AQ23: 4229.825 | AR23: 562377.7 | AS23: 274936.37 | AT23: 0 | AU23: 166897.71 | AV23: 377021.17 | AW23: 184299.89 | AX23: 1462.8976 | AY23: 2.9192283 | AZ23: 7.7300905 | BA23: 1034.3252 | BB23: 2.030868 | BC23: 129582.96 | BD23: 939.528 | BE23: 10862.843 | BF23: 29119.671 | BG23: 1659.2535 | BH23: 8025.4646 | BI23: 5859.848 | BJ23: 0 | BK23: 126980.92 | BL23: 191288.41 | BM23: 0 | BN23: 0 | BO23: 0 | BP23: 54258.141 | BQ23: 1029423.7 | BR23: 0 | BS23: 9.5605362 | BT23: 0 | BU23: 0 | BV23: 0 | BW23: 814216.62 | BX23: 2598.8419 | BY23: 0 | BZ23: 0 | CA23: 0 | CB23: 0 | CC23: 0 | CD23: 0 | CE23: 4833414.5 | CF23: 6239608.5
B24: 720591 | C24: -3390641 | D24: 1138507 | E24: 4459107 | F24: Productos no relacionados con la Bioeconomía | G24: 3945.7645 | H24: 6563.6396 | I24: 4114.9217 | J24: 5308.1235 | K24: 12737.903 | L24: 19101.867 | M24: 7045.4866 | N24: 3006.062 | O24: 14628.811 | P24: 7925.3613 | Q24: 2497.0674 | R24: 1917.0581 | S24: 2565542 | T24: 5568552 | U24: 215488 | V24: 100543.83 | W24: 15321.555 | X24: 9719.6654 | Y24: 13.399062 | Z24: 45.62818 | AA24: 3075.5187 | AB24: 1561.935 | AC24: 12711.549 | AD24: 8371.3209 | AE24: 3242.938 | AF24: 3451.1884 | AG24: 542.20052 | AH24: 3988.0242 | AI24: 12865.083 | AJ24: 720.46547 | AK24: 613.29865 | AL24: 76.979639 | AM24: 0 | AN24: 4593.8151 | AO24: 12246.497 | AP24: 1979.5678 | AQ24: 7564.5943 | AR24: 14972.296 | AS24: 48076.631 | AT24: 1464344 | AU24: 30652.041 | AV24: 69622.83 | AW24: 6155.1102 | AX24: 80827.102 | AY24: 426698.08 | AZ24: 154617.27 | BA24: 459194.67 | BB24: 288442.97 | BC24: 508259.04 | BD24: 76025.472 | BE24: 165665.16 | BF24: 98707.329 | BG24: 182544.75 | BH24: 300015.54 | BI24: 313200.15 | BJ24: 1424666.7 | BK24: 206239.24 | BL24: 5312517.6 | BM24: 15248874 | BN24: 5190070 | BO24: 165458 | BP24: 341243.86 | BQ24: 5700.2963 | BR24: 2567002 | BS24: 3323735.4 | BT24: 424724 | BU24: 268605 | BV24: 7316735 | BW24: 6954635.4 | BX24: 8015091.8 | BY24: 1574291 | BZ24: 3796798 | CA24: 1416272 | CB24: 2694884 | CC24: 1086098 | CD24: 847047 | CE24: 81510332 | CF24: 84437896
B25: 1319199 | C25: -3405971 | D25: 1465074 | E25: 6632510 | F25: Valor Agregado Total de la Economía | G25: 389928 | H25: 120352 | I25: 450101 | J25: 82613 | K25: 2590387 | L25: 767842 | M25: 138994 | N25: 512599 | O25: 370692 | P25: 1022501 | Q25: 443870 | R25: 1326952 | S25: 2565542 | T25: 5568552 | U25: 215488 | V25: 132209 | W25: 993327 | X25: 474222 | Y25: 1162561 | Z25: 364376 | AA25: 713935 | AB25: 324015 | AC25: 701588 | AD25: 189374 | AE25: 118725 | AF25: 70703 | AG25: 63810 | AH25: 308631 | AI25: 355337 | AJ25: 37671 | AK25: 300113 | AL25: 452426 | AM25: 24319 | AN25: 214100 | AO25: 493115 | AP25: 158919 | AQ25: 400164 | AR25: 577350 | AS25: 323013 | AT25: 1464344 | AU25: 199975 | AV25: 446644 | AW25: 190455 | AX25: 82290 | AY25: 426701 | AZ25: 154625 | BA25: 460229 | BB25: 288445 | BC25: 637842 | BD25: 76965 | BE25: 176528 | BF25: 127827 | BG25: 184204 | BH25: 308041 | BI25: 319060 | BJ25: 1425173 | BK25: 333222 | BL25: 5503806 | BM25: 15248874 | BN25: 5190070 | BO25: 165458 | BP25: 395502 | BQ25: 1035124 | BR25: 2567002 | BS25: 3323745 | BT25: 424724 | BU25: 268605 | BV25: 7316735 | BW25: 7768852 | BX25: 8020002 | BY25: 1574291 | BZ25: 3796798 | CA25: 1416272 | CB25: 2694884 | CC25: 1087372 | CD25: 847047 | CE25: 101468149 | CF25: 107478961
B27: 3.2755969 | C27: -0.00042258241 | D27: 0.48128565 | E27: 6.2251388 | F27: Participación de las Actividades Económicas en la Bioeconomía | G27: 2.2973141 | H27: 0.67725294 | I27: 2.6544489 | J27: 0.46010818 | K27: 15.341819 | L27: 4.4564001 | M27: 0.78533972 | N27: 3.0330283 | O27: 2.11924 | P27: 6.0386171 | Q27: 2.6269921 | R27: 7.8864289 | S27: 0 | T27: 0 | U27: 0 | V27: 0.18846682 | W27: 5.8194706 | X27: 2.7528351 | Y27: 6.9193262 | Z27: 2.1684165 | AA27: 4.2287975 | AB27: 1.9191798 | AC27: 4.0999041 | AD27: 1.076643 | AE27: 0.6858219 | AF27: 0.4002737 | AG27: 0.37656139 | AH27: 1.8129162 | AI27: 2.0125901 | AJ27: 0.21992459 | AK27: 1.7815453 | AL27: 2.6836731 | AM27: 0.1447434 | AN27: 0 | AO27: 0 | AP27: 0 | AQ27: 2.3115233 | AR27: 0 | AS27: 0 | AT27: 0 | AU27: 0.014434762 | AV27: 0 | AW27: 0 | AX27: 0 | AY27: 0 | AZ27: 0 | BA27: 0 | BB27: 0 | BC27: 0 | BD27: 0 | BE27: 0 | BF27: 0 | BG27: 0 | BH27: 0 | BI27: 0 | BJ27: 0.0030137111 | BK27: 1.0962928e-05 | BL27: 0 | BM27: 0 | BN27: 0 | BO27: 0 | BP27: 0 | BQ27: 0 | BR27: 0 | BS27: 0 | BT27: 0 | BU27: 0 | BV27: 0 | BW27: 0 | BX27: 0.013756986 | BY27: 0 | BZ27: 0 | CA27: 0 | CB27: 0 | CC27: 0.0075826603 | CD27: 0 | CE27: 90.018401 | CF27: 100
B28: 0.77344596 | C28: -0.2445506 | D28: 3.9378112 | E28: 18.069868 | F28: Participación de las Actividades Económicas en la Bioeconomía Extendida | G28: 0 | H28: 0 | I28: 0 | J28: 0 | K28: 0 | L28: 0 | M28: 0 | N28: 0 | O28: 0 | P28: 0 | Q28: 0 | R28: 0 | S28: 0 | T28: 0 | U28: 0 | V28: 0 | W28: 0.0040003592 | X28: 0.031827777 | Y28: 0 | Z28: 7.7189264e-05 | AA28: 0.0057678697 | AB28: 4.6471373e-05 | AC28: 0.00052621588 | AD28: 0.0017784639 | AE28: 0.0040706389 | AF28: 0 | AG28: 0 | AH28: 0.00074765798 | AI28: 0.069354709 | AJ28: 0 | AK28: 0.0027908536 | AL28: 0.023284267 | AM28: 0 | AN28: 3.3576816 | AO28: 7.7067095 | AP28: 2.5152128 | AQ28: 0.06778991 | AR28: 9.0130287 | AS28: 4.406308 | AT28: 0 | AU28: 2.6748106 | AV28: 6.042385 | AW28: 2.9537092 | AX28: 0.023445343 | AY28: 4.678544e-05 | AZ28: 0.00012388743 | BA28: 0.016576764 | BB28: 3.2548004e-05 | BC28: 2.0767803 | BD28: 0.015057483 | BE28: 0.17409494 | BF28: 0.46669067 | BG28: 0.026592269 | BH28: 0.12862128 | BI28: 0.093913712 | BJ28: 0 | BK28: 2.0350783 | BL28: 3.0657117 | BM28: 0 | BN28: 0 | BO28: 0 | BP28: 0.86957605 | BQ28: 16.49821 | BR28: 0 | BS28: 0.00015322333 | BT28: 0 | BU28: 0 | BV28: 0 | BW28: 13.049162 | BX28: 0.041650721 | BY28: 0 | BZ28: 0 | CA28: 0 | CB28: 0 | CC28: 0 | CD28: 0 | CE28: 77.463426 | CF28: 100
B29: 0.85339763 | C29: -4.0155442 | D29: 1.3483365 | E29: 5.280931 | F29: Participación de las Actividades Económicas en la No Bioeconomía | G29: 0.0046729783 | H29: 0.007773334 | I29: 0.0048733115 | J29: 0.0062864233 | K29: 0.015085529 | L29: 0.022622386 | M29: 0.0083439865 | N29: 0.0035600864 | O29: 0.017324935 | P29: 0.0093860242 | Q29: 0.0029572828 | R29: 0.0022703765 | S29: 3.0383775 | T29: 6.5948493 | U29: 0.25520295 | V29: 0.11907429 | W29: 0.018145354 | X29: 0.011511023 | Y29: 1.5868541e-05 | Z29: 5.4037562e-05 | AA29: 0.0036423441 | AB29: 0.0018498033 | AC29: 0.015054318 | AD29: 0.0099141751 | AE29: 0.0038406192 | AF29: 0.0040872506 | AG29: 0.00064212936 | AH29: 0.0047230265 | AI29: 0.015236149 | AJ29: 0.00085324896 | AK29: 0.00072633104 | AL29: 9.1167169e-05 | AM29: 0 | AN29: 0.0054404661 | AO29: 0.014503555 | AP29: 0.0023444069 | AQ29: 0.0089587669 | AR29: 0.017731725 | AS29: 0.056937268 | AT29: 1.7342261 | AU29: 0.036301285 | AV29: 0.082454482 | AW29: 0.0072895115 | AX29: 0.095723729 | AY29: 0.50533955 | AZ29: 0.1831136 | BA29: 0.54382534 | BB29: 0.34160369 | BC29: 0.60193238 | BD29: 0.090037147 | BE29: 0.19619764 | BF29: 0.11689932 | BG29: 0.21618818 | BH29: 0.35530911 | BI29: 0.37092368 | BJ29: 1.6872361 | BK29: 0.24424962 | BL29: 6.2916272 | BM29: 18.059278 | BN29: 6.1466122 | BO29: 0.1959523 | BP29: 0.40413591 | BQ29: 0.0067508744 | BR29: 3.0401065 | BS29: 3.9363078 | BT29: 0.50300164 | BU29: 0.31810954 | BV29: 8.6652266 | BW29: 8.2363912 | BX29: 9.4922922 | BY29: 1.8644366 | BZ29: 4.4965569 | CA29: 1.6772943 | CB29: 3.1915575 | CC29: 1.2862684 | CD29: 1.0031598 | CE29: 96.532879 | CF29: 100
B30: 1.2274021 | C30: -3.1689653 | D30: 1.3631263 | E30: 6.1709845 | F30: Participación de las Actividades Económicas en el Total de la Economía | G30: 0.36279472 | H30: 0.11197726 | I30: 0.41878056 | J30: 0.076864346 | K30: 2.410134 | L30: 0.71441145 | M30: 0.12932205 | N30: 0.47692962 | O30: 0.34489727 | P30: 0.95134991 | Q30: 0.41298315 | R30: 1.2346156 | S30: 2.3870179 | T30: 5.1810624 | U30: 0.20049319 | V30: 0.12300919 | W30: 0.92420599 | X30: 0.4412231 | Y30: 1.0816638 | Z30: 0.33902077 | AA30: 0.66425558 | AB30: 0.3014683 | AC30: 0.65276775 | AD30: 0.17619634 | AE30: 0.11046348 | AF30: 0.065783107 | AG30: 0.059369759 | AH30: 0.2871548 | AI30: 0.33061075 | AJ30: 0.03504965 | AK30: 0.27922953 | AL30: 0.42094378 | AM30: 0.022626754 | AN30: 0.19920178 | AO30: 0.45880142 | AP30: 0.14786057 | AQ30: 0.37231845 | AR30: 0.5371749 | AS30: 0.30053603 | AT30: 1.3624471 | AU30: 0.18605967 | AV30: 0.41556412 | AW30: 0.17720212 | AX30: 0.076563822 | AY30: 0.39700886 | AZ30: 0.14386537 | BA30: 0.4282038 | BB30: 0.26837345 | BC30: 0.59345754 | BD30: 0.071609364 | BE30: 0.16424424 | BF30: 0.11893211 | BG30: 0.1713861 | BH30: 0.28660586 | BI30: 0.2968581 | BJ30: 1.3260018 | BK30: 0.31003463 | BL30: 5.1208217 | BM30: 14.187776 | BN30: 4.8289172 | BO30: 0.15394455 | BP30: 0.36798086 | BQ30: 0.96309454 | BR30: 2.3883763 | BS30: 3.092461 | BT30: 0.39516943 | BU30: 0.24991403 | BV30: 6.8075974 | BW30: 7.2282537 | BX30: 7.4619274 | BY30: 1.4647434 | BZ30: 3.5325965 | CA30: 1.3177202 | CB30: 2.5073596 | CC30: 1.0117068 | CD30: 0.78810494 | CE30: 94.407452 | CF30: 100
B32: 0.51205184 | C32: -6.605944e-05 | D32: 0.07523612 | E32: 0.97313371 | F32: Participación de las Actividades Económicas de la Bioeconomía en el PIB | G32: 0.35912353 | H32: 0.10587036 | I32: 0.41495198 | J32: 0.07192559 | K32: 2.3982825 | L32: 0.69663879 | M32: 0.12276683 | N32: 0.47413274 | O32: 0.33128641 | P32: 0.94397604 | Q32: 0.41065984 | R32: 1.2328319 | S32: 0 | T32: 0 | U32: 0 | V32: 0.029461739 | W32: 0.90971836 | X32: 0.43033204 | Y32: 1.0816513 | Z32: 0.33897383 | AA32: 0.66105923 | AB32: 0.30001236 | AC32: 0.64091019 | AD32: 0.1683043 | AE32: 0.10720988 | AF32: 0.062572071 | AG32: 0.058865288 | AH32: 0.28340088 | AI32: 0.31461455 | AJ32: 0.034379319 | AK32: 0.27849689 | AL32: 0.41952041 | AM32: 0.022626754 | AN32: 0 | AO32: 0 | AP32: 0 | AQ32: 0.36134475 | AR32: 0 | AS32: 0 | AT32: 0 | AU32: 0.0022564883 | AV32: 0 | AW32: 0 | AX32: 0 | AY32: 0 | AZ32: 0 | BA32: 0 | BB32: 0 | BC32: 0 | BD32: 0 | BE32: 0 | BF32: 0 | BG32: 0 | BH32: 0 | BI32: 0 | BJ32: 0.000471113 | BK32: 1.7137601e-06 | BL32: 0 | BM32: 0 | BN32: 0 | BO32: 0 | BP32: 0 | BQ32: 0 | BR32: 0 | BS32: 0 | BT32: 0 | BU32: 0 | BV32: 0 | BW32: 0 | BX32: 0.0021505363 | BY32: 0 | BZ32: 0 | CA32: 0 | CB32: 0 | CC32: 0.0011853458 | CD32: 0 | CE32: 14.071966 | CF32: 15.632321
B33: 0.044901811 | C33: -0.014197197 | D33: 0.2286066 | E33: 1.0490323 | F33: Participación de las Actividades Económicas de la Bioeconomía Extendida en el PIB | G33: 0 | H33: 0 | I33: 0 | J33: 0 | K33: 0 | L33: 0 | M33: 0 | N33: 0 | O33: 0 | P33: 0 | Q33: 0 | R33: 0 | S33: 0 | T33: 0 | U33: 0 | V33: 0 | W33: 0.00023223778 | X33: 0.0018477371 | Y33: 0 | Z33: 4.4811634e-06 | AA33: 0.00033484924 | AB33: 2.6978599e-06 | AC33: 3.0549058e-05 | AD33: 0.00010324736 | AE33: 0.00023631781 | AF33: 0 | AG33: 0 | AH33: 4.3404709e-05 | AI33: 0.0040263344 | AJ33: 0 | AK33: 0.00016202086 | AL33: 0.0013517502 | AM33: 0 | AN33: 0.19492762 | AO33: 0.4474071 | AP33: 0.14601875 | AQ33: 0.0039354911 | AR33: 0.52324446 | AS33: 0.25580483 | AT33: 0 | AU33: 0.15528407 | AV33: 0.35078602 | AW33: 0.17147532 | AX33: 0.0013611014 | AY33: 2.7160927e-06 | AZ33: 7.1921894e-06 | BA33: 0.00096235129 | BB33: 1.8895494e-06 | BC33: 0.12056588 | BD33: 0.00087415061 | BE33: 0.010106948 | BF33: 0.027093368 | BG33: 0.0015437938 | BH33: 0.0074670098 | BI33: 0.0054520884 | BJ33: 0 | BK33: 0.11814491 | BL33: 0.17797754 | BM33: 0 | BN33: 0 | BO33: 0 | BP33: 0.05048257 | BQ33: 0.9577909 | BR33: 0 | BS33: 8.895263e-06 | BT33: 0 | BU33: 0 | BV33: 0 | BW33: 0.75755908 | BX33: 0.0024180006 | BY33: 0 | BZ33: 0 | CA33: 0 | CB33: 0 | CC33: 0 | CD33: 0 | CE33: 4.4970797 | CF33: 5.8054232
B34: 0.67044842 | C34: -3.1547021 | D34: 1.0592836 | E34: 4.1488185 | F34: Participación de las Actividades Económicas de la No Bioeconomía en el PIB | G34: 0.0036711971 | H34: 0.0061069065 | I34: 0.0038285834 | J34: 0.0049387559 | K34: 0.011851532 | L34: 0.017772657 | M34: 0.006555224 | N34: 0.0027968841 | O34: 0.01361086 | P34: 0.0073738723 | Q34: 0.0023233081 | R34: 0.001783659 | S34: 2.3870179 | T34: 5.1810624 | U34: 0.20049319 | V34: 0.093547451 | W34: 0.0142554 | X34: 0.0090433191 | Y34: 1.2466683e-05 | Z34: 4.2453127e-05 | AA34: 0.0028615076 | AB34: 0.0014532472 | AC34: 0.011827011 | AD34: 0.0077887996 | AE34: 0.003017277 | AF34: 0.0032110362 | AG34: 0.0005044713 | AH34: 0.0037105161 | AI34: 0.011969862 | AJ34: 0.00067033163 | AK34: 0.00057062205 | AL34: 7.1622984e-05 | AM34: 0 | AN34: 0.0042741529 | AO34: 0.01139432 | AP34: 0.0018418189 | AQ34: 0.0070382093 | AR34: 0.013930443 | AS34: 0.044731202 | AT34: 1.3624471 | AU34: 0.028519108 | AV34: 0.064778101 | AW34: 0.0057268047 | AX34: 0.07520272 | AY34: 0.39700615 | AZ34: 0.14385817 | BA34: 0.42724145 | BB34: 0.26837156 | BC34: 0.47289166 | BD34: 0.070735213 | BE34: 0.15413729 | BF34: 0.091838745 | BG34: 0.16984231 | BH34: 0.27913885 | BI34: 0.29140601 | BJ34: 1.3255307 | BK34: 0.19188801 | BL34: 4.9428442 | BM34: 14.187776 | BN34: 4.8289172 | BO34: 0.15394455 | BP34: 0.31749829 | BQ34: 0.0053036392 | BR34: 2.3883763 | BS34: 3.0924521 | BT34: 0.39516943 | BU34: 0.24991403 | BV34: 6.8075974 | BW34: 6.4706946 | BX34: 7.4573588 | BY34: 1.4647434 | BZ34: 3.5325965 | CA34: 1.3177202 | CB34: 2.5073596 | CC34: 1.0105215 | CD34: 0.78810494 | CE34: 75.838407 | CF34: 78.562255
B35: 1.2274021 | C35: -3.1689653 | D35: 1.3631263 | E35: 6.1709845 | F35: Participación de las Actividades Económicas en el PIB | G35: 0.36279472 | H35: 0.11197726 | I35: 0.41878056 | J35: 0.076864346 | K35: 2.410134 | L35: 0.71441145 | M35: 0.12932205 | N35: 0.47692962 | O35: 0.34489727 | P35: 0.95134991 | Q35: 0.41298315 | R35: 1.2346156 | S35: 2.3870179 | T35: 5.1810624 | U35: 0.20049319 | V35: 0.12300919 | W35: 0.92420599 | X35: 0.4412231 | Y35: 1.0816638 | Z35: 0.33902077 | AA35: 0.66425558 | AB35: 0.3014683 | AC35: 0.65276775 | AD35: 0.17619634 | AE35: 0.11046348 | AF35: 0.065783107 | AG35: 0.059369759 | AH35: 0.2871548 | AI35: 0.33061075 | AJ35: 0.03504965 | AK35: 0.27922953 | AL35: 0.42094378 | AM35: 0.022626754 | AN35: 0.19920178 | AO35: 0.45880142 | AP35: 0.14786057 | AQ35: 0.37231845 | AR35: 0.5371749 | AS35: 0.30053603 | AT35: 1.3624471 | AU35: 0.18605967 | AV35: 0.41556412 | AW35: 0.17720212 | AX35: 0.076563822 | AY35: 0.39700886 | AZ35: 0.14386537 | BA35: 0.4282038 | BB35: 0.26837345 | BC35: 0.59345754 | BD35: 0.071609364 | BE35: 0.16424424 | BF35: 0.11893211 | BG35: 0.1713861 | BH35: 0.28660586 | BI35: 0.2968581 | BJ35: 1.3260018 | BK35: 0.31003463 | BL35: 5.1208217 | BM35: 14.187776 | BN35: 4.8289172 | BO35: 0.15394455 | BP35: 0.36798086 | BQ35: 0.96309454 | BR35: 2.3883763 | BS35: 3.092461 | BT35: 0.39516943 | BU35: 0.24991403 | BV35: 6.8075974 | BW35: 7.2282537 | BX35: 7.4619274 | BY35: 1.4647434 | BZ35: 3.5325965 | CA35: 1.3177202 | CB35: 2.5073596 | CC35: 1.0117068 | CD35: 0.78810494 | CE35: 94.407452 | CF35: 100
B37: (pb): precios básicos
B38: (pc): precios de comprador | CE38: PIB PRODUCCIÓN | CF38: 107478961
B39: Elaboración: Banco Central del Ecuador
CE40: PIB BIOECONOMÍA | CF40: 23041065

Sheet Q19P18
G8: A | S8: B | W8: C | BJ8: D | BK8: E | BL8: F | BM8: G | BN8: H | BP8: I | BR8: J | BS8: K | BV8: L | BW8: M - N | BX8: O | BY8: P | CA8: Q | CC8: R - S - U | CD8: T
G9: AGRICULTURA, GANADERÍA, SILVICULTURA Y PESCA. | S9: EXPLOTACIÓN DE MINAS Y CANTERAS. | W9: INDUSTRIAS MANUFACTURERAS. | BJ9: SUMINISTRO DE ELECTRICIDAD, GAS, VAPOR Y AIRE ACONDICIONADO. | BK9: DISTRIBUCIÓN DE AGUA; ALCANTARILLADO, GESTIÓN DE DESECHOS Y ACTIVIDADES DE SANEAMIENTO. | BL9: CONSTRUCCIÓN. | BM9: COMERCIO AL POR MAYOR Y AL POR MENOR; REPARACIÓN DE VEHÍCULOS AUTOMOTORES Y MOTOCICLETAS. | BN9: TRANSPORTE Y ALMACENAMIENTO. | BP9: ACTIVIDADES DE ALOJAMIENTO Y DE SERVICIO DE COMIDAS. | BR9: INFORMACIÓN Y COMUNICACIÓN. | BS9: ACTIVIDADES FINANCIERAS Y DE SEGUROS. | BV9: ACTIVIDADES INMOBILIARIAS. | BW9: ACTIVIDADES PROFESIONALES, CIENTÍFICAS Y TÉCNICAS, Y ACTIVIDADES DE SERVICIOS ADMINISTRATIVOS Y DE APOYO. | BX9: ADMINISTRACIÓN PÚBLICA Y DEFENSA; PLANES DE SEGURIDAD SOCIAL DE AFILIACIÓN OBLIGATORIA. | BY9: ENSEÑANZA. | CA9: ACTIVIDADES DE ATENCIÓN DE LA SALUD HUMANA Y DE ASISTENCIA SOCIAL. | CC9: ARTES, ENTRETENIMIENTO Y RECREACIÓN, OTRAS ACTIVIDADES DE SERVICIOS, Y ACTIVIDADES DE ORGANIZACIONES Y ÓRGANOS EXTRATERRITORIALES | CD9: ACTIVIDADES DE LOS HOGARES COMO EMPLEADORES; ACTIVIDADES NO DIFERENCIADAS DE LOS HOGARES COMO PRODUCTORES DE BIENES Y SERVICIOS PARA USO PROPIO.
B10: Otros elementos del PIB | G10: 01 | H10: 02 | I10: 03 | J10: 04 | K10: 05 | L10: 06 | M10: 07 | N10: 08 | O10: 09 | P10: 10 | Q10: 11 | R10: 12 | S10: 13 | T10: 14 | U10: 15 | V10: 16 | W10: 17 | X10: 18 | Y10: 19 | Z10: 20 | AA10: 21 | AB10: 22 | AC10: 23 | AD10: 24 | AE10: 25 | AF10: 26 | AG10: 27 | AH10: 28 | AI10: 29 | AJ10: 30 | AK10: 31 | AL10: 32 | AM10: 33 | AN10: 34 | AO10: 35 | AP10: 36 | AQ10: 37 | AR10: 38 | AS10: 39 | AT10: 40 | AU10: 41 | AV10: 42 | AW10: 43 | AX10: 44 | AY10: 45 | AZ10: 46 | BA10: 47 | BB10: 48 | BC10: 49 | BD10: 50 | BE10: 51 | BF10: 52 | BG10: 53 | BH10: 54 | BI10: 55 | BJ10: 56 | BK10: 57 | BL10: 58 | BM10: 59 | BN10: 60 | BO10: 61 | BP10: 62 | BQ10: 63 | BR10: 64 | BS10: 65 | BT10: 66 | BU10: 67 | BV10: 68 | BW10: 69 | BX10: 70 | BY10: 71 | BZ10: 72 | CA10: 73 | CB10: 74 | CC10: 75 | CD10: 76
B11: Impuestos indirectos sobre productos | C11: Subsidios sobre productos | D11: Derechos arancelarios | E11: Impuesto al valor agregado (IVA) | F11: Descripción | G11: Cultivo de cereales (excepto arroz), legumbres y semillas oleaginosas | H11: Cultivo de arroz | I11: Cultivo de hortalizas y melones, raíces y tubérculos | J11: Cultivo de caña de azúcar | K11: Cultivos de frutas, y otros tipos de cultivos n.c.p. | L11: Cultivo de otras plantas no perennes y propagación de plantas | M11: Cultivo de frutos oleaginosos | N11: Cultivo de plantas con las que se preparan bebidas | O11: Actividades de apoyo a la agricultura, poscosecha y tratamiento de semillas para propagación | P11: Ganadería | Q11: Silvicultura y extracción de madera | R11: Pesca y acuicultura | S11: Servicios Petroleros | T11: Extracción de petróleo crudo y gas natural | U11: Extracción de minerales metálicos | V11: Explotación de otras minas y canteras, y actividades de apoyo | W11: Elaboración y conservación de carne | X11: Preparación y conservación de pescado y otros productos acuaticos elaborados | Y11: Procesamiento y conservación de camarón | Z11: Elaboración de aceites y grasas de origen vegetal y animal | AA11: Elaboración de productos lácteos | AB11: Elaboración de productos de la panadería y pastelería | AC11: Elaboración de productos de molinería | AD11: Elaboración y refinación de azúcar | AE11: Elaboración de cacao, chocolate y productos de confitería | AF11: Elaboración de fideos y de otros productos farináceos | AG11: Elaboración de café | AH11: Elaboración de alimentos preparados para animales | AI11: Elaboración de otros productos alimenticios diversos | AJ11: Elaboración bebidas no alcohólicas (jugos) | AK11: Elaboración bebidas no alcohólicas (excepto jugos) | AL11: Elaboración bebidas alcohólicas | AM11: Elaboración de productos de tabaco | AN11: Fabricación de hilos, hilados; tejidos y confecciones | AO11: Fabricación de prendas de vestir | AP11: Fabricación de cuero, productos de cuero y calzado | AQ11: Producción de madera y de productos de madera | AR11: Fabricación de papel y productos de papel | AS11: Impresión y reproducción de grabaciones | AT11: Fabricación de productos refinados de petróleo y de otros | AU11: Fabricación de sustancias químicas básicas, abonos y plásticos primarios, caucho sintético y artificial | AV11: Fabricación de otros productos químicos | AW11: Fabricación de productos farmacéuticos y medicamentos | AX11: Fabricación de productos de caucho | AY11: Fabricación de productos de plástico | AZ11: Fabricación de vidrio, productos refractarios y de cerámica | BA11: Fabricación de cemento, artículos de hormigón y piedra | BB11: Fabricación de metales comunes | BC11: Fabricación de productos derivados del metal, excepto maquinaria y equipo | BD11: Fabricación de productos de informática, electrónica y óptica | BE11: Fabricación de equipo eléctrico | BF11: Fabricación de maquinaria y equipo n.c.p. | BG11: Fabricación de vehículos y equipos de transporte | BH11: Fabricación de muebles | BI11: Industrias manufactureras n.c.p. | BJ11: Suministro de electricidad, gas, vapor y aire acondicionado | BK11: Distribución de agua; alcantarillado, gestión de desechos y actividades de saneamiento | BL11: Construcción | BM11: Comercio al por mayor y al por menor; reparación de vehículos automotores y motocicletas | BN11: Transporte y almacenamiento | BO11: Actividades postales y de mensajería | BP11: Actividades de alojamiento | BQ11: Servicio de alimento y bebida | BR11: Información y comunicación | BS11: Actividades de servicios financieros, excepto las de seguros y fondos de pensiones | BT11: Seguros, reaseguros y fondos de pensiones, excepto los planes de seguridad social de afiliación obligatoria | BU11: Actividades auxiliares de las actividades de servicios financieros | BV11: Actividades inmobiliarias | BW11: Actividades profesionales, científicas, técnicas y administrativas | BX11: Administración pública y defensa; planes de seguridad social de afiliación obligatoria | BY11: Servicios de enseñanza privada | BZ11: Servicios de enseñanza pública (no de mercado) | CA11: Actividades de atención de la salud humana y de asistencia social privada | CB11: Actividades de atención de la salud humana y de asistencia social no de mercado | CC11: Servicios de asociaciones, personales; esparcimiento; culturales y deportivos | CD11: Actividades de los hogares como empleadores de personal doméstico | CE11: Total de las Industrias | CF11: ECONOMÍA TOTAL
F12: Productos directamente vinculados con la Bioeconomía | G12: 671237 | H12: 269575 | I12: 786510 | J12: 210622 | K12: 4845907 | L12: 1351465 | M12: 274473 | N12: 780275 | O12: 589548 | P12: 2321504 | Q12: 513237 | R12: 4666627 | S12: 0 | T12: 0 | U12: 0 | V12: 75494 | W12: 2613504 | X12: 2340905 | Y12: 4214908 | Z12: 1293159 | AA12: 1767256 | AB12: 650598 | AC12: 1760082 | AD12: 471396 | AE12: 360266 | AF12: 218983 | AG12: 182720 | AH12: 1615105 | AI12: 866692 | AJ12: 129513 | AK12: 834428 | AL12: 623001 | AM12: 49089 | AN12: 0 | AO12: 0 | AP12: 0 | AQ12: 1062395 | AR12: 0 | AS12: 0 | AT12: 0 | AU12: 8481 | AV12: 0 | AW12: 0 | AX12: 0 | AY12: 0 | AZ12: 0 | BA12: 0 | BB12: 0 | BC12: 0 | BD12: 0 | BE12: 0 | BF12: 0 | BG12: 0 | BH12: 0 | BI12: 0 | BJ12: 1107 | BK12: 4 | BL12: 0 | BM12: 0 | BN12: 0 | BO12: 0 | BP12: 0 | BQ12: 0 | BR12: 0 | BS12: 0 | BT12: 0 | BU12: 0 | BV12: 0 | BW12: 0 | BX12: 2229 | BY12: 0 | BZ12: 0 | CA12: 0 | CB12: 0 | CC12: 2606 | CD12: 0 | CE12: 38424901 | CF12: 38424901
F13: Productos funcionalmente relacionados con la Bioeconomía | G13: 0 | H13: 0 | I13: 0 | J13: 0 | K13: 0 | L13: 0 | M13: 0 | N13: 0 | O13: 0 | P13: 0 | Q13: 0 | R13: 0 | S13: 0 | T13: 0 | U13: 0 | V13: 0 | W13: 618 | X13: 9394 | Y13: 0 | Z13: 19 | AA13: 875 | AB13: 6 | AC13: 80 | AD13: 248 | AE13: 841 | AF13: 0 | AG13: 0 | AH13: 219 | AI13: 11025 | AJ13: 0 | AK13: 518 | AL13: 2494 | AM13: 0 | AN13: 535048 | AO13: 1022803 | AP13: 403292 | AQ13: 11541 | AR13: 1871501 | AS13: 573948 | AT13: 0 | AU13: 468263 | AV13: 907923 | AW13: 440895 | AX13: 3975 | AY13: 9 | AZ13: 21 | BA13: 2433 | BB13: 10 | BC13: 268576 | BD13: 3401 | BE13: 40150 | BF13: 61500 | BG13: 9443 | BH13: 20039 | BI13: 11320 | BJ13: 0 | BK13: 304578 | BL13: 397055 | BM13: 0 | BN13: 0 | BO13: 0 | BP13: 104680 | BQ13: 2278318 | BR13: 0 | BS13: 15 | BT13: 0 | BU13: 0 | BV13: 0 | BW13: 1321271 | BX13: 3218 | BY13: 0 | BZ13: 0 | CA13: 0 | CB13: 0 | CC13: 0 | CD13: 0 | CE13: 11091563 | CF13: 11091563
F14: Productos no relacionados con la Bioeconomía | G14: 6860 | H14: 14905 | I14: 7240 | J14: 14264 | K14: 23954 | L14: 34308 | M14: 14435 | N14: 4604 | O14: 24237 | P14: 18054 | Q14: 2905 | R14: 6751 | S14: 3571348 | T14: 9454100 | U14: 463986 | V14: 209512 | W14: 31588 | X14: 49082 | Y14: 0 | Z14: 162 | AA14: 7649 | AB14: 3152 | AC14: 33048 | AD14: 21310 | AE14: 10161 | AF14: 13252 | AG14: 1564 | AH14: 21021 | AI14: 33047 | AJ14: 2534 | AK14: 1710 | AL14: 106 | AM14: 3999 | AN14: 11747 | AO14: 26076 | AP14: 5089 | AQ14: 20538 | AR14: 49972 | AS14: 102894 | AT14: 4601190 | AU14: 98740 | AV14: 180769 | AW14: 14749 | AX14: 208350 | AY14: 1317068 | AZ14: 361831 | BA14: 973607 | BB14: 1353702 | BC14: 1013567 | BD14: 199877 | BE14: 601002 | BF14: 193759 | BG14: 824549 | BH14: 724649 | BI14: 605067 | BJ14: 3274128 | BK14: 458862 | BL14: 10948887 | BM14: 23942123 | BN14: 11101378 | BO14: 332109 | BP14: 636643 | BQ14: 12619 | BR14: 4933058 | BS14: 5117428 | BT14: 1436789 | BU14: 563496 | BV14: 9966911 | BW14: 11142485 | BX14: 9375173 | BY14: 2547481 | BZ14: 4342443 | CA14: 3057759 | CB14: 4248950 | CC14: 2303090 | CD14: 963467 | CE14: 138298919 | CF14: 138298919
F15: Producción Total de la Economía (pb) | G15: 678097 | H15: 284480 | I15: 793750 | J15: 224886 | K15: 4869861 | L15: 1385773 | M15: 288908 | N15: 784879 | O15: 613785 | P15: 2339558 | Q15: 516142 | R15: 4673378 | S15: 3571348 | T15: 9454100 | U15: 463986 | V15: 285006 | W15: 2645710 | X15: 2399381 | Y15: 4214908 | Z15: 1293340 | AA15: 1775780 | AB15: 653756 | AC15: 1793210 | AD15: 492954 | AE15: 371268 | AF15: 232235 | AG15: 184284 | AH15: 1636345 | AI15: 910764 | AJ15: 132047 | AK15: 836656 | AL15: 625601 | AM15: 53088 | AN15: 546795 | AO15: 1048879 | AP15: 408381 | AQ15: 1094474 | AR15: 1921473 | AS15: 676842 | AT15: 4601190 | AU15: 575484 | AV15: 1088692 | AW15: 455644 | AX15: 212325 | AY15: 1317077 | AZ15: 361852 | BA15: 976040 | BB15: 1353712 | BC15: 1282143 | BD15: 203278 | BE15: 641152 | BF15: 255259 | BG15: 833992 | BH15: 744688 | BI15: 616387 | BJ15: 3275235 | BK15: 763444 | BL15: 11345942 | BM15: 23942123 | BN15: 11101378 | BO15: 332109 | BP15: 741323 | BQ15: 2290937 | BR15: 4933058 | BS15: 5117443 | BT15: 1436789 | BU15: 563496 | BV15: 9966911 | BW15: 12463756 | BX15: 9380620 | BY15: 2547481 | BZ15: 4342443 | CA15: 3057759 | CB15: 4248950 | CC15: 2305696 | CD15: 963467 | CE15: 187815383 | CF15: 187815383
F17: Productos directamente vinculados con la Bioeconomía | G17: 263017.97 | H17: 165780.85 | I17: 334358.16 | J17: 116261.4 | K17: 2322433.9 | L17: 547104.33 | M17: 150691.86 | N17: 306801.72 | O17: 229736.28 | P17: 1290146.7 | Q17: 125631.9 | R17: 3112745.9 | S17: 0 | T17: 0 | U17: 0 | V17: 43406.017 | W17: 1574114.3 | X17: 1835137.1 | Y17: 2756828 | Z17: 1002576.7 | AA17: 1056312.1 | AB17: 342048.7 | AC17: 1057021.9 | AD17: 269265.87 | AE17: 247234.81 | AF17: 150892.57 | AG17: 117749.12 | AH17: 1283132.7 | AI17: 531821.44 | AJ17: 92909.176 | AK17: 548692.94 | AL17: 276475.17 | AM17: 29080.942 | AN17: 0 | AO17: 0 | AP17: 0 | AQ17: 686689.42 | AR17: 0 | AS17: 0 | AT17: 0 | AU17: 5801.9611 | AV17: 0 | AW17: 0 | AX17: 0 | AY17: 0 | AZ17: 0 | BA17: 0 | BB17: 0 | BC17: 0 | BD17: 0 | BE17: 0 | BF17: 0 | BG17: 0 | BH17: 0 | BI17: 0 | BJ17: 591.46062 | BK17: 2.0896673 | BL17: 0 | BM17: 0 | BN17: 0 | BO17: 0 | BP17: 0 | BQ17: 0 | BR17: 0 | BS17: 0 | BT17: 0 | BU17: 0 | BV17: 0 | BW17: 0 | BX17: 337.88908 | BY17: 0 | BZ17: 0 | CA17: 0 | CB17: 0 | CC17: 1318.5443 | CD17: 0 | CE17: 22874152 | CF17: 22874152
F18: Productos funcionalmente relacionados con la Bioeconomía | G18: 0 | H18: 0 | I18: 0 | J18: 0 | K18: 0 | L18: 0 | M18: 0 | N18: 0 | O18: 0 | P18: 0 | Q18: 0 | R18: 0 | S18: 0 | T18: 0 | U18: 0 | V18: 0 | W18: 372.2216 | X18: 7364.3647 | Y18: 0 | Z18: 14.73056 | AA18: 522.99898 | AB18: 3.1544705 | AC18: 48.044211 | AD18: 141.65995 | AE18: 577.14154 | AF18: 0 | AG18: 0 | AH18: 173.98625 | AI18: 6765.1846 | AJ18: 0 | AK18: 340.62009 | AL18: 1106.7865 | AM18: 0 | AN18: 343751.91 | AO18: 555035.56 | AP18: 246966.62 | AQ18: 7459.6385 | AR18: 1311057.7 | AS18: 305066.49 | AT18: 0 | AU18: 320344.74 | AV18: 562571.97 | AW18: 259809.74 | AX18: 2450.225 | AY18: 6.0399863 | AZ18: 13.338945 | BA18: 1343.4844 | BB18: 7.9598984 | BC18: 137532.86 | BD18: 2448.4664 | BE18: 29870.029 | BF18: 32586.02 | BG18: 7842.3169 | BH18: 12480.54 | BI18: 5534.5756 | BJ18: 0 | BK18: 159116.68 | BL18: 222218.81 | BM18: 0 | BN18: 0 | BO18: 0 | BP18: 48220.497 | BQ18: 1181331.9 | BR18: 0 | BS18: 5.0913249 | BT18: 0 | BU18: 0 | BV18: 0 | BW18: 514886.62 | BX18: 487.80935 | BY18: 0 | BZ18: 0 | CA18: 0 | CB18: 0 | CC18: 0 | CD18: 0 | CE18: 6287878.5 | CF18: 6287878.5
F19: Productos no relacionados con la Bioeconomía | G19: 2688.0272 | H19: 9166.1454 | I19: 3077.8414 | J19: 7873.5966 | K19: 11480.117 | L19: 13888.673 | M19: 7925.1402 | N19: 1810.2786 | O19: 9444.724 | P19: 10033.284 | Q19: 711.09581 | R19: 4503.0699 | S19: 1385235 | T19: 3266525 | U19: 227645 | V19: 120460.98 | W19: 19025.463 | X19: 38477.512 | Y19: 0 | Z19: 125.59741 | AA19: 4571.9076 | AB19: 1657.1485 | AC19: 19847.064 | AD19: 12172.474 | AE19: 6973.0502 | AF19: 9131.4317 | AG19: 1007.8789 | AH19: 16700.297 | AI19: 20278.373 | AJ19: 1817.8241 | AK19: 1124.4408 | AL19: 47.040644 | AM19: 2369.058 | AN19: 7547.0868 | AO19: 14150.435 | AP19: 3116.3849 | AQ19: 13274.938 | AR19: 35007.289 | AS19: 54690.514 | AT19: 3418195 | AU19: 67549.303 | AV19: 112009.03 | AW19: 8691.2617 | AX19: 128428.77 | AY19: 883896.96 | AZ19: 229830.66 | BA19: 537618.52 | BB19: 1077533 | BC19: 519029.14 | BD19: 143896.53 | BE19: 447121.97 | BF19: 102663.98 | BG19: 684779.68 | BH19: 451320.46 | BI19: 295829.42 | BJ19: 1749338.5 | BK19: 239717.23 | BL19: 6127737.2 | BM19: 8265351 | BN19: 5716890 | BO19: 162292 | BP19: 293267.5 | BQ19: 6543.0846 | BR19: 2366716 | BS19: 1736965.9 | BT19: 1004615 | BU19: 270502 | BV19: 2653411 | BW19: 4342119.4 | BX19: 1421161.3 | BY19: 918657 | BZ19: 573300 | CA19: 1585441 | CB19: 1627903 | CC19: 1165282.5 | CD19: 0 | CE19: 56701186 | CF19: 56701186
F20: Demanda Intermedia Total de la Economía (pc) | G20: 265706 | H20: 174947 | I20: 337436 | J20: 124135 | K20: 2333914 | L20: 560993 | M20: 158617 | N20: 308612 | O20: 239181 | P20: 1300180 | Q20: 126343 | R20: 3117249 | S20: 1385235 | T20: 3266525 | U20: 227645 | V20: 163867 | W20: 1593512 | X20: 1880979 | Y20: 2756828 | Z20: 1002717 | AA20: 1061407 | AB20: 343709 | AC20: 1076917 | AD20: 281580 | AE20: 254785 | AF20: 160024 | AG20: 118757 | AH20: 1300007 | AI20: 558865 | AJ20: 94727 | AK20: 550158 | AL20: 277629 | AM20: 31450 | AN20: 351299 | AO20: 569186 | AP20: 250083 | AQ20: 707424 | AR20: 1346065 | AS20: 359757 | AT20: 3418195 | AU20: 393696 | AV20: 674581 | AW20: 268501 | AX20: 130879 | AY20: 883903 | AZ20: 229844 | BA20: 538962 | BB20: 1077541 | BC20: 656562 | BD20: 146345 | BE20: 476992 | BF20: 135250 | BG20: 692622 | BH20: 463801 | BI20: 301364 | BJ20: 1749930 | BK20: 398836 | BL20: 6349956 | BM20: 8265351 | BN20: 5716890 | BO20: 162292 | BP20: 341488 | BQ20: 1187875 | BR20: 2366716 | BS20: 1736971 | BT20: 1004615 | BU20: 270502 | BV20: 2653411 | BW20: 4857006 | BX20: 1421987 | BY20: 918657 | BZ20: 573300 | CA20: 1585441 | CB20: 1627903 | CC20: 1166601 | CD20: 0 | CE20: 85863216 | CF20: 85863216
B22: 448282 | C22: -61 | D22: 83497 | E22: 1014882 | F22: Productos directamente vinculados con la Bioeconomía | G22: 408219.03 | H22: 103794.15 | I22: 452151.84 | J22: 94360.597 | K22: 2523473.1 | L22: 804360.67 | M22: 123781.14 | N22: 473473.28 | O22: 359811.72 | P22: 1031357.3 | Q22: 387605.1 | R22: 1553881.1 | S22: 0 | T22: 0 | U22: 0 | V22: 32087.983 | W22: 1039389.7 | X22: 505767.88 | Y22: 1458080 | Z22: 290582.33 | AA22: 710943.91 | AB22: 308549.3 | AC22: 703060.11 | AD22: 202130.13 | AE22: 113031.19 | AF22: 68090.432 | AG22: 64970.879 | AH22: 331972.28 | AI22: 334870.56 | AJ22: 36603.824 | AK22: 285735.06 | AL22: 346525.83 | AM22: 20008.058 | AN22: 0 | AO22: 0 | AP22: 0 | AQ22: 375705.58 | AR22: 0 | AS22: 0 | AT22: 0 | AU22: 2679.0389 | AV22: 0 | AW22: 0 | AX22: 0 | AY22: 0 | AZ22: 0 | BA22: 0 | BB22: 0 | BC22: 0 | BD22: 0 | BE22: 0 | BF22: 0 | BG22: 0 | BH22: 0 | BI22: 0 | BJ22: 515.53938 | BK22: 1.9103327 | BL22: 0 | BM22: 0 | BN22: 0 | BO22: 0 | BP22: 0 | BQ22: 0 | BR22: 0 | BS22: 0 | BT22: 0 | BU22: 0 | BV22: 0 | BW22: 0 | BX22: 1891.1109 | BY22: 0 | BZ22: 0 | CA22: 0 | CB22: 0 | CC22: 1287.4557 | CD22: 0 | CE22: 15550749 | CF22: 17097349
B23: 48287 | C23: -15842 | D23: 246578 | E23: 1119941 | F23: Productos funcionalmente relacionados con la Bioeconomía | G23: 0 | H23: 0 | I23: 0 | J23: 0 | K23: 0 | L23: 0 | M23: 0 | N23: 0 | O23: 0 | P23: 0 | Q23: 0 | R23: 0 | S23: 0 | T23: 0 | U23: 0 | V23: 0 | W23: 245.7784 | X23: 2029.6353 | Y23: 0 | Z23: 4.2694396 | AA23: 352.00102 | AB23: 2.8455295 | AC23: 31.955789 | AD23: 106.34005 | AE23: 263.85846 | AF23: 0 | AG23: 0 | AH23: 45.013748 | AI23: 4259.8154 | AJ23: 0 | AK23: 177.37991 | AL23: 1387.2135 | AM23: 0 | AN23: 191296.09 | AO23: 467767.44 | AP23: 156325.38 | AQ23: 4081.3615 | AR23: 560443.29 | AS23: 268881.51 | AT23: 0 | AU23: 147918.26 | AV23: 345351.03 | AW23: 181085.26 | AX23: 1524.775 | AY23: 2.9600137 | AZ23: 7.6610548 | BA23: 1089.5156 | BB23: 2.0401016 | BC23: 131043.14 | BD23: 952.53364 | BE23: 10279.971 | BF23: 28913.98 | BG23: 1600.6831 | BH23: 7558.4602 | BI23: 5785.4244 | BJ23: 0 | BK23: 145461.32 | BL23: 174836.19 | BM23: 0 | BN23: 0 | BO23: 0 | BP23: 56459.503 | BQ23: 1096986.1 | BR23: 0 | BS23: 9.9086751 | BT23: 0 | BU23: 0 | BV23: 0 | BW23: 806384.38 | BX23: 2730.1906 | BY23: 0 | BZ23: 0 | CA23: 0 | CB23: 0 | CC23: 0 | CD23: 0 | CE23: 4803684.5 | CF23: 6202648.5
B24: 716942 | C24: -3602832 | D24: 1194795 | E24: 4450100 | F24: Productos no relacionados con la Bioeconomía | G24: 4171.9728 | H24: 5738.8546 | I24: 4162.1586 | J24: 6390.4034 | K24: 12473.883 | L24: 20419.327 | M24: 6509.8598 | N24: 2793.7214 | O24: 14792.276 | P24: 8020.7161 | Q24: 2193.9042 | R24: 2247.9301 | S24: 2186113 | T24: 6187575 | U24: 236341 | V24: 89051.017 | W24: 12562.537 | X24: 10604.488 | Y24: 0 | Z24: 36.40259 | AA24: 3077.0924 | AB24: 1494.8515 | AC24: 13200.936 | AD24: 9137.5259 | AE24: 3187.9498 | AF24: 4120.5683 | AG24: 556.12114 | AH24: 4320.7032 | AI24: 12768.627 | AJ24: 716.17591 | AK24: 585.55915 | AL24: 58.959356 | AM24: 1629.942 | AN24: 4199.9132 | AO24: 11925.565 | AP24: 1972.6151 | AQ24: 7263.0623 | AR24: 14964.711 | AS24: 48203.486 | AT24: 1182995 | AU24: 31190.697 | AV24: 68759.972 | AW24: 6057.7383 | AX24: 79921.225 | AY24: 433171.04 | AZ24: 132000.34 | BA24: 435988.48 | BB24: 276168.96 | BC24: 494537.86 | BD24: 55980.466 | BE24: 153880.03 | BF24: 91095.02 | BG24: 139769.32 | BH24: 273328.54 | BI24: 309237.58 | BJ24: 1524789.5 | BK24: 219144.77 | BL24: 4821149.8 | BM24: 15676772 | BN24: 5384488 | BO24: 169817 | BP24: 343375.5 | BQ24: 6075.9154 | BR24: 2566342 | BS24: 3380462.1 | BT24: 432174 | BU24: 292994 | BV24: 7313500 | BW24: 6800365.6 | BX24: 7954011.7 | BY24: 1628824 | BZ24: 3769143 | CA24: 1472318 | CB24: 2621047 | CC24: 1137807.5 | CD24: 963467 | CE24: 81597733 | CF24: 84356738
B25: 1213511 | C25: -3618735 | D25: 1524870 | E25: 6584923 | F25: Valor Agregado Total de la Economía | G25: 412391 | H25: 109533 | I25: 456314 | J25: 100751 | K25: 2535947 | L25: 824780 | M25: 130291 | N25: 476267 | O25: 374604 | P25: 1039378 | Q25: 389799 | R25: 1556129 | S25: 2186113 | T25: 6187575 | U25: 236341 | V25: 121139 | W25: 1052198 | X25: 518402 | Y25: 1458080 | Z25: 290623 | AA25: 714373 | AB25: 310047 | AC25: 716293 | AD25: 211374 | AE25: 116483 | AF25: 72211 | AG25: 65527 | AH25: 336338 | AI25: 351899 | AJ25: 37320 | AK25: 286498 | AL25: 347972 | AM25: 21638 | AN25: 195496 | AO25: 479693 | AP25: 158298 | AQ25: 387050 | AR25: 575408 | AS25: 317085 | AT25: 1182995 | AU25: 181788 | AV25: 414111 | AW25: 187143 | AX25: 81446 | AY25: 433174 | AZ25: 132008 | BA25: 437078 | BB25: 276171 | BC25: 625581 | BD25: 56933 | BE25: 164160 | BF25: 120009 | BG25: 141370 | BH25: 280887 | BI25: 315023 | BJ25: 1525305 | BK25: 364608 | BL25: 4995986 | BM25: 15676772 | BN25: 5384488 | BO25: 169817 | BP25: 399835 | BQ25: 1103062 | BR25: 2566342 | BS25: 3380472 | BT25: 432174 | BU25: 292994 | BV25: 7313500 | BW25: 7606750 | BX25: 7958633 | BY25: 1628824 | BZ25: 3769143 | CA25: 1472318 | CB25: 2621047 | CC25: 1139095 | CD25: 963467 | CE25: 1.0195217e+08 | CF25: 1.0765674e+08
B27: 2.6219386 | C27: -0.00035678046 | D27: 0.48836226 | E27: 5.9359027 | F27: Participación de las Actividades Económicas en la Bioeconomía | G27: 2.3876159 | H27: 0.60707742 | I27: 2.6445728 | J27: 0.55190191 | K27: 14.759441 | L27: 4.7045929 | M27: 0.72397855 | N27: 2.7692789 | O27: 2.1044884 | P27: 6.0322643 | Q27: 2.2670479 | R27: 9.0884327 | S27: 0 | T27: 0 | U27: 0 | V27: 0.18767812 | W27: 6.0792447 | X27: 2.9581655 | Y27: 8.5281057 | Z27: 1.6995753 | AA27: 4.1582113 | AB27: 1.8046617 | AC27: 4.1121001 | AD27: 1.1822308 | AE27: 0.66110361 | AF27: 0.3982514 | AG27: 0.38000557 | AH27: 1.9416594 | AI27: 1.958611 | AJ27: 0.21409064 | AK27: 1.6712244 | AL27: 2.026781 | AM27: 0.11702433 | AN27: 0 | AO27: 0 | AP27: 0 | AQ27: 2.1974493 | AR27: 0 | AS27: 0 | AT27: 0 | AU27: 0.015669323 | AV27: 0 | AW27: 0 | AX27: 0 | AY27: 0 | AZ27: 0 | BA27: 0 | BB27: 0 | BC27: 0 | BD27: 0 | BE27: 0 | BF27: 0 | BG27: 0 | BH27: 0 | BI27: 0 | BJ27: 0.0030153177 | BK27: 1.1173268e-05 | BL27: 0 | BM27: 0 | BN27: 0 | BO27: 0 | BP27: 0 | BQ27: 0 | BR27: 0 | BS27: 0 | BT27: 0 | BU27: 0 | BV27: 0 | BW27: 0 | BX27: 0.011060843 | BY27: 0 | BZ27: 0 | CA27: 0 | CB27: 0 | CC27: 0.0075301484 | CD27: 0 | CE27: 90.954153 | CF27: 100
B28: 0.77849003 | C28: -0.25540703 | D28: 3.9753664 | E28: 18.055852 | F28: Participación de las Actividades Económicas en la Bioeconomía Extendida | G28: 0 | H28: 0 | I28: 0 | J28: 0 | K28: 0 | L28: 0 | M28: 0 | N28: 0 | O28: 0 | P28: 0 | Q28: 0 | R28: 0 | S28: 0 | T28: 0 | U28: 0 | V28: 0 | W28: 0.0039624751 | X28: 0.032722075 | Y28: 0 | Z28: 6.8832526e-05 | AA28: 0.0056750116 | AB28: 4.5876041e-05 | AC28: 0.00051519587 | AD28: 0.0017144297 | AE28: 0.0042539645 | AF28: 0 | AG28: 0 | AH28: 0.00072571819 | AI28: 0.068677362 | AJ28: 0 | AK28: 0.0028597447 | AL28: 0.022364858 | AM28: 0 | AN28: 3.0841033 | AO28: 7.5414146 | AP28: 2.5203006 | AQ28: 0.065800303 | AR28: 9.0355482 | AS28: 4.3349469 | AT28: 0 | AU28: 2.3847598 | AV28: 5.5677995 | AW28: 2.9194829 | AX28: 0.024582644 | AY28: 4.7721772e-05 | AZ28: 0.00012351264 | BA28: 0.017565328 | BB28: 3.2890814e-05 | BC28: 2.1126965 | BD28: 0.015356886 | BE28: 0.16573519 | BF28: 0.46615538 | BG28: 0.025806446 | BH28: 0.12185859 | BI28: 0.093273452 | BJ28: 0 | BK28: 2.3451486 | BL28: 2.8187344 | BM28: 0 | BN28: 0 | BO28: 0 | BP28: 0.91024831 | BQ28: 17.685769 | BR28: 0 | BS28: 0.0001597491 | BT28: 0 | BU28: 0 | BV28: 0 | BW28: 13.000646 | BX28: 0.044016531 | BY28: 0 | BZ28: 0 | CA28: 0 | CB28: 0 | CC28: 0 | CD28: 0 | CE28: 77.445699 | CF28: 100
B29: 0.84989298 | C29: -4.2709475 | D29: 1.4163599 | E29: 5.2753343 | F29: Participación de las Actividades Económicas en la No Bioeconomía | G29: 0.0049456308 | H29: 0.0068030779 | I29: 0.0049339965 | J29: 0.007575451 | K29: 0.014787061 | L29: 0.024205923 | M29: 0.0077170597 | N29: 0.003311794 | O29: 0.017535382 | P29: 0.0095080917 | Q29: 0.0026007456 | R29: 0.0026647902 | S29: 2.5915096 | T29: 7.3350098 | U29: 0.28016849 | V29: 0.10556479 | W29: 0.014892156 | X29: 0.012571003 | Y29: 0 | Z29: 4.315315e-05 | AA29: 0.0036477138 | AB29: 0.0017720594 | AC29: 0.015648941 | AD29: 0.010832005 | AE29: 0.0037791289 | AF29: 0.0048846937 | AG29: 0.00065924922 | AH29: 0.005121942 | AI29: 0.015136464 | AJ29: 0.00084898482 | AK29: 0.00069414627 | AL29: 6.9892882e-05 | AM29: 0.0019322013 | AN29: 0.0049787524 | AO29: 0.014137063 | AP29: 0.0023384203 | AQ29: 0.0086099374 | AR29: 0.017739794 | AS29: 0.057142425 | AT29: 1.4023717 | AU29: 0.036974755 | AV29: 0.081510942 | AW29: 0.0071810959 | AX29: 0.094741957 | AY29: 0.51349904 | AZ29: 0.15647871 | BA29: 0.51683895 | BB29: 0.32738222 | BC29: 0.58624583 | BD29: 0.066361582 | BE29: 0.18241581 | BF29: 0.10798784 | BG29: 0.16568838 | BH29: 0.32401506 | BI29: 0.36658313 | BJ29: 1.8075491 | BK29: 0.25978335 | BL29: 5.7151923 | BM29: 18.5839 | BN29: 6.3829969 | BO29: 0.20130816 | BP29: 0.40705165 | BQ29: 0.0072026438 | BR29: 3.042249 | BS29: 4.0073409 | BT29: 0.5123171 | BU29: 0.34732732 | BV29: 8.6697283 | BW29: 8.0614373 | BX29: 9.4290176 | BY29: 1.930876 | BZ29: 4.4680995 | CA29: 1.7453472 | CB29: 3.1070986 | CC29: 1.3488046 | CD29: 1.142134 | CE29: 96.72936 | CF29: 100
B30: 1.127204 | C30: -3.3613642 | D30: 1.4164186 | E30: 6.1165917 | F30: Participación de las Actividades Económicas en el Total de la Economía | G30: 0.38306103 | H30: 0.10174282 | I30: 0.42386015 | J30: 0.093585412 | K30: 2.355586 | L30: 0.7661202 | M30: 0.12102448 | N30: 0.44239406 | O30: 0.34796151 | P30: 0.96545561 | Q30: 0.36207581 | R30: 1.4454544 | S30: 2.0306328 | T30: 5.7475038 | U30: 0.21953201 | V30: 0.11252338 | W30: 0.97736383 | X30: 0.48153234 | Y30: 1.3543788 | Z30: 0.26995338 | AA30: 0.66356554 | AB30: 0.28799591 | AC30: 0.66534898 | AD30: 0.19634071 | AE30: 0.10819852 | AF30: 0.067075227 | AG30: 0.060866605 | AH30: 0.31241705 | AI30: 0.32687133 | AJ30: 0.034665736 | AK30: 0.26612176 | AL30: 0.32322362 | AM30: 0.020099067 | AN30: 0.18159198 | AO30: 0.44557639 | AP30: 0.14703957 | AQ30: 0.35952232 | AR30: 0.53448397 | AS30: 0.29453336 | AT30: 1.0988583 | AU30: 0.16885892 | AV30: 0.3846587 | AW30: 0.17383306 | AX30: 0.075653418 | AY30: 0.4023659 | AZ30: 0.12261936 | BA30: 0.40599225 | BB30: 0.25652923 | BC30: 0.58108858 | BD30: 0.052883825 | BE30: 0.15248465 | BF30: 0.11147375 | BG30: 0.13131552 | BH30: 0.26090982 | BI30: 0.29261801 | BJ30: 1.4168226 | BK30: 0.33867644 | BL30: 4.6406627 | BM30: 14.561812 | BN30: 5.0015338 | BO30: 0.15773932 | BP30: 0.37139803 | BQ30: 1.0246103 | BR30: 2.3838193 | BS30: 3.1400469 | BT30: 0.40143703 | BU30: 0.27215575 | BV30: 6.793351 | BW30: 7.0657446 | BX30: 7.3926011 | BY30: 1.5129792 | BZ30: 3.5010749 | CA30: 1.3676042 | CB30: 2.4346335 | CC30: 1.0580806 | CD30: 0.89494354 | CE30: 94.70115 | CF30: 100
B32: -18.54572 | C32: -14.084507 | D32: 3.2573612 | E32: -2.9669743 | F32: Tasa de evolución de la Bioeconomía | G32: 5.761092 | H32: -8.7831611 | I32: 1.3825013 | J32: 22.062929 | K32: -2.1017593 | L32: 7.4285506 | M32: -6.1898183 | N32: -7.0879435 | O32: 1.0527723 | P32: 1.6540556 | Q32: -12.181952 | R32: 17.27095 | S32: 0 | T32: 0 | U32: 0 | V32: 1.3352579 | W32: 6.303603 | X32: 9.3513376 | Y32: 25.421101 | Z32: -20.241025 | AA32: 0.062535965 | AB32: -4.3110111 | AC32: 2.0638198 | AD32: 11.74096 | AE32: -1.9065479 | AF32: 1.2469852 | AG32: 2.6918581 | AH32: 8.9876193 | AI32: -0.96819485 | AJ32: -0.93830967 | AK32: -4.5403747 | AL32: -23.147312 | AM32: -17.726642 | AN32: 0 | AO32: 0 | AP32: 0 | AQ32: -3.2608127 | AR32: 0 | AS32: 0 | AT32: 0 | AU32: 10.464433 | AV32: 0 | AW32: 0 | AX32: 0 | AY32: 0 | AZ32: 0 | BA32: 0 | BB32: 0 | BC32: 0 | BD32: 0 | BE32: 0 | BF32: 0 | BG32: 0 | BH32: 0 | BI32: 0 | BJ32: 1.8153593 | BK32: 3.7135512 | BL32: 0 | BM32: 0 | BN32: 0 | BO32: 0 | BP32: 0 | BQ32: 0 | BR32: 0 | BS32: 0 | BT32: 0 | BU32: 0 | BV32: 0 | BW32: 0 | BX32: -18.182395 | BY32: 0 | BZ32: 0 | CA32: 0 | CB32: 0 | CC32: 1.056388 | CD32: 0 | CE32: 2.8189302 | CF32: 1.7611113
B33: 0.055946954 | C33: 3.820696 | D33: 0.35571256 | E33: -0.66945221 | F33: Tasa de evolución de la Bioeconomía Extendida | G33: 0 | H33: 0 | I33: 0 | J33: 0 | K33: 0 | L33: 0 | M33: 0 | N33: 0 | O33: 0 | P33: 0 | Q33: 0 | R33: 0 | S33: 0 | T33: 0 | U33: 0 | V33: 0 | W33: -1.5337555 | X33: 2.2008161 | Y33: 0 | Z33: -11.354513 | AA33: -2.1927289 | AB33: -1.8658308 | AC33: -2.6741392 | AD33: -4.1715526 | AE33: 3.8845836 | AF33: 0 | AG33: 0 | AH33: -3.5094314 | AI33: -1.5632022 | AJ33: 0 | AK33: 1.86149 | AL33: -4.5175814 | AM33: 0 | AN33: -8.6919143 | AO33: -2.7244596 | AP33: -0.39126383 | AQ33: -3.50992 | AR33: -0.3439709 | AS33: -2.202275 | AT33: 0 | AU33: -11.371902 | AV33: -8.4000965 | AW33: -1.7442377 | AX33: 4.2297809 | AY33: 1.3971318 | AZ33: -0.89307739 | BA33: 5.3358847 | BB33: 0.45466016 | BC33: 1.1268291 | BD33: 1.384274 | BE33: -5.3657383 | BF33: -0.70636563 | BG33: -3.5299234 | BH33: -5.8190324 | BI33: -1.2700605 | BJ33: 0 | BK33: 14.553685 | BL33: -8.6007421 | BM33: 0 | BN33: 0 | BO33: 0 | BP33: 4.0572 | BQ33: 6.5631266 | BR33: 0 | BS33: 3.6414158 | BT33: 0 | BU33: 0 | BV33: 0 | BW33: -0.9619358 | BX33: 5.0541263 | BY33: 0 | BZ33: 0 | CA33: 0 | CB33: 0 | CC33: 0 | CD33: 0 | CE33: -0.61509401 | CF33: -0.59234554
B34: -0.50638989 | C34: 6.2581382 | D34: 4.9440188 | E34: -0.20199112 | F34: Tasa de evolución de la No Bioeconomía | G34: 5.73294 | H34: -12.56597 | I34: 1.1479408 | J34: 20.389124 | K34: -2.072717 | L34: 6.8970241 | M34: -7.6024098 | N34: -7.0637463 | O34: 1.1174206 | P34: 1.2031595 | Q34: -12.14077 | R34: 17.259358 | S34: -14.789429 | T34: 11.116409 | U34: 9.677105 | V34: -11.430649 | W34: -18.007428 | X34: 9.1034266 | Y34: -100 | Z34: -20.219062 | AA34: 0.051168248 | AB34: -4.2948944 | AC34: 3.849943 | AD34: 9.1527377 | AE34: -1.6956282 | AF34: 19.395634 | AG34: 2.5674308 | AH34: 8.3419518 | AI34: -0.74974881 | AJ34: -0.59538776 | AK34: -4.5229993 | AL34: -23.409155 | AM34: 0 | AN34: -8.5746149 | AO34: -2.6206011 | AP34: -0.35122619 | AQ34: -3.986095 | AR34: -0.050656008 | AS34: 0.26385966 | AT34: -19.213313 | AU34: 1.7573238 | AV34: -1.2393316 | AW34: -1.581968 | AX34: -1.1207594 | AY34: 1.5169881 | AZ34: -14.627687 | BA34: -5.0536715 | BB34: -4.2552638 | BC34: -2.6996428 | BD34: -26.366171 | BE34: -7.1138243 | BF34: -7.7119994 | BG34: -23.432846 | BH34: -8.8952046 | BI34: -1.2651898 | BJ34: 7.027806 | BK34: 6.2575523 | BL34: -9.2492452 | BM34: 2.8060957 | BN34: 3.745961 | BO34: 2.6345054 | BP34: 0.62466726 | BQ34: 6.5894656 | BR34: -0.025710927 | BS34: 1.7067138 | BT34: 1.7540803 | BU34: 9.0798757 | BV34: -0.04421371 | BW34: -2.2182293 | BX34: -0.76206346 | BY34: 3.463972 | BZ34: -0.72837691 | CA34: 3.9572907 | CB34: -2.7398953 | CC34: 4.7610383 | CD34: 13.74422 | CE34: 0.10722775 | CF34: -0.096114791
B35: -8.0115282 | C35: 6.2467942 | D35: 4.0814321 | E35: -0.71748101 | F35: Tasa de evolución del Valor Agregado Total de la Economía | G35: 5.7608071 | H35: -8.9894642 | I35: 1.3803569 | J35: 21.955382 | K35: -2.1016165 | L35: 7.4153276 | M35: -6.2614214 | N35: -7.0878016 | O35: 1.0553236 | P35: 1.6505607 | Q35: -12.18172 | R35: 17.270934 | S35: -14.789429 | T35: 11.116409 | U35: 9.677105 | V35: -8.3731062 | W35: 5.9266485 | X35: 9.3163118 | Y35: 25.419655 | Z35: -20.240905 | AA35: 0.061350123 | AB35: -4.3109115 | AC35: 2.0959595 | AD35: 11.617223 | AE35: -1.8883976 | AF35: 2.1328656 | AG35: 2.6908008 | AH35: 8.9773872 | AI35: -0.96753223 | AJ35: -0.93175121 | AK35: -4.5366245 | AL35: -23.087533 | AM35: -11.024302 | AN35: -8.6893975 | AO35: -2.7218803 | AP35: -0.39076511 | AQ35: -3.2771564 | AR35: -0.33636442 | AS35: -1.8352203 | AT35: -19.213313 | AU35: -9.0946368 | AV35: -7.2838771 | AW35: -1.7389935 | AX35: -1.025641 | AY35: 1.5169873 | AZ35: -14.627001 | BA35: -5.0303219 | BB35: -4.2552306 | BC35: -1.9222629 | BD35: -26.027415 | BE35: -7.006254 | BF35: -6.1160788 | BG35: -23.253567 | BH35: -8.8150603 | BI35: -1.2652793 | BJ35: 7.025954 | BK35: 9.4189459 | BL35: -9.226706 | BM35: 2.8060957 | BN35: 3.745961 | BO35: 2.6345054 | BP35: 1.0955697 | BQ35: 6.5632716 | BR35: -0.025710927 | BS35: 1.7067194 | BT35: 1.7540803 | BU35: 9.0798757 | BV35: -0.04421371 | BW35: -2.0865631 | BX35: -0.76519931 | BY35: 3.463972 | BZ35: -0.72837691 | CA35: 3.9572907 | CB35: -2.7398953 | CC35: 4.7566978 | CD35: 13.74422 | CE35: 0.47701471 | CF35: 0.16540446
... B45: -0.098333664 | C45: -0.19795874 | D45: 0.055635074 | E45: -0.044275642 | F45: Contribución de las Actividades Económicas en el PIB | G45: 0.020899904 | H45: -0.010066156 | I45: 0.0057806662 | J45: 0.016875861 | K45: -0.050651774 | L45: 0.052975949 | M45: -0.0080973987 | N45: -0.033803825 | O45: 0.0036397821 | P45: 0.015702608 | Q45: -0.050308451 | R45: 0.21322964 | S45: -0.3530263 | T45: 0.57594807 | U45: 0.019401937 | V45: -0.01029969 | W45: 0.054774441 | X45: 0.041105719 | Y45: 0.27495521 | Z45: -0.068620872 | AA45: 0.00040752162 | AB45: -0.012996032 | AC45: 0.013681747 | AD45: 0.020469122 | AE45: -0.0020859896 | AF45: 0.0014030653 | AG45: 0.001597522 | AH45: 0.025778999 | AI45: -0.0031987656 | AJ45: -0.00032657554 | AK45: -0.012667595 | AL45: -0.097185532 | AM45: -0.0040109636 | AN45: -0.017309434 | AO45: -0.012488025 | AP45: -0.0005777875 | AQ45: -0.012201458 | AR45: -0.0018068653 | AS45: -0.0055154981 | AT45: -0.26177123 | AU45: -0.016921451 | AV45: -0.03026918 | AW45: -0.0030815333 | AX45: -0.00078526997 | AY45: 0.006022574 | AZ45: -0.021043188 | BA45: -0.02154003 | BB45: -0.011419909 | BC45: -0.011407814 | BD45: -0.018638066 | BE45: -0.011507368 | BF45: -0.0072739817 | BG45: -0.039853381 | BH45: -0.025264479 | BI45: -0.0037560839 | BJ45: 0.09316428 | BK45: 0.029201994 | BL45: -0.47248317 | BM45: 0.39812257 | BN45: 0.18088936 | BO45: 0.0040556775 | BP45: 0.0040314867 | BQ45: 0.063210511 | BR45: -0.00061407367 | BS45: 0.052779632 | BT45: 0.0069315892 | BU45: 0.022691883 | BV45: -0.0030098914 | BW45: -0.15082208 | BX45: -0.057098617 | BY45: 0.050738302 | BZ45: -0.025730617 | CA45: 0.05214602 | CB45: -0.068699027 | CC45: 0.048123837 | CD45: 0.10831887 | CE45: 0.45033744 | CF45: 0.16540446
B47: (pb): precios básicos
B48: (pc): precios de comprador | CE48: PIB PRODUCCIÓN | CF48: 1.0765674e+08
B49: Elaboración: Banco Central del Ecuador
CE50: PIB BIOECONOMÍA | CF50: 23299998

Sheet 2019
G8: A | S8: B | W8: C | BJ8: D | BK8: E | BL8: F | BM8: G | BN8: H | BP8: I | BR8: J | BS8: K | BV8: L | BW8: M - N | BX8: O | BY8: P | CA8: Q | CC8: R - S - U | CD8: T
G9: AGRICULTURA, GANADERÍA, SILVICULTURA Y PESCA. | S9: EXPLOTACIÓN DE MINAS Y CANTERAS. | W9: INDUSTRIAS MANUFACTURERAS. | BJ9: SUMINISTRO DE ELECTRICIDAD, GAS, VAPOR Y AIRE ACONDICIONADO. | BK9: DISTRIBUCIÓN DE AGUA; ALCANTARILLADO, GESTIÓN DE DESECHOS Y ACTIVIDADES DE SANEAMIENTO. | BL9: CONSTRUCCIÓN. | BM9: COMERCIO AL POR MAYOR Y AL POR MENOR; REPARACIÓN DE VEHÍCULOS AUTOMOTORES Y MOTOCICLETAS. | BN9: TRANSPORTE Y ALMACENAMIENTO. | BP9: ACTIVIDADES DE ALOJAMIENTO Y DE SERVICIO DE COMIDAS. | BR9: INFORMACIÓN Y COMUNICACIÓN. | BS9: ACTIVIDADES FINANCIERAS Y DE SEGUROS. | BV9: ACTIVIDADES INMOBILIARIAS. | BW9: ACTIVIDADES PROFESIONALES, CIENTÍFICAS Y TÉCNICAS, Y ACTIVIDADES DE SERVICIOS ADMINISTRATIVOS Y DE APOYO. | BX9: ADMINISTRACIÓN PÚBLICA Y DEFENSA; PLANES DE SEGURIDAD SOCIAL DE AFILIACIÓN OBLIGATORIA. | BY9: ENSEÑANZA. | CA9: ACTIVIDADES DE ATENCIÓN DE LA SALUD HUMANA Y DE ASISTENCIA SOCIAL. | CC9: ARTES, ENTRETENIMIENTO Y RECREACIÓN, OTRAS ACTIVIDADES DE SERVICIOS, Y ACTIVIDADES DE ORGANIZACIONES Y ÓRGANOS EXTRATERRITORIALES | CD9: ACTIVIDADES DE LOS HOGARES COMO EMPLEADORES; ACTIVIDADES NO DIFERENCIADAS DE LOS HOGARES COMO PRODUCTORES DE BIENES Y SERVICIOS PARA USO PROPIO.
B10: Otros elementos del PIB | G10: 01 | H10: 02 | I10: 03 | J10: 04 | K10: 05 | L10: 06 | M10: 07 | N10: 08 | O10: 09 | P10: 10 | Q10: 11 | R10: 12 | S10: 13 | T10: 14 | U10: 15 | V10: 16 | W10: 17 | X10: 18 | Y10: 19 | Z10: 20 | AA10: 21 | AB10: 22 | AC10: 23 | AD10: 24 | AE10: 25 | AF10: 26 | AG10: 27 | AH10: 28 | AI10: 29 | AJ10: 30 | AK10: 31 | AL10: 32 | AM10: 33 | AN10: 34 | AO10: 35 | AP10: 36 | AQ10: 37 | AR10: 38 | AS10: 39 | AT10: 40 | AU10: 41 | AV10: 42 | AW10: 43 | AX10: 44 | AY10: 45 | AZ10: 46 | BA10: 47 | BB10: 48 | BC10: 49 | BD10: 50 | BE10: 51 | BF10: 52 | BG10: 53 | BH10: 54 | BI10: 55 | BJ10: 56 | BK10: 57 | BL10: 58 | BM10: 59 | BN10: 60 | BO10: 61 | BP10: 62 | BQ10: 63 | BR10: 64 | BS10: 65 | BT10: 66 | BU10: 67 | BV10: 68 | BW10: 69 | BX10: 70 | BY10: 71 | BZ10: 72 | CA10: 73 | CB10: 74 | CC10: 75 | CD10: 76
B11: Impuestos indirectos sobre productos | C11: Subsidios sobre productos | D11: Derechos arancelarios | E11: Impuesto al valor agregado (IVA) | F11: Descripción | G11: Cultivo de cereales (excepto arroz), legumbres y semillas oleaginosas | H11: Cultivo de arroz | I11: Cultivo de hortalizas y melones, raíces y tubérculos | J11: Cultivo de caña de azúcar | K11: Cultivos de frutas, y otros tipos de cultivos n.c.p. | L11: Cultivo de otras plantas no perennes y propagación de plantas | M11: Cultivo de frutos oleaginosos | N11: Cultivo de plantas con las que se preparan bebidas | O11: Actividades de apoyo a la agricultura, poscosecha y tratamiento de semillas para propagación | P11: Ganadería | Q11: Silvicultura y extracción de madera | R11: Pesca y acuicultura | S11: Servicios Petroleros | T11: Extracción de petróleo crudo y gas natural | U11: Extracción de minerales metálicos | V11: Explotación de otras minas y canteras, y actividades de apoyo | W11: Elaboración y conservación de carne | X11: Preparación y conservación de pescado y otros productos acuaticos elaborados | Y11: Procesamiento y conservación de camarón | Z11: Elaboración de aceites y grasas de origen vegetal y animal | AA11: Elaboración de productos lácteos | AB11: Elaboración de productos de la panadería y pastelería | AC11: Elaboración de productos de molinería | AD11: Elaboración y refinación de azúcar | AE11: Elaboración de cacao, chocolate y productos de confitería | AF11: Elaboración de fideos y de otros productos farináceos | AG11: Elaboración de café | AH11: Elaboración de alimentos preparados para animales | AI11: Elaboración de otros productos alimenticios diversos | AJ11: Elaboración bebidas no alcohólicas (jugos) | AK11: Elaboración bebidas no alcohólicas (excepto jugos) | AL11: Elaboración bebidas alcohólicas | AM11: Elaboración de productos de tabaco | AN11: Fabricación de hilos, hilados; tejidos y confecciones | AO11: Fabricación de prendas de vestir | AP11: Fabricación de cuero, productos de cuero y calzado | AQ11: Producción de madera y de productos de madera | AR11: Fabricación de papel y productos de papel | AS11: Impresión y reproducción de grabaciones | AT11: Fabricación de productos refinados de petróleo y de otros | AU11: Fabricación de sustancias químicas básicas, abonos y plásticos primarios, caucho sintético y artificial | AV11: Fabricación de otros productos químicos | AW11: Fabricación de productos farmacéuticos y medicamentos | AX11: Fabricación de productos de caucho | AY11: Fabricación de productos de plástico | AZ11: Fabricación de vidrio, productos refractarios y de cerámica | BA11: Fabricación de cemento, artículos de hormigón y piedra | BB11: Fabricación de metales comunes | BC11: Fabricación de productos derivados del metal, excepto maquinaria y equipo | BD11: Fabricación de productos de informática, electrónica y óptica | BE11: Fabricación de equipo eléctrico | BF11: Fabricación de maquinaria y equipo n.c.p. | BG11: Fabricación de vehículos y equipos de transporte | BH11: Fabricación de muebles | BI11: Industrias manufactureras n.c.p. | BJ11: Suministro de electricidad, gas, vapor y aire acondicionado | BK11: Distribución de agua; alcantarillado, gestión de desechos y actividades de saneamiento | BL11: Construcción | BM11: Comercio al por mayor y al por menor; reparación de vehículos automotores y motocicletas | BN11: Transporte y almacenamiento | BO11: Actividades postales y de mensajería | BP11: Actividades de alojamiento | BQ11: Servicio de alimento y bebida | BR11: Información y comunicación | BS11: Actividades de servicios financieros, excepto las de seguros y fondos de pensiones | BT11: Seguros, reaseguros y fondos de pensiones, excepto los planes de seguridad social de afiliación obligatoria | BU11: Actividades auxiliares de las actividades de servicios financieros | BV11: Actividades inmobiliarias | BW11: Actividades profesionales, científicas, técnicas y administrativas | BX11: Administración pública y defensa; planes de seguridad social de afiliación obligatoria | BY11: Servicios de enseñanza privada | BZ11: Servicios de enseñanza pública (no de mercado) | CA11: Actividades de atención de la salud humana y de asistencia social privada | CB11: Actividades de atención de la salud humana y de asistencia social no de mercado | CC11: Servicios de asociaciones, personales; esparcimiento; culturales y deportivos | CD11: Actividades de los hogares como empleadores de personal doméstico | CE11: Total de las Industrias | CF11: ECONOMÍA TOTAL
F12: Productos directamente vinculados con la Bioeconomía | G12: 667792 | H12: 279231 | I12: 783459 | J12: 210258 | K12: 4963681 | L12: 1334968 | M12: 275152 | N12: 831122 | O12: 581195 | P12: 2357535 | Q12: 513439 | R12: 4404862 | S12: 0 | T12: 0 | U12: 0 | V12: 67486 | W12: 2556095 | X12: 2151552 | Y12: 4077542 | Z12: 1287212 | AA12: 1739260 | AB12: 648517 | AC12: 1733499 | AD12: 441519 | AE12: 348023 | AF12: 220028 | AG12: 170087 | AH12: 1616693 | AI12: 880379 | AJ12: 126757 | AK12: 836971 | AL12: 598581 | AM12: 47750 | AN12: 0 | AO12: 0 | AP12: 0 | AQ12: 1175069 | AR12: 0 | AS12: 0 | AT12: 0 | AU12: 43313 | AV12: 0 | AW12: 0 | AX12: 0 | AY12: 0 | AZ12: 0 | BA12: 0 | BB12: 0 | BC12: 0 | BD12: 0 | BE12: 0 | BF12: 0 | BG12: 0 | BH12: 0 | BI12: 0 | BJ12: 1071 | BK12: 2 | BL12: 0 | BM12: 0 | BN12: 0 | BO12: 0 | BP12: 0 | BQ12: 0 | BR12: 0 | BS12: 0 | BT12: 0 | BU12: 0 | BV12: 0 | BW12: 0 | BX12: 2336 | BY12: 0 | BZ12: 0 | CA12: 0 | CB12: 0 | CC12: 6857 | CD12: 0 | CE12: 37979293 | CF12: 37979293
F13: Productos funcionalmente relacionados con la Bioeconomía | G13: 0 | H13: 0 | I13: 0 | J13: 0 | K13: 0 | L13: 0 | M13: 0 | N13: 0 | O13: 0 | P13: 0 | Q13: 0 | R13: 0 | S13: 0 | T13: 0 | U13: 0 | V13: 0 | W13: 745 | X13: 18458 | Y13: 0 | Z13: 20 | AA13: 804 | AB13: 2 | AC13: 85 | AD13: 5 | AE13: 419 | AF13: 0 | AG13: 0 | AH13: 191 | AI13: 20533 | AJ13: 0 | AK13: 197 | AL13: 1397 | AM13: 0 | AN13: 536358 | AO13: 1007883 | AP13: 389407 | AQ13: 11145 | AR13: 1854903 | AS13: 577891 | AT13: 0 | AU13: 468139 | AV13: 923022 | AW13: 449482 | AX13: 1816 | AY13: 8 | AZ13: 97 | BA13: 2365 | BB13: 169 | BC13: 223917 | BD13: 7137 | BE13: 40384 | BF13: 65494 | BG13: 11692 | BH13: 25428 | BI13: 9484 | BJ13: 0 | BK13: 305491 | BL13: 404416 | BM13: 0 | BN13: 0 | BO13: 0 | BP13: 111100 | BQ13: 2265242 | BR13: 0 | BS13: 15 | BT13: 0 | BU13: 0 | BV13: 0 | BW13: 1367802 | BX13: 3187 | BY13: 0 | BZ13: 0 | CA13: 0 | CB13: 0 | CC13: 0 | CD13: 0 | CE13: 11106330 | CF13: 11106330
F14: Productos no relacionados con la Bioeconomía | G14: 7478 | H14: 19755 | I14: 6865 | J14: 12977 | K14: 31712 | L14: 43457 | M14: 19835 | N14: 7571 | O14: 26069 | P14: 19961 | Q14: 3732 | R14: 11834 | S14: 3830097 | T14: 8720500 | U14: 485477 | V14: 217863 | W14: 13013 | X14: 47938 | Y14: 0 | Z14: 1754 | AA14: 8090 | AB14: 4790 | AC14: 26732 | AD14: 17975 | AE14: 6664 | AF14: 18298 | AG14: 1043 | AH14: 25368 | AI14: 46247 | AJ14: 647 | AK14: 1995 | AL14: 352 | AM14: 4000 | AN14: 21364 | AO14: 38356 | AP14: 5127 | AQ14: 20923 | AR14: 50108 | AS14: 127095 | AT14: 4145324 | AU14: 99015 | AV14: 177032 | AW14: 24907 | AX14: 198708 | AY14: 1311482 | AZ14: 369405 | BA14: 983375 | BB14: 1312155 | BC14: 1014599 | BD14: 184423 | BE14: 610067 | BF14: 189594 | BG14: 785179 | BH14: 739801 | BI14: 599720 | BJ14: 3106879 | BK14: 468979 | BL14: 11075342 | BM14: 23670709 | BN14: 11278133 | BO14: 351940 | BP14: 632113 | BQ14: 23275 | BR14: 4811907 | BS14: 5159434 | BT14: 1447773 | BU14: 553068 | BV14: 10000840 | BW14: 11230175 | BX14: 9424137 | BY14: 2605074 | BZ14: 4340350 | CA14: 3100150 | CB14: 4302854 | CC14: 2316007 | CD14: 912513 | CE14: 137509500 | CF14: 137509500
F15: Producción Total de la Economía (pb) | G15: 675270 | H15: 298986 | I15: 790324 | J15: 223235 | K15: 4995393 | L15: 1378425 | M15: 294987 | N15: 838693 | O15: 607264 | P15: 2377496 | Q15: 517171 | R15: 4416696 | S15: 3830097 | T15: 8720500 | U15: 485477 | V15: 285349 | W15: 2569853 | X15: 2217948 | Y15: 4077542 | Z15: 1288986 | AA15: 1748154 | AB15: 653309 | AC15: 1760316 | AD15: 459499 | AE15: 355106 | AF15: 238326 | AG15: 171130 | AH15: 1642252 | AI15: 947159 | AJ15: 127404 | AK15: 839163 | AL15: 600330 | AM15: 51750 | AN15: 557722 | AO15: 1046239 | AP15: 394534 | AQ15: 1207137 | AR15: 1905011 | AS15: 704986 | AT15: 4145324 | AU15: 610467 | AV15: 1100054 | AW15: 474389 | AX15: 200524 | AY15: 1311490 | AZ15: 369502 | BA15: 985740 | BB15: 1312324 | BC15: 1238516 | BD15: 191560 | BE15: 650451 | BF15: 255088 | BG15: 796871 | BH15: 765229 | BI15: 609204 | BJ15: 3107950 | BK15: 774472 | BL15: 11479758 | BM15: 23670709 | BN15: 11278133 | BO15: 351940 | BP15: 743213 | BQ15: 2288517 | BR15: 4811907 | BS15: 5159449 | BT15: 1447773 | BU15: 553068 | BV15: 10000840 | BW15: 12597977 | BX15: 9429660 | BY15: 2605074 | BZ15: 4340350 | CA15: 3100150 | CB15: 4302854 | CC15: 2322864 | CD15: 912513 | CE15: 186595123 | CF15: 186595123
F17: Productos directamente vinculados con la Bioeconomía | G17: 261690.56 | H17: 163616.48 | I17: 320294.44 | J17: 115615.29 | K17: 2366082.6 | L17: 553059.35 | M17: 147872.27 | N17: 321292.23 | O17: 218172.08 | P17: 1301850.4 | Q17: 124728.39 | R17: 3040393.7 | S17: 0 | T17: 0 | U17: 0 | V17: 38732.63 | W17: 1534998 | X17: 1668201 | Y17: 2777501 | Z17: 966175.44 | AA17: 1112941.8 | AB17: 331600.75 | AC17: 1033659.4 | AD17: 258059.05 | AE17: 246602.13 | AF17: 147548.55 | AG17: 112934.47 | AH17: 1266596.8 | AI17: 533527.93 | AJ17: 95597.048 | AK17: 580890.67 | AL17: 273643.44 | AM17: 30762.072 | AN17: 0 | AO17: 0 | AP17: 0 | AQ17: 756752.97 | AR17: 0 | AS17: 0 | AT17: 0 | AU17: 29432.366 | AV17: 0 | AW17: 0 | AX17: 0 | AY17: 0 | AZ17: 0 | BA17: 0 | BB17: 0 | BC17: 0 | BD17: 0 | BE17: 0 | BF17: 0 | BG17: 0 | BH17: 0 | BI17: 0 | BJ17: 516.70379 | BK17: 0.9966687 | BL17: 0 | BM17: 0 | BN17: 0 | BO17: 0 | BP17: 0 | BQ17: 0 | BR17: 0 | BS17: 0 | BT17: 0 | BU17: 0 | BV17: 0 | BW17: 0 | BX17: 353.38662 | BY17: 0 | BZ17: 0 | CA17: 0 | CB17: 0 | CC17: 3382.3343 | CD17: 0 | CE17: 22735079 | CF17: 22735079
F18: Productos funcionalmente relacionados con la Bioeconomía | G18: 0 | H18: 0 | I18: 0 | J18: 0 | K18: 0 | L18: 0 | M18: 0 | N18: 0 | O18: 0 | P18: 0 | Q18: 0 | R18: 0 | S18: 0 | T18: 0 | U18: 0 | V18: 0 | W18: 447.39084 | X18: 14311.369 | Y18: 0 | Z18: 15.011909 | AA18: 514.47466 | AB18: 1.0226432 | AC18: 50.684224 | AD18: 2.9224003 | AE18: 296.89501 | AF18: 0 | AG18: 0 | AH18: 149.6388 | AI18: 12443.424 | AJ18: 0 | AK18: 136.72572 | AL18: 638.64353 | AM18: 0 | AN18: 338048.01 | AO18: 547310.55 | AP18: 236797.29 | AQ18: 7177.461 | AR18: 1295865.7 | AS18: 312428.01 | AT18: 0 | AU18: 318113.24 | AV18: 577529.17 | AW18: 262318.24 | AX18: 1135.9283 | AY18: 5.2853594 | AZ18: 59.889235 | BA18: 1312.9188 | BB18: 132.68633 | BC18: 117343.29 | BD18: 4728.2811 | BE18: 28752.346 | BF18: 34006.619 | BG18: 9291.0252 | BH18: 15094.694 | BI18: 4503.9831 | BJ18: 0 | BK18: 152236.66 | BL18: 223884.24 | BM18: 0 | BN18: 0 | BO18: 0 | BP18: 51325.449 | BQ18: 1155856.8 | BR18: 0 | BS18: 5.0109653 | BT18: 0 | BU18: 0 | BV18: 0 | BW18: 526322.77 | BX18: 482.12464 | BY18: 0 | BZ18: 0 | CA18: 0 | CB18: 0 | CC18: 0 | CD18: 0 | CE18: 6251075.8 | CF18: 6251075.8
F19: Productos no relacionados con la Bioeconomía | G19: 2930.4365 | H19: 11575.518 | I19: 2806.5557 | J19: 7135.7078 | K19: 15116.445 | L19: 18003.653 | M19: 10659.732 | N19: 2926.7706 | O19: 9785.9203 | P19: 11022.63 | Q19: 906.60501 | R19: 8168.2513 | S19: 1331935 | T19: 3667401 | U19: 246673 | V19: 125039.37 | W19: 7814.6269 | X19: 37168.621 | Y19: 0 | Z19: 1316.5444 | AA19: 5176.7413 | AB19: 2449.2304 | AC19: 15939.89 | AD19: 10506.029 | AE19: 4721.9769 | AF19: 12270.453 | AG19: 692.53177 | AH19: 19874.539 | AI19: 28026.641 | AJ19: 487.95167 | AK19: 1384.6082 | AL19: 160.91806 | AM19: 2576.9275 | AN19: 13464.995 | AO19: 20828.453 | AP19: 3117.7141 | AQ19: 13474.564 | AR19: 35006.272 | AS19: 68711.986 | AT19: 3213381 | AU19: 67283.397 | AV19: 110767.83 | AW19: 14535.756 | AX19: 124294.07 | AY19: 866456.71 | AZ19: 228076.11 | BA19: 545916.08 | BB19: 1030207.3 | BC19: 531698.71 | BD19: 122180.72 | BE19: 434351.65 | BF19: 98443.381 | BG19: 623940.97 | BH19: 439164.31 | BI19: 284809.02 | BJ19: 1498913.3 | BK19: 233708.34 | BL19: 6131296.8 | BM19: 8394023 | BN19: 5861281 | BO19: 183115 | BP19: 292020.55 | BQ19: 11876.244 | BR19: 2325936 | BS19: 1723583 | BT19: 1001195 | BU19: 267598 | BV19: 2616852 | BW19: 4321310.2 | BX19: 1425669.5 | BY19: 919285 | BZ19: 576014 | CA19: 1578822 | CB19: 1586418 | CC19: 1142410.7 | CD19: 0 | CE19: 56604093 | CF19: 56604093
F20: Demanda Intermedia Total de la Economía (pc) | G20: 264621 | H20: 175192 | I20: 323101 | J20: 122751 | K20: 2381199 | L20: 571063 | M20: 158532 | N20: 324219 | O20: 227958 | P20: 1312873 | Q20: 125635 | R20: 3048562 | S20: 1331935 | T20: 3667401 | U20: 246673 | V20: 163772 | W20: 1543260 | X20: 1719681 | Y20: 2777501 | Z20: 967507 | AA20: 1118633 | AB20: 334051 | AC20: 1049650 | AD20: 268568 | AE20: 251621 | AF20: 159819 | AG20: 113627 | AH20: 1286621 | AI20: 573998 | AJ20: 96085 | AK20: 582412 | AL20: 274443 | AM20: 33339 | AN20: 351513 | AO20: 568139 | AP20: 239915 | AQ20: 777405 | AR20: 1330872 | AS20: 381140 | AT20: 3213381 | AU20: 414829 | AV20: 688297 | AW20: 276854 | AX20: 125430 | AY20: 866462 | AZ20: 228136 | BA20: 547229 | BB20: 1030340 | BC20: 649042 | BD20: 126909 | BE20: 463104 | BF20: 132450 | BG20: 633232 | BH20: 454259 | BI20: 289313 | BJ20: 1499430 | BK20: 385946 | BL20: 6355181 | BM20: 8394023 | BN20: 5861281 | BO20: 183115 | BP20: 343346 | BQ20: 1167733 | BR20: 2325936 | BS20: 1723588 | BT20: 1001195 | BU20: 267598 | BV20: 2616852 | BW20: 4847633 | BX20: 1426505 | BY20: 919285 | BZ20: 576014 | CA20: 1578822 | CB20: 1586418 | CC20: 1145793 | CD20: 0 | CE20: 85590248 | CF20: 85590248
B22: 553732 | C22: -26 | D22: 73873 | E22: 1012547 | F22: Productos directamente vinculados con la Bioeconomía | G22: 406101.44 | H22: 115614.52 | I22: 463164.56 | J22: 94642.708 | K22: 2597598.4 | L22: 781908.65 | M22: 127279.73 | N22: 509829.77 | O22: 363022.92 | P22: 1055684.6 | Q22: 388710.61 | R22: 1364468.3 | S22: 0 | T22: 0 | U22: 0 | V22: 28753.37 | W22: 1021097 | X22: 483350.99 | Y22: 1300041 | Z22: 321036.56 | AA22: 626318.22 | AB22: 316916.25 | AC22: 699839.57 | AD22: 183459.95 | AE22: 101420.87 | AF22: 72479.453 | AG22: 57152.532 | AH22: 350096.18 | AI22: 346851.07 | AJ22: 31159.952 | AK22: 256080.33 | AL22: 324937.56 | AM22: 16987.928 | AN22: 0 | AO22: 0 | AP22: 0 | AQ22: 418316.03 | AR22: 0 | AS22: 0 | AT22: 0 | AU22: 13880.634 | AV22: 0 | AW22: 0 | AX22: 0 | AY22: 0 | AZ22: 0 | BA22: 0 | BB22: 0 | BC22: 0 | BD22: 0 | BE22: 0 | BF22: 0 | BG22: 0 | BH22: 0 | BI22: 0 | BJ22: 554.29621 | BK22: 1.0033313 | BL22: 0 | BM22: 0 | BN22: 0 | BO22: 0 | BP22: 0 | BQ22: 0 | BR22: 0 | BS22: 0 | BT22: 0 | BU22: 0 | BV22: 0 | BW22: 0 | BX22: 1982.6134 | BY22: 0 | BZ22: 0 | CA22: 0 | CB22: 0 | CC22: 3474.6657 | CD22: 0 | CE22: 15244214 | CF22: 16884340
B23: 45052 | C23: -5607 | D23: 238486 | E23: 1144242 | F23: Productos funcionalmente relacionados con la Bioeconomía | G23: 0 | H23: 0 | I23: 0 | J23: 0 | K23: 0 | L23: 0 | M23: 0 | N23: 0 | O23: 0 | P23: 0 | Q23: 0 | R23: 0 | S23: 0 | T23: 0 | U23: 0 | V23: 0 | W23: 297.60916 | X23: 4146.6312 | Y23: 0 | Z23: 4.9880914 | AA23: 289.52534 | AB23: 0.97735681 | AC23: 34.315776 | AD23: 2.0775997 | AE23: 122.10499 | AF23: 0 | AG23: 0 | AH23: 41.361205 | AI23: 8089.5761 | AJ23: 0 | AK23: 60.274282 | AL23: 758.35647 | AM23: 0 | AN23: 198309.99 | AO23: 460572.45 | AP23: 152609.71 | AQ23: 3967.539 | AR23: 559037.27 | AS23: 265462.99 | AT23: 0 | AU23: 150025.76 | AV23: 345492.83 | AW23: 187163.76 | AX23: 680.07173 | AY23: 2.7146406 | AZ23: 37.110765 | BA23: 1052.0812 | BB23: 36.313666 | BC23: 106573.71 | BD23: 2408.7189 | BE23: 11631.654 | BF23: 31487.381 | BG23: 2400.9748 | BH23: 10333.306 | BI23: 4980.0169 | BJ23: 0 | BK23: 153254.34 | BL23: 180531.76 | BM23: 0 | BN23: 0 | BO23: 0 | BP23: 59774.551 | BQ23: 1109385.2 | BR23: 0 | BS23: 9.9890347 | BT23: 0 | BU23: 0 | BV23: 0 | BW23: 841479.23 | BX23: 2704.8754 | BY23: 0 | BZ23: 0 | CA23: 0 | CB23: 0 | CC23: 0 | CD23: 0 | CE23: 4855254.2 | CF23: 6277427.2
B24: 651783 | C24: -2518249 | D24: 1013330 | E24: 4381792 | F24: Productos no relacionados con la Bioeconomía | G24: 4547.5635 | H24: 8179.4815 | I24: 4058.4443 | J24: 5841.2922 | K24: 16595.555 | L24: 25453.347 | M24: 9175.2685 | N24: 4644.2294 | O24: 16283.08 | P24: 8938.3703 | Q24: 2825.395 | R24: 3665.7487 | S24: 2498162 | T24: 5053099 | U24: 238804 | V24: 92823.63 | W24: 5198.3731 | X24: 10769.379 | Y24: 0 | Z24: 437.45562 | AA24: 2913.2587 | AB24: 2340.7696 | AC24: 10792.11 | AD24: 7468.971 | AE24: 1942.0231 | AF24: 6027.5467 | AG24: 350.46823 | AH24: 5493.4609 | AI24: 18220.359 | AJ24: 159.04833 | AK24: 610.39184 | AL24: 191.08194 | AM24: 1423.0725 | AN24: 7899.0054 | AO24: 17527.547 | AP24: 2009.2859 | AQ24: 7448.436 | AR24: 15101.728 | AS24: 58383.014 | AT24: 931943 | AU24: 31731.603 | AV24: 66264.17 | AW24: 10371.244 | AX24: 74413.928 | AY24: 445025.29 | AZ24: 141328.89 | BA24: 437458.92 | BB24: 281947.69 | BC24: 482900.29 | BD24: 62242.281 | BE24: 175715.35 | BF24: 91150.619 | BG24: 161238.03 | BH24: 300636.69 | BI24: 314910.98 | BJ24: 1607965.7 | BK24: 235270.66 | BL24: 4944045.2 | BM24: 15276686 | BN24: 5416852 | BO24: 168825 | BP24: 340092.45 | BQ24: 11398.756 | BR24: 2485971 | BS24: 3435851 | BT24: 446578 | BU24: 285470 | BV24: 7383988 | BW24: 6908864.8 | BX24: 7998467.5 | BY24: 1685789 | BZ24: 3764336 | CA24: 1521328 | CB24: 2716436 | CC24: 1173596.3 | CD24: 912513 | CE24: 80905407 | CF24: 84434063
B25: 1250567 | C25: -2523882 | D25: 1325689 | E25: 6538581 | F25: Valor Agregado Total de la Economía | G25: 410649 | H25: 123794 | I25: 467223 | J25: 100484 | K25: 2614194 | L25: 807362 | M25: 136455 | N25: 514474 | O25: 379306 | P25: 1064623 | Q25: 391536 | R25: 1368134 | S25: 2498162 | T25: 5053099 | U25: 238804 | V25: 121577 | W25: 1026593 | X25: 498267 | Y25: 1300041 | Z25: 321479 | AA25: 629521 | AB25: 319258 | AC25: 710666 | AD25: 190931 | AE25: 103485 | AF25: 78507 | AG25: 57503 | AH25: 355631 | AI25: 373161 | AJ25: 31319 | AK25: 256751 | AL25: 325887 | AM25: 18411 | AN25: 206209 | AO25: 478100 | AP25: 154619 | AQ25: 429732 | AR25: 574139 | AS25: 323846 | AT25: 931943 | AU25: 195638 | AV25: 411757 | AW25: 197535 | AX25: 75094 | AY25: 445028 | AZ25: 141366 | BA25: 438511 | BB25: 281984 | BC25: 589474 | BD25: 64651 | BE25: 187347 | BF25: 122638 | BG25: 163639 | BH25: 310970 | BI25: 319891 | BJ25: 1608520 | BK25: 388526 | BL25: 5124577 | BM25: 15276686 | BN25: 5416852 | BO25: 168825 | BP25: 399867 | BQ25: 1120784 | BR25: 2485971 | BS25: 3435861 | BT25: 446578 | BU25: 285470 | BV25: 7383988 | BW25: 7750344 | BX25: 8003155 | BY25: 1685789 | BZ25: 3764336 | CA25: 1521328 | CB25: 2716436 | CC25: 1177071 | CD25: 912513 | CE25: 101004875 | CF25: 107595830
B27: 3.2795596 | C27: -0.00015398884 | D27: 0.43752376 | E27: 5.9969592 | F27: Participación de las Actividades Económicas en la Bioeconomía | G27: 2.4051958 | H27: 0.68474407 | I27: 2.7431605 | J27: 0.56053542 | K27: 15.384661 | L27: 4.6309695 | M27: 0.75383302 | N27: 3.0195421 | O27: 2.1500569 | P27: 6.2524482 | Q27: 2.302196 | R27: 8.0812648 | S27: 0 | T27: 0 | U27: 0 | V27: 0.17029608 | W27: 6.047598 | X27: 2.8627177 | Y27: 7.6996849 | Z27: 1.9013864 | AA27: 3.7094622 | AB27: 1.8769833 | AC27: 4.1449033 | AD27: 1.0865687 | AE27: 0.6006801 | AF27: 0.42927027 | AG27: 0.33849431 | AH27: 2.0734963 | AI27: 2.0542767 | AJ27: 0.18454942 | AK27: 1.5166736 | AL27: 1.9244907 | AM27: 0.10061351 | AN27: 0 | AO27: 0 | AP27: 0 | AQ27: 2.4775385 | AR27: 0 | AS27: 0 | AT27: 0 | AU27: 0.082210103 | AV27: 0 | AW27: 0 | AX27: 0 | AY27: 0 | AZ27: 0 | BA27: 0 | BB27: 0 | BC27: 0 | BD27: 0 | BE27: 0 | BF27: 0 | BG27: 0 | BH27: 0 | BI27: 0 | BJ27: 0.0032829012 | BK27: 5.9423779e-06 | BL27: 0 | BM27: 0 | BN27: 0 | BO27: 0 | BP27: 0 | BQ27: 0 | BR27: 0 | BS27: 0 | BT27: 0 | BU27: 0 | BV27: 0 | BW27: 0 | BX27: 0.011742321 | BY27: 0 | BZ27: 0 | CA27: 0 | CB27: 0 | CC27: 0.020579221 | CD27: 0 | CE27: 90.286111 | CF27: 100
B28: 0.71768256 | C28: -0.089320033 | D28: 3.7991042 | E28: 18.227882 | F28: Participación de las Actividades Económicas en la Bioeconomía Extendida | G28: 0 | H28: 0 | I28: 0 | J28: 0 | K28: 0 | L28: 0 | M28: 0 | N28: 0 | O28: 0 | P28: 0 | Q28: 0 | R28: 0 | S28: 0 | T28: 0 | U28: 0 | V28: 0 | W28: 0.0047409416 | X28: 0.066056221 | Y28: 0 | Z28: 7.9460761e-05 | AA28: 0.0046121657 | AB28: 1.5569385e-05 | AC28: 0.00054665352 | AD28: 3.3096357e-05 | AE28: 0.0019451439 | AF28: 0 | AG28: 0 | AH28: 0.00065888785 | AI28: 0.1288677 | AJ28: 0 | AK28: 0.00096017493 | AL28: 0.012080689 | AM28: 0 | AN28: 3.1590967 | AO28: 7.3369621 | AP28: 2.431087 | AQ28: 0.063203266 | AR28: 8.9055159 | AS28: 4.2288501 | AT28: 0 | AU28: 2.3899244 | AV28: 5.503733 | AW28: 2.9815361 | AX28: 0.010833606 | AY28: 4.3244478e-05 | AZ28: 0.00059117795 | BA28: 0.016759752 | BB28: 0.00057848009 | BC28: 1.6977292 | BD28: 0.038371116 | BE28: 0.18529334 | BF28: 0.50159692 | BG28: 0.038247752 | BH28: 0.16461052 | BI28: 0.079332134 | BJ28: 0 | BK28: 2.4413559 | BL28: 2.8758878 | BM28: 0 | BN28: 0 | BO28: 0 | BP28: 0.95221418 | BQ28: 17.67261 | BR28: 0 | BS28: 0.00015912625 | BT28: 0 | BU28: 0 | BV28: 0 | BW28: 13.404843 | BX28: 0.043088917 | BY28: 0 | BZ28: 0 | CA28: 0 | CB28: 0 | CC28: 0 | CD28: 0 | CE28: 77.344651 | CF28: 100
B29: 0.77194319 | C29: -2.9825037 | D29: 1.2001436 | E29: 5.1896022 | F29: Participación de las Actividades Económicas en la No Bioeconomía | G29: 0.0053859348 | H29: 0.0096874192 | I29: 0.0048066433 | J29: 0.0069181703 | K29: 0.019655048 | L29: 0.030145828 | M29: 0.010866786 | N29: 0.0055004215 | O29: 0.019284965 | P29: 0.010586214 | Q29: 0.0033462739 | R29: 0.004341552 | S29: 2.9587135 | T29: 5.9846688 | U29: 0.28282898 | V29: 0.10993624 | W29: 0.0061567251 | X29: 0.012754781 | Y29: 0 | Z29: 0.00051810324 | AA29: 0.0034503358 | AB29: 0.0027723048 | AC29: 0.012781701 | AD29: 0.0088459217 | AE29: 0.0023000469 | AF29: 0.0071387619 | AG29: 0.0004150792 | AH29: 0.0065062142 | AI29: 0.021579394 | AJ29: 0.00018836986 | AK29: 0.00072292132 | AL29: 0.00022630907 | AM29: 0.0016854246 | AN29: 0.0093552355 | AO29: 0.020758858 | AP29: 0.0023797101 | AQ29: 0.0088216008 | AR29: 0.017885824 | AS29: 0.069146281 | AT29: 1.1037524 | AU29: 0.037581519 | AV29: 0.078480376 | AW29: 0.012283247 | AX29: 0.088132592 | AY29: 0.52706843 | AZ29: 0.16738374 | BA29: 0.51810715 | BB29: 0.33392647 | BC29: 0.57192592 | BD29: 0.073717027 | BE29: 0.20810955 | BF29: 0.10795479 | BG29: 0.19096324 | BH29: 0.35606091 | BI29: 0.37296675 | BJ29: 1.904404 | BK29: 0.27864424 | BL29: 5.8555103 | BM29: 18.093037 | BN29: 6.4154819 | BO29: 0.19994892 | BP29: 0.40279058 | BQ29: 0.013500187 | BR29: 2.944275 | BS29: 4.0692712 | BT29: 0.52890739 | BU29: 0.33809815 | BV29: 8.7452715 | BW29: 8.1825564 | BX29: 9.4730341 | BY29: 1.9965745 | BZ29: 4.4583144 | CA29: 1.8017941 | CB29: 3.2172276 | CC29: 1.389956 | CD29: 1.0807404 | CE29: 95.820815 | CF29: 100
B30: 1.162282 | C30: -2.3457061 | D30: 1.2321007 | E30: 6.0769837 | F30: Participación de las Actividades Económicas en el Total de la Economía | G30: 0.38165884 | H30: 0.11505464 | I30: 0.43423895 | J30: 0.093390236 | K30: 2.4296425 | L30: 0.75036551 | M30: 0.12682183 | N30: 0.47815422 | O30: 0.35252853 | P30: 0.98946493 | Q30: 0.36389514 | R30: 1.2715493 | S30: 2.3218019 | T30: 4.6963707 | U30: 0.2219454 | V30: 0.11299416 | W30: 0.95411969 | X30: 0.46309137 | Y30: 1.2082634 | Z30: 0.29878388 | AA30: 0.58507937 | AB30: 0.29671968 | AC30: 0.66049586 | AD30: 0.17745204 | AE30: 0.096179378 | AF30: 0.072964724 | AG30: 0.053443521 | AH30: 0.33052489 | AI30: 0.34681734 | AJ30: 0.029108005 | AK30: 0.23862542 | AL30: 0.3028807 | AM30: 0.017111258 | AN30: 0.19165148 | AO30: 0.44434808 | AP30: 0.14370352 | AQ30: 0.39939466 | AR30: 0.53360711 | AS30: 0.30098378 | AT30: 0.8661516 | AU30: 0.18182675 | AV30: 0.38268862 | AW30: 0.18358983 | AX30: 0.069792668 | AY30: 0.41361082 | AZ30: 0.13138613 | BA30: 0.4075539 | BB30: 0.26207707 | BC30: 0.54785952 | BD30: 0.060086901 | BE30: 0.17412106 | BF30: 0.11398025 | BG30: 0.15208675 | BH30: 0.28901678 | BI30: 0.29730799 | BJ30: 1.494965 | BK30: 0.36109764 | BL30: 4.7628026 | BM30: 14.198214 | BN30: 5.0344442 | BO30: 0.15690664 | BP30: 0.37163801 | BQ30: 1.0416612 | BR30: 2.3104715 | BS30: 3.1933031 | BT30: 0.4150514 | BU30: 0.26531697 | BV30: 6.8627083 | BW30: 7.2032011 | BX30: 7.4381647 | BY30: 1.5667791 | BZ30: 3.4985891 | CA30: 1.4139284 | CB30: 2.5246666 | CC30: 1.0939746 | CD30: 0.84809328 | CE30: 93.87434 | CF30: 100
B32: 0.51464076 | C32: -2.4164505e-05 | D32: 0.068657865 | E32: 0.94106528 | F32: Participación de las Actividades Económicas de la Bioeconomía en el PIB | G32: 0.37743232 | H32: 0.1074526 | I32: 0.43046701 | J32: 0.087961316 | K32: 2.4142185 | L32: 0.72670907 | M32: 0.1182943 | N32: 0.47383785 | O32: 0.33739497 | P32: 0.98115757 | Q32: 0.36126921 | R32: 1.2681423 | S32: 0 | T32: 0 | U32: 0 | V32: 0.026723499 | W32: 0.9490117 | X32: 0.44922837 | Y32: 1.2082634 | Z32: 0.29837268 | AA32: 0.58210269 | AB32: 0.29454325 | AC32: 0.65043373 | AD32: 0.17050842 | AE32: 0.094260969 | AF32: 0.067362697 | AG32: 0.053117794 | AH32: 0.32538081 | AI32: 0.32236478 | AJ32: 0.028960185 | AK32: 0.2380021 | AL32: 0.30199829 | AM32: 0.015788649 | AN32: 0 | AO32: 0 | AP32: 0 | AQ32: 0.38878461 | AR32: 0 | AS32: 0 | AT32: 0 | AU32: 0.012900717 | AV32: 0 | AW32: 0 | AX32: 0 | AY32: 0 | AZ32: 0 | BA32: 0 | BB32: 0 | BC32: 0 | BD32: 0 | BE32: 0 | BF32: 0 | BG32: 0 | BH32: 0 | BI32: 0 | BJ32: 0.00051516515 | BK32: 9.3250017e-07 | BL32: 0 | BM32: 0 | BN32: 0 | BO32: 0 | BP32: 0 | BQ32: 0 | BR32: 0 | BS32: 0 | BT32: 0 | BU32: 0 | BV32: 0 | BW32: 0 | BX32: 0.0018426489 | BY32: 0 | BZ32: 0 | CA32: 0 | CB32: 0 | CC32: 0.0032293684 | CD32: 0 | CE32: 14.168034 | CF32: 15.692374
B33: 0.041871511 | C33: -0.0052111685 | D33: 0.22164985 | E33: 1.0634631 | F33: Participación de las Actividades Económicas de la Bioeconomía Extendida en el PIB | G33: 0 | H33: 0 | I33: 0 | J33: 0 | K33: 0 | L33: 0 | M33: 0 | N33: 0 | O33: 0 | P33: 0 | Q33: 0 | R33: 0 | S33: 0 | T33: 0 | U33: 0 | V33: 0 | W33: 0.00027659916 | X33: 0.0038538958 | Y33: 0 | Z33: 4.6359524e-06 | AA33: 0.00026908602 | AB33: 9.0835938e-07 | AC33: 3.1893221e-05 | AD33: 1.9309296e-06 | AE33: 0.00011348487 | AF33: 0 | AG33: 0 | AH33: 3.8441271e-05 | AI33: 0.0075184848 | AJ33: 0 | AK33: 5.6019161e-05 | AL33: 0.00070481957 | AM33: 0 | AN33: 0.18431011 | AO33: 0.4280579 | AP33: 0.14183609 | AQ33: 0.0036874468 | AR33: 0.5195715 | AS33: 0.24672237 | AT33: 0 | AU33: 0.13943455 | AV33: 0.32110243 | AW33: 0.17395075 | AX33: 0.00063206142 | AY33: 2.522998e-06 | AZ33: 3.4490896e-05 | BA33: 0.00097780852 | BB33: 3.3750069e-05 | BC33: 0.099050041 | BD33: 0.0022386731 | BE33: 0.010810507 | BF33: 0.0292645 | BG33: 0.0022314757 | BH33: 0.0096038161 | BI33: 0.0046284479 | BJ33: 0 | BK33: 0.14243521 | BL33: 0.16778695 | BM33: 0 | BN33: 0 | BO33: 0 | BP33: 0.05555471 | BQ33: 1.0310671 | BR33: 0 | BS33: 9.2838493e-06 | BT33: 0 | BU33: 0 | BV33: 0 | BW33: 0.78207421 | BX33: 0.0025139221 | BY33: 0 | BZ33: 0 | CA33: 0 | CB33: 0 | CC33: 0 | CD33: 0 | CE33: 4.5124929 | CF33: 5.8342662
B34: 0.60576976 | C34: -2.3404708 | D34: 0.941793 | E34: 4.0724552 | F34: Participación de las Actividades Económicas de la No Bioeconomía en el PIB | G34: 0.004226524 | H34: 0.0076020433 | I34: 0.0037719345 | J34: 0.0054289206 | K34: 0.015423976 | L34: 0.023656444 | M34: 0.0085275317 | N34: 0.0043163656 | O34: 0.01513356 | P34: 0.0083073576 | Q34: 0.0026259335 | R34: 0.0034069617 | S34: 2.3218019 | T34: 4.6963707 | U34: 0.2219454 | V34: 0.086270657 | W34: 0.004831389 | X34: 0.010009105 | Y34: 0 | Z34: 0.00040657302 | AA34: 0.0027075945 | AB34: 0.0021755207 | AC34: 0.010030231 | AD34: 0.0069416919 | AE34: 0.0018049241 | AF34: 0.0056020263 | AG34: 0.0003257266 | AH34: 0.0051056448 | AI34: 0.016934075 | AJ34: 0.00014782016 | AK34: 0.00056730064 | AL34: 0.00017759233 | AM34: 0.0013226093 | AN34: 0.0073413676 | AO34: 0.016290173 | AP34: 0.0018674385 | AQ34: 0.0069226065 | AR34: 0.014035607 | AS34: 0.054261409 | AT34: 0.8661516 | AU34: 0.02949148 | AV34: 0.061586188 | AW34: 0.0096390765 | AX34: 0.069160606 | AY34: 0.4136083 | AZ34: 0.13135164 | BA34: 0.40657609 | BB34: 0.26204332 | BC34: 0.44880948 | BD34: 0.057848228 | BE34: 0.16331055 | BF34: 0.084715754 | BG34: 0.14985527 | BH34: 0.27941296 | BI34: 0.29267954 | BJ34: 1.4944498 | BK34: 0.2186615 | BL34: 4.5950157 | BM34: 14.198214 | BN34: 5.0344442 | BO34: 0.15690664 | BP34: 0.3160833 | BQ34: 0.01059405 | BR34: 2.3104715 | BS34: 3.1932938 | BT34: 0.4150514 | BU34: 0.26531697 | BV34: 6.8627083 | BW34: 6.4211269 | BX34: 7.4338081 | BY34: 1.5667791 | BZ34: 3.4985891 | CA34: 1.4139284 | CB34: 2.5246666 | CC34: 1.0907452 | CD34: 0.84809328 | CE34: 75.193812 | CF34: 78.47336
B35: 1.162282 | C35: -2.3457061 | D35: 1.2321007 | E35: 6.0769837 | F35: Participación de las Actividades Económicas en el PIB | G35: 0.38165884 | H35: 0.11505464 | I35: 0.43423895 | J35: 0.093390236 | K35: 2.4296425 | L35: 0.75036551 | M35: 0.12682183 | N35: 0.47815422 | O35: 0.35252853 | P35: 0.98946493 | Q35: 0.36389514 | R35: 1.2715493 | S35: 2.3218019 | T35: 4.6963707 | U35: 0.2219454 | V35: 0.11299416 | W35: 0.95411969 | X35: 0.46309137 | Y35: 1.2082634 | Z35: 0.29878388 | AA35: 0.58507937 | AB35: 0.29671968 | AC35: 0.66049586 | AD35: 0.17745204 | AE35: 0.096179378 | AF35: 0.072964724 | AG35: 0.053443521 | AH35: 0.33052489 | AI35: 0.34681734 | AJ35: 0.029108005 | AK35: 0.23862542 | AL35: 0.3028807 | AM35: 0.017111258 | AN35: 0.19165148 | AO35: 0.44434808 | AP35: 0.14370352 | AQ35: 0.39939466 | AR35: 0.53360711 | AS35: 0.30098378 | AT35: 0.8661516 | AU35: 0.18182675 | AV35: 0.38268862 | AW35: 0.18358983 | AX35: 0.069792668 | AY35: 0.41361082 | AZ35: 0.13138613 | BA35: 0.4075539 | BB35: 0.26207707 | BC35: 0.54785952 | BD35: 0.060086901 | BE35: 0.17412106 | BF35: 0.11398025 | BG35: 0.15208675 | BH35: 0.28901678 | BI35: 0.29730799 | BJ35: 1.494965 | BK35: 0.36109764 | BL35: 4.7628026 | BM35: 14.198214 | BN35: 5.0344442 | BO35: 0.15690664 | BP35: 0.37163801 | BQ35: 1.0416612 | BR35: 2.3104715 | BS35: 3.1933031 | BT35: 0.4150514 | BU35: 0.26531697 | BV35: 6.8627083 | BW35: 7.2032011 | BX35: 7.4381647 | BY35: 1.5667791 | BZ35: 3.4985891 | CA35: 1.4139284 | CB35: 2.5246666 | CC35: 1.0939746 | CD35: 0.84809328 | CE35: 93.87434 | CF35: 100
B37: (pb): precios básicos
B38: (pc): precios de comprador | CE38: PIB PRODUCCIÓN | CF38: 107595830
B39: Elaboración: Banco Central del Ecuador
CE40: PIB BIOECONOMÍA | CF40: 23161767

Sheet Q20P19
G8: A | S8: B | W8: C | BJ8: D | BK8: E | BL8: F | BM8: G | BN8: H | BP8: I | BR8: J | BS8: K | BV8: L | BW8: M - N | BX8: O | BY8: P | CA8: Q | CC8: R - S - U | CD8: T
G9: AGRICULTURA, GANADERÍA, SILVICULTURA Y PESCA. | S9: EXPLOTACIÓN DE MINAS Y CANTERAS. | W9: INDUSTRIAS MANUFACTURERAS. | BJ9: SUMINISTRO DE ELECTRICIDAD, GAS, VAPOR Y AIRE ACONDICIONADO. | BK9: DISTRIBUCIÓN DE AGUA; ALCANTARILLADO, GESTIÓN DE DESECHOS Y ACTIVIDADES DE SANEAMIENTO. | BL9: CONSTRUCCIÓN. | BM9: COMERCIO AL POR MAYOR Y AL POR MENOR; REPARACIÓN DE VEHÍCULOS AUTOMOTORES Y MOTOCICLETAS. | BN9: TRANSPORTE Y ALMACENAMIENTO. | BP9: ACTIVIDADES DE ALOJAMIENTO Y DE SERVICIO DE COMIDAS. | BR9: INFORMACIÓN Y COMUNICACIÓN. | BS9: ACTIVIDADES FINANCIERAS Y DE SEGUROS. | BV9: ACTIVIDADES INMOBILIARIAS. | BW9: ACTIVIDADES PROFESIONALES, CIENTÍFICAS Y TÉCNICAS, Y ACTIVIDADES DE SERVICIOS ADMINISTRATIVOS Y DE APOYO. | BX9: ADMINISTRACIÓN PÚBLICA Y DEFENSA; PLANES DE SEGURIDAD SOCIAL DE AFILIACIÓN OBLIGATORIA. | BY9: ENSEÑANZA. | CA9: ACTIVIDADES DE ATENCIÓN DE LA SALUD HUMANA Y DE ASISTENCIA SOCIAL. | CC9: ARTES, ENTRETENIMIENTO Y RECREACIÓN, OTRAS ACTIVIDADES DE SERVICIOS, Y ACTIVIDADES DE ORGANIZACIONES Y ÓRGANOS EXTRATERRITORIALES | CD9: ACTIVIDADES DE LOS HOGARES COMO EMPLEADORES; ACTIVIDADES NO DIFERENCIADAS DE LOS HOGARES COMO PRODUCTORES DE BIENES Y SERVICIOS PARA USO PROPIO.
B10: Otros elementos del PIB | G10: 01 | H10: 02 | I10: 03 | J10: 04 | K10: 05 | L10: 06 | M10: 07 | N10: 08 | O10: 09 | P10: 10 | Q10: 11 | R10: 12 | S10: 13 | T10: 14 | U10: 15 | V10: 16 | W10: 17 | X10: 18 | Y10: 19 | Z10: 20 | AA10: 21 | AB10: 22 | AC10: 23 | AD10: 24 | AE10: 25 | AF10: 26 | AG10: 27 | AH10: 28 | AI10: 29 | AJ10: 30 | AK10: 31 | AL10: 32 | AM10: 33 | AN10: 34 | AO10: 35 | AP10: 36 | AQ10: 37 | AR10: 38 | AS10: 39 | AT10: 40 | AU10: 41 | AV10: 42 | AW10: 43 | AX10: 44 | AY10: 45 | AZ10: 46 | BA10: 47 | BB10: 48 | BC10: 49 | BD10: 50 | BE10: 51 | BF10: 52 | BG10: 53 | BH10: 54 | BI10: 55 | BJ10: 56 | BK10: 57 | BL10: 58 | BM10: 59 | BN10: 60 | BO10: 61 | BP10: 62 | BQ10: 63 | BR10: 64 | BS10: 65 | BT10: 66 | BU10: 67 | BV10: 68 | BW10: 69 | BX10: 70 | BY10: 71 | BZ10: 72 | CA10: 73 | CB10: 74 | CC10: 75 | CD10: 76
B11: Impuestos indirectos sobre productos | C11: Subsidios sobre productos | D11: Derechos arancelarios | E11: Impuesto al valor agregado (IVA) | F11: Descripción | G11: Cultivo de cereales (excepto arroz), legumbres y semillas oleaginosas | H11: Cultivo de arroz | I11: Cultivo de hortalizas y melones, raíces y tubérculos | J11: Cultivo de caña de azúcar | K11: Cultivos de frutas, y otros tipos de cultivos n.c.p. | L11: Cultivo de otras plantas no perennes y propagación de plantas | M11: Cultivo de frutos oleaginosos | N11: Cultivo de plantas con las que se preparan bebidas | O11: Actividades de apoyo a la agricultura, poscosecha y tratamiento de semillas para propagación | P11: Ganadería | Q11: Silvicultura y extracción de madera | R11: Pesca y acuicultura | S11: Servicios Petroleros | T11: Extracción de petróleo crudo y gas natural | U11: Extracción de minerales metálicos | V11: Explotación de otras minas y canteras, y actividades de apoyo | W11: Elaboración y conservación de carne | X11: Preparación y conservación de pescado y otros productos acuaticos elaborados | Y11: Procesamiento y conservación de camarón | Z11: Elaboración de aceites y grasas de origen vegetal y animal | AA11: Elaboración de productos lácteos | AB11: Elaboración de productos de la panadería y pastelería | AC11: Elaboración de productos de molinería | AD11: Elaboración y refinación de azúcar | AE11: Elaboración de cacao, chocolate y productos de confitería | AF11: Elaboración de fideos y de otros productos farináceos | AG11: Elaboración de café | AH11: Elaboración de alimentos preparados para animales | AI11: Elaboración de otros productos alimenticios diversos | AJ11: Elaboración bebidas no alcohólicas (jugos) | AK11: Elaboración bebidas no alcohólicas (excepto jugos) | AL11: Elaboración bebidas alcohólicas | AM11: Elaboración de productos de tabaco | AN11: Fabricación de hilos, hilados; tejidos y confecciones | AO11: Fabricación de prendas de vestir | AP11: Fabricación de cuero, productos de cuero y calzado | AQ11: Producción de madera y de productos de madera | AR11: Fabricación de papel y productos de papel | AS11: Impresión y reproducción de grabaciones | AT11: Fabricación de productos refinados de petróleo y de otros | AU11: Fabricación de sustancias químicas básicas, abonos y plásticos primarios, caucho sintético y artificial | AV11: Fabricación de otros productos químicos | AW11: Fabricación de productos farmacéuticos y medicamentos | AX11: Fabricación de productos de caucho | AY11: Fabricación de productos de plástico | AZ11: Fabricación de vidrio, productos refractarios y de cerámica | BA11: Fabricación de cemento, artículos de hormigón y piedra | BB11: Fabricación de metales comunes | BC11: Fabricación de productos derivados del metal, excepto maquinaria y equipo | BD11: Fabricación de productos de informática, electrónica y óptica | BE11: Fabricación de equipo eléctrico | BF11: Fabricación de maquinaria y equipo n.c.p. | BG11: Fabricación de vehículos y equipos de transporte | BH11: Fabricación de muebles | BI11: Industrias manufactureras n.c.p. | BJ11: Suministro de electricidad, gas, vapor y aire acondicionado | BK11: Distribución de agua; alcantarillado, gestión de desechos y actividades de saneamiento | BL11: Construcción | BM11: Comercio al por mayor y al por menor; reparación de vehículos automotores y motocicletas | BN11: Transporte y almacenamiento | BO11: Actividades postales y de mensajería | BP11: Actividades de alojamiento | BQ11: Servicio de alimento y bebida | BR11: Información y comunicación | BS11: Actividades de servicios financieros, excepto las de seguros y fondos de pensiones | BT11: Seguros, reaseguros y fondos de pensiones, excepto los planes de seguridad social de afiliación obligatoria | BU11: Actividades auxiliares de las actividades de servicios financieros | BV11: Actividades inmobiliarias | BW11: Actividades profesionales, científicas, técnicas y administrativas | BX11: Administración pública y defensa; planes de seguridad social de afiliación obligatoria | BY11: Servicios de enseñanza privada | BZ11: Servicios de enseñanza pública (no de mercado) | CA11: Actividades de atención de la salud humana y de asistencia social privada | CB11: Actividades de atención de la salud humana y de asistencia social no de mercado | CC11: Servicios de asociaciones, personales; esparcimiento; culturales y deportivos | CD11: Actividades de los hogares como empleadores de personal doméstico | CE11: Total de las Industrias | CF11: ECONOMÍA TOTAL
F12: Productos directamente vinculados con la Bioeconomía | G12: 613359 | H12: 286264 | I12: 773710 | J12: 203505 | K12: 5091999 | L12: 1244547 | M12: 263557 | N12: 961646 | O12: 611742 | P12: 2228523 | Q12: 434808 | R12: 4419296 | S12: 0 | T12: 0 | U12: 0 | V12: 71028 | W12: 2419320 | X12: 2183713 | Y12: 4350673 | Z12: 1230500 | AA12: 1586594 | AB12: 618361 | AC12: 1709002 | AD12: 402526 | AE12: 305035 | AF12: 201408 | AG12: 166785 | AH12: 1731975 | AI12: 867009 | AJ12: 118960 | AK12: 699396 | AL12: 501989 | AM12: 29313 | AN12: 0 | AO12: 0 | AP12: 0 | AQ12: 1066585 | AR12: 0 | AS12: 0 | AT12: 0 | AU12: 41785 | AV12: 0 | AW12: 0 | AX12: 0 | AY12: 0 | AZ12: 0 | BA12: 0 | BB12: 0 | BC12: 0 | BD12: 0 | BE12: 0 | BF12: 0 | BG12: 0 | BH12: 0 | BI12: 0 | BJ12: 1127 | BK12: 2 | BL12: 0 | BM12: 0 | BN12: 0 | BO12: 0 | BP12: 0 | BQ12: 0 | BR12: 0 | BS12: 0 | BT12: 0 | BU12: 0 | BV12: 0 | BW12: 0 | BX12: 1309 | BY12: 0 | BZ12: 0 | CA12: 0 | CB12: 0 | CC12: 7217 | CD12: 0 | CE12: 37444568 | CF12: 37444568
F13: Productos funcionalmente relacionados con la Bioeconomía | G13: 0 | H13: 0 | I13: 0 | J13: 0 | K13: 0 | L13: 0 | M13: 0 | N13: 0 | O13: 0 | P13: 0 | Q13: 0 | R13: 0 | S13: 0 | T13: 0 | U13: 0 | V13: 0 | W13: 677 | X13: 16777 | Y13: 0 | Z13: 18 | AA13: 731 | AB13: 2 | AC13: 77 | AD13: 0 | AE13: 381 | AF13: 0 | AG13: 0 | AH13: 174 | AI13: 18663 | AJ13: 0 | AK13: 179 | AL13: 1270 | AM13: 0 | AN13: 427737 | AO13: 743873 | AP13: 257029 | AQ13: 10130 | AR13: 1660572 | AS13: 458798 | AT13: 0 | AU13: 424959 | AV13: 841846 | AW13: 473693 | AX13: 1449 | AY13: 6 | AZ13: 88 | BA13: 2150 | BB13: 154 | BC13: 203531 | BD13: 6487 | BE13: 36706 | BF13: 59530 | BG13: 10627 | BH13: 23112 | BI13: 9357 | BJ13: 0 | BK13: 318028 | BL13: 286434 | BM13: 0 | BN13: 0 | BO13: 0 | BP13: 90550 | BQ13: 1846241 | BR13: 0 | BS13: 12 | BT13: 0 | BU13: 0 | BV13: 0 | BW13: 1213359 | BX13: 1148 | BY13: 0 | BZ13: 0 | CA13: 0 | CB13: 0 | CC13: 0 | CD13: 0 | CE13: 9446555 | CF13: 9446555
F14: Productos no relacionados con la Bioeconomía | G14: 6875 | H14: 21833 | I14: 6779 | J14: 13114 | K14: 32557 | L14: 40569 | M14: 19240 | N14: 8775 | O14: 27860 | P14: 18313 | Q14: 3161 | R14: 11610 | S14: 3625576 | T14: 7894411 | U14: 1046396 | V14: 163400 | W14: 12262 | X14: 46614 | Y14: 0 | Z14: 1677 | AA14: 7109 | AB14: 4537 | AC14: 26203 | AD14: 17231 | AE14: 5841 | AF14: 16678 | AG14: 1039 | AH14: 27178 | AI14: 44679 | AJ14: 607 | AK14: 1667 | AL14: 295 | AM14: 2044 | AN14: 16933 | AO14: 26102 | AP14: 3263 | AQ14: 18878 | AR14: 44776 | AS14: 112692 | AT14: 3220800 | AU14: 96222 | AV14: 148307 | AW14: 26240 | AX14: 157880 | AY14: 1177984 | AZ14: 289996 | BA14: 781365 | BB14: 1114999 | BC14: 916397 | BD14: 168888 | BE14: 553605 | BF14: 184361 | BG14: 414848 | BH14: 569657 | BI14: 498828 | BJ14: 3044951 | BK14: 441433 | BL14: 8105518 | BM14: 20854434 | BN14: 9685807 | BO14: 303092 | BP14: 489681 | BQ14: 18970 | BR14: 4329436 | BS14: 5096996 | BT14: 1334510 | BU14: 480763 | BV14: 9880392 | BW14: 9597235 | BX14: 9056665 | BY14: 2421309 | BZ14: 3927874 | CA14: 2920243 | CB14: 4003934 | CC14: 1938793 | CD14: 672971 | CE14: 122304158 | CF14: 122304158
F15: Producción Total de la Economía (pb) | G15: 620234 | H15: 308097 | I15: 780489 | J15: 216619 | K15: 5124556 | L15: 1285116 | M15: 282797 | N15: 970421 | O15: 639602 | P15: 2246836 | Q15: 437969 | R15: 4430906 | S15: 3625576 | T15: 7894411 | U15: 1046396 | V15: 234428 | W15: 2432259 | X15: 2247104 | Y15: 4350673 | Z15: 1232195 | AA15: 1594434 | AB15: 622900 | AC15: 1735282 | AD15: 419757 | AE15: 311257 | AF15: 218086 | AG15: 167824 | AH15: 1759327 | AI15: 930351 | AJ15: 119567 | AK15: 701242 | AL15: 503554 | AM15: 31357 | AN15: 444670 | AO15: 769975 | AP15: 260292 | AQ15: 1095593 | AR15: 1705348 | AS15: 571490 | AT15: 3220800 | AU15: 562966 | AV15: 990153 | AW15: 499933 | AX15: 159329 | AY15: 1177990 | AZ15: 290084 | BA15: 783515 | BB15: 1115153 | BC15: 1119928 | BD15: 175375 | BE15: 590311 | BF15: 243891 | BG15: 425475 | BH15: 592769 | BI15: 508185 | BJ15: 3046078 | BK15: 759463 | BL15: 8391952 | BM15: 20854434 | BN15: 9685807 | BO15: 303092 | BP15: 580231 | BQ15: 1865211 | BR15: 4329436 | BS15: 5097008 | BT15: 1334510 | BU15: 480763 | BV15: 9880392 | BW15: 10810594 | BX15: 9059122 | BY15: 2421309 | BZ15: 3927874 | CA15: 2920243 | CB15: 4003934 | CC15: 1946010 | CD15: 672971 | CE15: 169195281 | CF15: 169195281
F17: Productos directamente vinculados con la Bioeconomía | G17: 237893.51 | H17: 166739.95 | I17: 316996.58 | J17: 111627.64 | K17: 2430325.1 | L17: 516923.63 | M17: 140823.69 | N17: 369799.59 | O17: 228110.38 | P17: 1220612.6 | Q17: 105611.22 | R17: 3024065.4 | S17: 0 | T17: 0 | U17: 0 | V17: 41044.978 | W17: 1456207.9 | X17: 1684306.3 | Y17: 2994464 | Z17: 930765.88 | AA17: 1018492.2 | AB17: 317072.57 | AC17: 1057317.2 | AD17: 234760.56 | AE17: 213735.3 | AF17: 133869.65 | AG17: 111523.26 | AH17: 1362419.2 | AI17: 529813.83 | AJ17: 89867.446 | AK17: 487692.77 | AL17: 234323.47 | AM17: 19610.553 | AN17: 0 | AO17: 0 | AP17: 0 | AQ17: 686735.79 | AR17: 0 | AS17: 0 | AT17: 0 | AU17: 28681.012 | AV17: 0 | AW17: 0 | AX17: 0 | AY17: 0 | AZ17: 0 | BA17: 0 | BB17: 0 | BC17: 0 | BD17: 0 | BE17: 0 | BF17: 0 | BG17: 0 | BH17: 0 | BI17: 0 | BJ17: 553.93813 | BK17: 1.0007466 | BL17: 0 | BM17: 0 | BN17: 0 | BO17: 0 | BP17: 0 | BQ17: 0 | BR17: 0 | BS17: 0 | BT17: 0 | BU17: 0 | BV17: 0 | BW17: 0 | BX17: 190.64341 | BY17: 0 | BZ17: 0 | CA17: 0 | CB17: 0 | CC17: 3579.2761 | CD17: 0 | CE17: 22506558 | CF17: 22506558
F18: Productos funcionalmente relacionados con la Bioeconomía | G18: 0 | H18: 0 | I18: 0 | J18: 0 | K18: 0 | L18: 0 | M18: 0 | N18: 0 | O18: 0 | P18: 0 | Q18: 0 | R18: 0 | S18: 0 | T18: 0 | U18: 0 | V18: 0 | W18: 407.49167 | X18: 12940.165 | Y18: 0 | Z18: 13.615429 | AA18: 469.25541 | AB18: 1.0255258 | AC18: 47.637993 | AD18: 0 | AE18: 266.9633 | AF18: 0 | AG18: 0 | AH18: 136.87319 | AI18: 11404.628 | AJ18: 0 | AK18: 124.81771 | AL18: 592.82337 | AM18: 0 | AN18: 268748.93 | AO18: 407663.37 | AP18: 154854.12 | AQ18: 6522.3433 | AR18: 1158945.9 | AS18: 249067.05 | AT18: 0 | AU18: 291689.7 | AV18: 538230.57 | AW18: 281563.9 | AX18: 906.6197 | AY18: 4.1103354 | AZ18: 53.672647 | BA18: 1188.3441 | BB18: 122.50324 | BC18: 107107.81 | BD18: 4458.3214 | BE18: 26419.62 | BF18: 30960.892 | BG18: 8046.9974 | BH18: 13760.82 | BI18: 4475.087 | BJ18: 0 | BK18: 159132.72 | BL18: 159405.26 | BM18: 0 | BN18: 0 | BO18: 0 | BP18: 41507.825 | BQ18: 948933.77 | BR18: 0 | BS18: 3.6998576 | BT18: 0 | BU18: 0 | BV18: 0 | BW18: 467284 | BX18: 167.19529 | BY18: 0 | BZ18: 0 | CA18: 0 | CB18: 0 | CC18: 0 | CD18: 0 | CE18: 5357630.5 | CF18: 5357630.5
F19: Productos no relacionados con la Bioeconomía | G19: 2666.4936 | H19: 12717.049 | I19: 2777.4228 | J19: 7193.3607 | K19: 15538.906 | L19: 16850.368 | M19: 10280.31 | N19: 3374.4136 | O19: 10388.62 | P19: 10030.445 | Q19: 767.78041 | R19: 7944.5685 | S19: 1162676 | T19: 3444619 | U19: 528492 | V19: 94424.022 | W19: 7380.5951 | X19: 35953.558 | Y19: 0 | Z19: 1268.5042 | AA19: 4563.5249 | AB19: 2326.4052 | AC19: 16211.147 | AD19: 10049.436 | AE19: 4092.7365 | AF19: 11085.349 | AG19: 694.74272 | AH19: 21378.962 | AI19: 27302.545 | AJ19: 458.55363 | AK19: 1162.4085 | AL19: 137.70307 | AM19: 1367.4469 | AN19: 10639.074 | AO19: 14304.632 | AP19: 1965.8832 | AQ19: 12154.866 | AR19: 31250.053 | AS19: 61176.953 | AT19: 2468475 | AU19: 66046.292 | AV19: 94819.433 | AW19: 15597.099 | AX19: 98783.38 | AY19: 806984.89 | AZ19: 176873.33 | BA19: 431874.66 | BB19: 886954.5 | BC19: 482252.19 | BD19: 116071.68 | BE19: 398464.38 | BF19: 95884.108 | BG19: 314132 | BH19: 339172.18 | BI19: 238569.91 | BJ19: 1496641.1 | BK19: 220881.28 | BL19: 4510854.7 | BM19: 7458354 | BN19: 4951475 | BO19: 158082 | BP19: 224468.18 | BQ19: 9750.2296 | BR19: 2098718 | BS19: 1571513.3 | BT19: 967007 | BU19: 255126 | BV19: 2585869 | BW19: 3696049 | BX19: 1319017.2 | BY19: 854648 | BZ19: 281421 | CA19: 1496027 | CB19: 1255102 | CC19: 961545.72 | CD19: 0 | CE19: 49011171 | CF19: 49011171
F20: Demanda Intermedia Total de la Economía (pc) | G20: 240560 | H20: 179457 | I20: 319774 | J20: 118821 | K20: 2445864 | L20: 533774 | M20: 151104 | N20: 373174 | O20: 238499 | P20: 1230643 | Q20: 106379 | R20: 3032010 | S20: 1162676 | T20: 3444619 | U20: 528492 | V20: 135469 | W20: 1463996 | X20: 1733200 | Y20: 2994464 | Z20: 932048 | AA20: 1023525 | AB20: 319400 | AC20: 1073576 | AD20: 244810 | AE20: 218095 | AF20: 144955 | AG20: 112218 | AH20: 1383935 | AI20: 568521 | AJ20: 90326 | AK20: 488980 | AL20: 235054 | AM20: 20978 | AN20: 279388 | AO20: 421968 | AP20: 156820 | AQ20: 705413 | AR20: 1190196 | AS20: 310244 | AT20: 2468475 | AU20: 386417 | AV20: 633050 | AW20: 297161 | AX20: 99690 | AY20: 806989 | AZ20: 176927 | BA20: 433063 | BB20: 887077 | BC20: 589360 | BD20: 120530 | BE20: 424884 | BF20: 126845 | BG20: 322179 | BH20: 352933 | BI20: 243045 | BJ20: 1497195 | BK20: 380015 | BL20: 4670260 | BM20: 7458354 | BN20: 4951475 | BO20: 158082 | BP20: 265976 | BQ20: 958684 | BR20: 2098718 | BS20: 1571517 | BT20: 967007 | BU20: 255126 | BV20: 2585869 | BW20: 4163333 | BX20: 1319375 | BY20: 854648 | BZ20: 281421 | CA20: 1496027 | CB20: 1255102 | CC20: 965125 | CD20: 0 | CE20: 76875359 | CF20: 76875359
B22: 451907 | C22: -34 | D22: 78429 | E22: 939926 | F22: Productos directamente vinculados con la Bioeconomía | G22: 375465.49 | H22: 119524.05 | I22: 456713.42 | J22: 91877.361 | K22: 2661673.9 | L22: 727623.37 | M22: 122733.31 | N22: 591846.41 | O22: 383631.62 | P22: 1007910.4 | Q22: 329196.78 | R22: 1395230.6 | S22: 0 | T22: 0 | U22: 0 | V22: 29983.022 | W22: 963112.09 | X22: 499406.72 | Y22: 1356209 | Z22: 299734.12 | AA22: 568101.78 | AB22: 301288.43 | AC22: 651684.79 | AD22: 167765.44 | AE22: 91299.7 | AF22: 67538.349 | AG22: 55261.743 | AH22: 369555.84 | AI22: 337195.17 | AJ22: 29092.554 | AK22: 211703.23 | AL22: 267665.53 | AM22: 9702.4469 | AN22: 0 | AO22: 0 | AP22: 0 | AQ22: 379849.21 | AR22: 0 | AS22: 0 | AT22: 0 | AU22: 13103.988 | AV22: 0 | AW22: 0 | AX22: 0 | AY22: 0 | AZ22: 0 | BA22: 0 | BB22: 0 | BC22: 0 | BD22: 0 | BE22: 0 | BF22: 0 | BG22: 0 | BH22: 0 | BI22: 0 | BJ22: 573.06187 | BK22: 0.99925342 | BL22: 0 | BM22: 0 | BN22: 0 | BO22: 0 | BP22: 0 | BQ22: 0 | BR22: 0 | BS22: 0 | BT22: 0 | BU22: 0 | BV22: 0 | BW22: 0 | BX22: 1118.3566 | BY22: 0 | BZ22: 0 | CA22: 0 | CB22: 0 | CC22: 3637.7239 | CD22: 0 | CE22: 14938010 | CF22: 16408238
B23: 38408 | C23: -5862 | D23: 197607 | E23: 951834 | F23: Productos funcionalmente relacionados con la Bioeconomía | G23: 0 | H23: 0 | I23: 0 | J23: 0 | K23: 0 | L23: 0 | M23: 0 | N23: 0 | O23: 0 | P23: 0 | Q23: 0 | R23: 0 | S23: 0 | T23: 0 | U23: 0 | V23: 0 | W23: 269.50833 | X23: 3836.8351 | Y23: 0 | Z23: 4.3845706 | AA23: 261.74459 | AB23: 0.97447423 | AC23: 29.362007 | AD23: 0 | AE23: 114.0367 | AF23: 0 | AG23: 0 | AH23: 37.126815 | AI23: 7258.3716 | AJ23: 0 | AK23: 54.182291 | AL23: 677.17663 | AM23: 0 | AN23: 158988.07 | AO23: 336209.63 | AP23: 102174.88 | AQ23: 3607.6567 | AR23: 501626.05 | AS23: 209730.95 | AT23: 0 | AU23: 133269.3 | AV23: 303615.43 | AW23: 192129.1 | AX23: 542.3803 | AY23: 1.8896646 | AZ23: 34.327353 | BA23: 961.65587 | BB23: 31.496758 | BC23: 96423.195 | BD23: 2028.6786 | BE23: 10286.38 | BF23: 28569.108 | BG23: 2580.0026 | BH23: 9351.18 | BI23: 4881.913 | BJ23: 0 | BK23: 158895.28 | BL23: 127028.74 | BM23: 0 | BN23: 0 | BO23: 0 | BP23: 49042.175 | BQ23: 897307.23 | BR23: 0 | BS23: 8.3001424 | BT23: 0 | BU23: 0 | BV23: 0 | BW23: 746075 | BX23: 980.80471 | BY23: 0 | BZ23: 0 | CA23: 0 | CB23: 0 | CC23: 0 | CD23: 0 | CE23: 4088924.5 | CF23: 5270911.5
B24: 503586 | C24: -2296574 | D24: 787670 | E24: 3681673 | F24: Productos no relacionados con la Bioeconomía | G24: 4208.5064 | H24: 9115.9509 | I24: 4001.5772 | J24: 5920.6393 | K24: 17018.094 | L24: 23718.632 | M24: 8959.6895 | N24: 5400.5864 | O24: 17471.38 | P24: 8282.5549 | Q24: 2393.2196 | R24: 3665.4315 | S24: 2462900 | T24: 4449792 | U24: 517904 | V24: 68975.978 | W24: 4881.4049 | X24: 10660.442 | Y24: 0 | Z24: 408.49583 | AA24: 2545.4751 | AB24: 2210.5948 | AC24: 9991.8528 | AD24: 7181.564 | AE24: 1748.2635 | AF24: 5592.6507 | AG24: 344.25728 | AH24: 5799.0378 | AI24: 17376.455 | AJ24: 148.44637 | AK24: 504.5915 | AL24: 157.29693 | AM24: 676.55311 | AN24: 6293.9261 | AO24: 11797.368 | AP24: 1297.1168 | AQ24: 6723.1335 | AR24: 13525.947 | AS24: 51515.047 | AT24: 752325 | AU24: 30175.708 | AV24: 53487.567 | AW24: 10642.901 | AX24: 59096.62 | AY24: 370999.11 | AZ24: 113122.67 | BA24: 349490.34 | BB24: 228044.5 | BC24: 434144.81 | BD24: 52816.321 | BE24: 155140.62 | BF24: 88476.892 | BG24: 100716 | BH24: 230484.82 | BI24: 260258.09 | BJ24: 1548309.9 | BK24: 220551.72 | BL24: 3594663.3 | BM24: 13396080 | BN24: 4734332 | BO24: 145010 | BP24: 265212.82 | BQ24: 9219.7704 | BR24: 2230718 | BS24: 3525482.7 | BT24: 367503 | BU24: 225637 | BV24: 7294523 | BW24: 5901186 | BX24: 7737647.8 | BY24: 1566661 | BZ24: 3646453 | CA24: 1424216 | CB24: 2748832 | CC24: 977247.28 | CD24: 672971 | CE24: 73292987 | CF24: 75969342
B25: 993901 | C25: -2302470 | D25: 1063706 | E25: 5573433 | F25: Valor Agregado Total de la Economía | G25: 379674 | H25: 128640 | I25: 460715 | J25: 97798 | K25: 2678692 | L25: 751342 | M25: 131693 | N25: 597247 | O25: 401103 | P25: 1016193 | Q25: 331590 | R25: 1398896 | S25: 2462900 | T25: 4449792 | U25: 517904 | V25: 98959 | W25: 968263 | X25: 513904 | Y25: 1356209 | Z25: 300147 | AA25: 570909 | AB25: 303500 | AC25: 661706 | AD25: 174947 | AE25: 93162 | AF25: 73131 | AG25: 55606 | AH25: 375392 | AI25: 361830 | AJ25: 29241 | AK25: 212262 | AL25: 268500 | AM25: 10379 | AN25: 165282 | AO25: 348007 | AP25: 103472 | AQ25: 390180 | AR25: 515152 | AS25: 261246 | AT25: 752325 | AU25: 176549 | AV25: 357103 | AW25: 202772 | AX25: 59639 | AY25: 371001 | AZ25: 113157 | BA25: 350452 | BB25: 228076 | BC25: 530568 | BD25: 54845 | BE25: 165427 | BF25: 117046 | BG25: 103296 | BH25: 239836 | BI25: 265140 | BJ25: 1548883 | BK25: 379448 | BL25: 3721692 | BM25: 13396080 | BN25: 4734332 | BO25: 145010 | BP25: 314255 | BQ25: 906527 | BR25: 2230718 | BS25: 3525491 | BT25: 367503 | BU25: 225637 | BV25: 7294523 | BW25: 6647261 | BX25: 7739747 | BY25: 1566661 | BZ25: 3646453 | CA25: 1424216 | CB25: 2748832 | CC25: 980885 | CD25: 672971 | CE25: 92319922 | CF25: 97648492
B27: 2.754147 | C27: -0.00020721299 | D27: 0.47798551 | E27: 5.7283786 | F27: Participación de las Actividades Económicas en la Bioeconomía | G27: 2.2882743 | H27: 0.72843927 | I27: 2.7834398 | J27: 0.55994654 | K27: 16.221571 | L27: 4.4345003 | M27: 0.74799811 | N27: 3.6070077 | O27: 2.3380428 | P27: 6.1427098 | Q27: 2.0062896 | R27: 8.5032321 | S27: 0 | T27: 0 | U27: 0 | V27: 0.18273151 | W27: 5.8696862 | X27: 3.0436341 | Y27: 8.2654152 | Z27: 1.8267295 | AA27: 3.4622961 | AB27: 1.8362022 | AC27: 3.9716927 | AD27: 1.0224464 | AE27: 0.55642598 | AF27: 0.41161244 | AG27: 0.33679267 | AH27: 2.2522579 | AI27: 2.0550358 | AJ27: 0.17730456 | AK27: 1.2902252 | AL27: 1.6312874 | AM27: 0.059131559 | AN27: 0 | AO27: 0 | AP27: 0 | AQ27: 2.3149909 | AR27: 0 | AS27: 0 | AT27: 0 | AU27: 0.079862252 | AV27: 0 | AW27: 0 | AX27: 0 | AY27: 0 | AZ27: 0 | BA27: 0 | BB27: 0 | BC27: 0 | BD27: 0 | BE27: 0 | BF27: 0 | BG27: 0 | BH27: 0 | BI27: 0 | BJ27: 0.0034925253 | BK27: 6.0899496e-06 | BL27: 0 | BM27: 0 | BN27: 0 | BO27: 0 | BP27: 0 | BQ27: 0 | BR27: 0 | BS27: 0 | BT27: 0 | BU27: 0 | BV27: 0 | BW27: 0 | BX27: 0.0068158238 | BY27: 0 | BZ27: 0 | CA27: 0 | CB27: 0 | CC27: 0.022170107 | CD27: 0 | CE27: 91.039696 | CF27: 100
B28: 0.72867852 | C28: -0.11121416 | D28: 3.74901 | E28: 18.058243 | F28: Participación de las Actividades Económicas en la Bioeconomía Extendida | G28: 0 | H28: 0 | I28: 0 | J28: 0 | K28: 0 | L28: 0 | M28: 0 | N28: 0 | O28: 0 | P28: 0 | Q28: 0 | R28: 0 | S28: 0 | T28: 0 | U28: 0 | V28: 0 | W28: 0.0051131256 | X28: 0.072792629 | Y28: 0 | Z28: 8.3184295e-05 | AA28: 0.0049658316 | AB28: 1.8487774e-05 | AC28: 0.00055705748 | AD28: 0 | AE28: 0.0021635101 | AF28: 0 | AG28: 0 | AH28: 0.00070437181 | AI28: 0.13770619 | AJ28: 0 | AK28: 0.0010279492 | AL28: 0.012847429 | AM28: 0 | AN28: 3.0163298 | AO28: 6.3785861 | AP28: 1.938467 | AQ28: 0.068444645 | AR28: 9.5168748 | AS28: 3.9790262 | AT28: 0 | AU28: 2.528392 | AV28: 5.7602073 | AW28: 3.645083 | AX28: 0.010290066 | AY28: 3.5850812e-05 | AZ28: 0.00065126028 | BA28: 0.018244584 | BB28: 0.00059755808 | BC28: 1.8293457 | BD28: 0.038488193 | BE28: 0.19515373 | BF28: 0.54201456 | BG28: 0.048947939 | BH28: 0.17741106 | BI28: 0.092619901 | BJ28: 0 | BK28: 3.0145693 | BL28: 2.4099958 | BM28: 0 | BN28: 0 | BO28: 0 | BP28: 0.93043062 | BQ28: 17.023758 | BR28: 0 | BS28: 0.00015747072 | BT28: 0 | BU28: 0 | BV28: 0 | BW28: 14.154573 | BX28: 0.018607877 | BY28: 0 | BZ28: 0 | CA28: 0 | CB28: 0 | CC28: 0 | CD28: 0 | CE28: 77.575283 | CF28: 100
B29: 0.66288056 | C29: -3.0230274 | D29: 1.0368261 | E29: 4.8462615 | F29: Participación de las Actividades Económicas en la No Bioeconomía | G29: 0.0055397431 | H29: 0.011999513 | I29: 0.0052673579 | J29: 0.0077934587 | K29: 0.022401265 | L29: 0.031221321 | M29: 0.011793823 | N29: 0.0071089023 | O29: 0.022997935 | P29: 0.010902496 | Q29: 0.0031502439 | R29: 0.0048248825 | S29: 3.2419657 | T29: 5.8573523 | U29: 0.68172763 | V29: 0.090794491 | W29: 0.0064254931 | X29: 0.014032557 | Y29: 0 | Z29: 0.00053771142 | AA29: 0.003350661 | AB29: 0.0029098512 | AC29: 0.01315248 | AD29: 0.0094532396 | AE29: 0.002301275 | AF29: 0.0073617205 | AG29: 0.0004531529 | AH29: 0.0076333921 | AI29: 0.022872984 | AJ29: 0.00019540299 | AK29: 0.00066420412 | AL29: 0.00020705317 | AM29: 0.00089056071 | AN29: 0.0082848237 | AO29: 0.015529117 | AP29: 0.0017074214 | AQ29: 0.0088497982 | AR29: 0.01780448 | AS29: 0.067810311 | AT29: 0.99030079 | AU29: 0.039720902 | AV29: 0.070406779 | AW29: 0.014009468 | AX29: 0.07779009 | AY29: 0.48835372 | AZ29: 0.14890569 | BA29: 0.46004129 | BB29: 0.30017965 | BC29: 0.57147369 | BD29: 0.069523205 | BE29: 0.20421477 | BF29: 0.11646394 | BG29: 0.13257453 | BH29: 0.30339188 | BI29: 0.34258305 | BJ29: 2.0380721 | BK29: 0.29031674 | BL29: 4.7317288 | BM29: 17.633534 | BN29: 6.2318981 | BO29: 0.19087963 | BP29: 0.34910507 | BQ29: 0.012136172 | BR29: 2.9363397 | BS29: 4.640665 | BT29: 0.48375172 | BU29: 0.2970106 | BV29: 9.6019299 | BW29: 7.7678519 | BX29: 10.185224 | BY29: 2.0622279 | BZ29: 4.7999007 | CA29: 1.8747247 | CB29: 3.6183438 | CC29: 1.2863706 | CD29: 0.8858455 | CE29: 96.477059 | CF29: 100
B30: 1.0178355 | C30: -2.3579166 | D30: 1.0893215 | E30: 5.7076488 | F30: Participación de las Actividades Económicas en el Total de la Economía | G30: 0.38881706 | H30: 0.13173783 | I30: 0.47180964 | J30: 0.10015311 | K30: 2.7431985 | L30: 0.76943533 | M30: 0.13486435 | N30: 0.61162952 | O30: 0.4107621 | P30: 1.0406643 | Q30: 0.33957514 | R30: 1.4325833 | S30: 2.52221 | T30: 4.556949 | U30: 0.53037583 | V30: 0.10134207 | W30: 0.99158009 | X30: 0.5262795 | Y30: 1.3888684 | Z30: 0.30737495 | AA30: 0.58465726 | AB30: 0.31080869 | AC30: 0.67764078 | AD30: 0.17915996 | AE30: 0.095405467 | AF30: 0.074892094 | AG30: 0.056945068 | AH30: 0.38443195 | AI30: 0.37054336 | AJ30: 0.029945163 | AK30: 0.21737356 | AL30: 0.27496584 | AM30: 0.01062894 | AN30: 0.16926221 | AO30: 0.35638748 | AP30: 0.10596375 | AQ30: 0.39957606 | AR30: 0.52755756 | AS30: 0.26753716 | AT30: 0.77044201 | AU30: 0.18080054 | AV30: 0.36570252 | AW30: 0.20765502 | AX30: 0.061075188 | AY30: 0.37993521 | AZ30: 0.11588197 | BA30: 0.35889136 | BB30: 0.23356838 | BC30: 0.5433448 | BD30: 0.056165742 | BE30: 0.16941071 | BF30: 0.11986463 | BG30: 0.10578351 | BH30: 0.24561158 | BI30: 0.27152493 | BJ30: 1.5861822 | BK30: 0.38858562 | BL30: 3.8113154 | BM30: 13.718676 | BN30: 4.8483411 | BO30: 0.14850204 | BP30: 0.32182269 | BQ30: 0.9283574 | BR30: 2.2844367 | BS30: 3.6103896 | BT30: 0.37635297 | BU30: 0.23107064 | BV30: 7.470185 | BW30: 6.8073361 | BX30: 7.9261306 | BY30: 1.6043883 | BZ30: 3.7342645 | CA30: 1.4585131 | CB30: 2.8150276 | CC30: 1.004506 | CD30: 0.68917705 | CE30: 94.543111 | CF30: 100
B32: -18.38886 | C32: 30.769231 | D32: 6.1673412 | E32: -7.1721115 | F32: Tasa de evolución de la Bioeconomía | G32: -7.5439139 | H32: 3.3815222 | I32: -1.3928382 | J32: -2.9218808 | K32: 2.4667193 | L32: -6.9426632 | M32: -3.5719914 | N32: 16.087064 | O32: 5.6769693 | P32: -4.525422 | Q32: -15.310574 | R32: 2.2545279 | S32: 0 | T32: 0 | U32: 0 | V32: 4.2765481 | W32: -5.6786897 | X32: 3.3217546 | Y32: 4.3204791 | Z32: -6.6355174 | AA32: -9.2950251 | AB32: -4.9312152 | AC32: -6.8808326 | AD32: -8.5547365 | AE32: -9.9793779 | AF32: -6.8172479 | AG32: -3.3083207 | AH32: 5.5583747 | AI32: -2.7838727 | AJ32: -6.6347922 | AK32: -17.32937 | AL32: -17.625551 | AM32: -42.886224 | AN32: 0 | AO32: 0 | AP32: 0 | AQ32: -9.1956351 | AR32: 0 | AS32: 0 | AT32: 0 | AU32: -5.5951701 | AV32: 0 | AW32: 0 | AX32: 0 | AY32: 0 | AZ32: 0 | BA32: 0 | BB32: 0 | BC32: 0 | BD32: 0 | BE32: 0 | BF32: 0 | BG32: 0 | BH32: 0 | BI32: 0 | BJ32: 3.3854914 | BK32: -0.40643424 | BL32: 0 | BM32: 0 | BN32: 0 | BO32: 0 | BP32: 0 | BQ32: 0 | BR32: 0 | BS32: 0 | BT32: 0 | BU32: 0 | BV32: 0 | BW32: 0 | BX32: -43.591796 | BY32: 0 | BZ32: 0 | CA32: 0 | CB32: 0 | CC32: 4.6927734 | CD32: 0 | CE32: -2.0086588 | CF32: -2.8197859
B33: -14.747403 | C33: 4.5478866 | D33: -17.141048 | E33: -16.815324 | F33: Tasa de evolución de la Bioeconomía Extendida | G33: 0 | H33: 0 | I33: 0 | J33: 0 | K33: 0 | L33: 0 | M33: 0 | N33: 0 | O33: 0 | P33: 0 | Q33: 0 | R33: 0 | S33: 0 | T33: 0 | U33: 0 | V33: 0 | W33: -9.4421931 | X33: -7.471031 | Y33: 0 | Z33: -12.099233 | AA33: -9.5952734 | AB33: -0.29493592 | AC33: -14.435837 | AD33: -100 | AE33: -6.6076647 | AF33: 0 | AG33: 0 | AH33: -10.237588 | AI33: -10.275007 | AJ33: 0 | AK33: -10.107115 | AL33: -10.704707 | AM33: 0 | AN33: -19.828512 | AO33: -27.001793 | AP33: -33.048244 | AQ33: -9.0706691 | AR33: -10.269659 | AS33: -20.994276 | AT33: 0 | AU33: -11.169055 | AV33: -12.121061 | AW33: 2.6529408 | AX33: -20.246604 | AY33: -30.389879 | AZ33: -7.5002814 | BA33: -8.5948995 | BB33: -13.264727 | BC33: -9.5244115 | BD33: -15.777692 | BE33: -11.56563 | BF33: -9.2680722 | BG33: 7.4564618 | BH33: -9.5044671 | BI33: -1.9699512 | BJ33: 0 | BK33: 3.6807714 | BL33: -29.636346 | BM33: 0 | BN33: 0 | BO33: 0 | BP33: -17.954759 | BQ33: -19.116715 | BR33: 0 | BS33: -16.907463 | BT33: 0 | BU33: 0 | BV33: 0 | BW33: -11.337681 | BX33: -63.739375 | BY33: 0 | BZ33: 0 | CA33: 0 | CB33: 0 | CC33: 0 | CD33: 0 | CE33: -15.783512 | CF33: -16.033888
B34: -22.737169 | C34: -8.8027435 | D34: -22.269152 | E34: -15.977915 | F34: Tasa de evolución de la No Bioeconomía | G34: -7.4557978 | H34: 11.449006 | I34: -1.4012033 | J34: 1.358383 | K34: 2.5460961 | L34: -6.8152739 | M34: -2.3495656 | N34: 16.285953 | O34: 7.2977612 | P34: -7.3370811 | Q34: -15.296106 | R34: -0.0086530882 | S34: -1.4115177 | T34: -11.939347 | U34: 116.87409 | V34: -25.691359 | W34: -6.0974508 | X34: -1.0115507 | Y34: 0 | Z34: -6.6200515 | AA34: -12.624474 | AB34: -5.561195 | AC34: -7.4152041 | AD34: -3.848014 | AE34: -9.9772034 | AF34: -7.2151407 | AG34: -1.7721872 | AH34: 5.5625564 | AI34: -4.6316511 | AJ34: -6.6658718 | AK34: -17.333183 | AL34: -17.680902 | AM34: -52.458281 | AN34: -20.320018 | AO34: -32.692418 | AP34: -35.44389 | AQ34: -9.7376473 | AR34: -10.434441 | AS34: -11.763639 | AT34: -19.273496 | AU34: -4.9032968 | AV34: -19.281315 | AW34: 2.6193225 | AX34: -20.583927 | AY34: -16.63415 | AZ34: -19.957856 | BA34: -20.108991 | BB34: -19.118151 | BC34: -10.096387 | BD34: -15.143982 | BE34: -11.709123 | BF34: -2.9333062 | BG34: -37.535828 | BH34: -23.334435 | BI34: -17.35503 | BJ34: -3.7100148 | BK34: -6.2561724 | BL34: -27.293075 | BM34: -12.310301 | BN34: -12.599938 | BO34: -14.106323 | BP34: -22.017432 | BQ34: -19.115997 | BR34: -10.267738 | BS34: 2.6087187 | BT34: -17.706873 | BU34: -20.95947 | BV34: -1.2116081 | BW34: -14.585302 | BX34: -3.2608706 | BY34: -7.066602 | BZ34: -3.1315749 | CA34: -6.3833703 | CB34: 1.1925921 | CC34: -16.730545 | CD34: -26.250804 | CE34: -9.4090364 | CF34: -10.025243
B35: -20.52397 | C35: -8.7726764 | D35: -19.762026 | E35: -14.760817 | F35: Tasa de evolución del Valor Agregado Total de la Economía | G35: -7.5429381 | H35: 3.9145677 | I35: -1.3929109 | J35: -2.6730624 | K35: 2.4672232 | L35: -6.9386471 | M35: -3.4897952 | N35: 16.08886 | O35: 5.7465476 | P35: -4.5490282 | Q35: -15.31047 | R35: 2.248464 | S35: -1.4115177 | T35: -11.939347 | U35: 116.87409 | V35: -18.603848 | W35: -5.6819012 | X35: 3.1382773 | Y35: 4.3204791 | Z35: -6.6355812 | AA35: -9.3105711 | AB35: -4.9358199 | AC35: -6.8893123 | AD35: -8.3716107 | AE35: -9.9753587 | AF35: -6.847797 | AG35: -3.2989583 | AH35: 5.5566022 | AI35: -3.036491 | AJ35: -6.63495 | AK35: -17.327683 | AL35: -17.609478 | AM35: -43.626093 | AN35: -19.847339 | AO35: -27.210416 | AP35: -33.079376 | AQ35: -9.2038759 | AR35: -10.273993 | AS35: -19.330175 | AT35: -19.273496 | AU35: -9.7573069 | AV35: -13.273363 | AW35: 2.6511757 | AX35: -20.580872 | AY35: -16.634234 | AZ35: -19.954586 | BA35: -20.081366 | BB35: -19.117397 | BC35: -9.9929768 | BD35: -15.167592 | BE35: -11.700214 | BF35: -4.5597612 | BG35: -36.875684 | BH35: -22.874875 | BI35: -17.115517 | BJ35: -3.7075697 | BK35: -2.3365232 | BL35: -27.375625 | BM35: -12.310301 | BN35: -12.599938 | BO35: -14.106323 | BP35: -21.410119 | BQ35: -19.116708 | BR35: -10.267738 | BS35: 2.608662 | BT35: -17.706873 | BU35: -20.95947 | BV35: -1.2116081 | BW35: -14.232697 | BX35: -3.291302 | BY35: -7.066602 | BZ35: -3.1315749 | CA35: -6.3833703 | CB35: 1.1925921 | CC35: -16.667304 | CD35: -26.250804 | CE35: -8.5985483 | CF35: -9.2450962
... B45: -0.23854642 | C45: 0.20578121 | D45: -0.24348806 | E45: -0.89701246 | F45: Contribución de las Actividades Económicas en el PIB | G45: -0.02878829 | H45: 0.004503892 | I45: -0.0060485615 | J45: -0.0024963793 | K45: 0.059944702 | L45: -0.052065215 | M45: -0.0044258221 | N45: 0.076929561 | O45: 0.02025822 | P45: -0.045011038 | Q45: -0.055714055 | R45: 0.028590327 | S45: -0.032772646 | T45: -0.56071597 | U45: 0.25939667 | V45: -0.021021261 | W45: -0.054212138 | X45: 0.014533091 | Y45: 0.052202767 | Z45: -0.019826047 | AA45: -0.05447423 | AB45: -0.014645549 | AC45: -0.045503622 | AD45: -0.014855594 | AE45: -0.009594238 | AF45: -0.0049964762 | AG45: -0.0017630795 | AH45: 0.018365953 | AI45: -0.010531077 | AJ45: -0.0019313016 | AK45: -0.041348257 | AL45: -0.05333571 | AM45: -0.0074649733 | AN45: -0.038037719 | AO45: -0.12090896 | AP45: -0.047536229 | AQ45: -0.036759789 | AR45: -0.054822757 | AS45: -0.058180693 | AT45: -0.1669377 | AU45: -0.017741394 | AV45: -0.050795649 | AW45: 0.004867289 | AX45: -0.01436394 | AY45: -0.068800993 | AZ45: -0.026217559 | BA45: -0.081842391 | BB45: -0.050102313 | BC45: -0.054747475 | BD45: -0.0091137361 | BE45: -0.020372537 | BF45: -0.0051972274 | BG45: -0.056083028 | BH45: -0.066112228 | BI45: -0.050885801 | BJ45: -0.055426869 | BK45: -0.00843713 | BL45: -1.303847 | BM45: -1.7478428 | BN45: -0.63433685 | BO45: -0.022133757 | BP45: -0.079568139 | BQ45: -0.19913132 | BR45: -0.23723317 | BS45: 0.083302485 | BT45: -0.073492625 | BU45: -0.055609032 | BV45: -0.083149133 | BW45: -1.0252098 | BX45: -0.24481246 | BY45: -0.11071805 | BZ45: -0.10956094 | CA45: -0.090256286 | CB45: 0.030108974 | CC45: -0.18233606 | CD45: -0.2226313 | CE45: -8.0718305 | CF45: -9.2450962
B47: (pb): precios básicos
B48: (pc): precios de comprador | CE48: PIB PRODUCCIÓN | CF48: 97648492
B49: Elaboración: Banco Central del Ecuador
CE50: PIB BIOECONOMÍA | CF50: 21679150

Sheet 2020
G8: A | S8: B | W8: C | BJ8: D | BK8: E | BL8: F | BM8: G | BN8: H | BP8: I | BR8: J | BS8: K | BV8: L | BW8: M - N | BX8: O | BY8: P | CA8: Q | CC8: R - S - U | CD8: T
G9: AGRICULTURA, GANADERÍA, SILVICULTURA Y PESCA. | S9: EXPLOTACIÓN DE MINAS Y CANTERAS. | W9: INDUSTRIAS MANUFACTURERAS. | BJ9: SUMINISTRO DE ELECTRICIDAD, GAS, VAPOR Y AIRE ACONDICIONADO. | BK9: DISTRIBUCIÓN DE AGUA; ALCANTARILLADO, GESTIÓN DE DESECHOS Y ACTIVIDADES DE SANEAMIENTO. | BL9: CONSTRUCCIÓN. | BM9: COMERCIO AL POR MAYOR Y AL POR MENOR; REPARACIÓN DE VEHÍCULOS AUTOMOTORES Y MOTOCICLETAS. | BN9: TRANSPORTE Y ALMACENAMIENTO. | BP9: ACTIVIDADES DE ALOJAMIENTO Y DE SERVICIO DE COMIDAS. | BR9: INFORMACIÓN Y COMUNICACIÓN. | BS9: ACTIVIDADES FINANCIERAS Y DE SEGUROS. | BV9: ACTIVIDADES INMOBILIARIAS. | BW9: ACTIVIDADES PROFESIONALES, CIENTÍFICAS Y TÉCNICAS, Y ACTIVIDADES DE SERVICIOS ADMINISTRATIVOS Y DE APOYO. | BX9: ADMINISTRACIÓN PÚBLICA Y DEFENSA; PLANES DE SEGURIDAD SOCIAL DE AFILIACIÓN OBLIGATORIA. | BY9: ENSEÑANZA. | CA9: ACTIVIDADES DE ATENCIÓN DE LA SALUD HUMANA Y DE ASISTENCIA SOCIAL. | CC9: ARTES, ENTRETENIMIENTO Y RECREACIÓN, OTRAS ACTIVIDADES DE SERVICIOS, Y ACTIVIDADES DE ORGANIZACIONES Y ÓRGANOS EXTRATERRITORIALES | CD9: ACTIVIDADES DE LOS HOGARES COMO EMPLEADORES; ACTIVIDADES NO DIFERENCIADAS DE LOS HOGARES COMO PRODUCTORES DE BIENES Y SERVICIOS PARA USO PROPIO.
B10: Otros elementos del PIB | G10: 01 | H10: 02 | I10: 03 | J10: 04 | K10: 05 | L10: 06 | M10: 07 | N10: 08 | O10: 09 | P10: 10 | Q10: 11 | R10: 12 | S10: 13 | T10: 14 | U10: 15 | V10: 16 | W10: 17 | X10: 18 | Y10: 19 | Z10: 20 | AA10: 21 | AB10: 22 | AC10: 23 | AD10: 24 | AE10: 25 | AF10: 26 | AG10: 27 | AH10: 28 | AI10: 29 | AJ10: 30 | AK10: 31 | AL10: 32 | AM10: 33 | AN10: 34 | AO10: 35 | AP10: 36 | AQ10: 37 | AR10: 38 | AS10: 39 | AT10: 40 | AU10: 41 | AV10: 42 | AW10: 43 | AX10: 44 | AY10: 45 | AZ10: 46 | BA10: 47 | BB10: 48 | BC10: 49 | BD10: 50 | BE10: 51 | BF10: 52 | BG10: 53 | BH10: 54 | BI10: 55 | BJ10: 56 | BK10: 57 | BL10: 58 | BM10: 59 | BN10: 60 | BO10: 61 | BP10: 62 | BQ10: 63 | BR10: 64 | BS10: 65 | BT10: 66 | BU10: 67 | BV10: 68 | BW10: 69 | BX10: 70 | BY10: 71 | BZ10: 72 | CA10: 73 | CB10: 74 | CC10: 75 | CD10: 76
B11: Impuestos indirectos sobre productos | C11: Subsidios sobre productos | D11: Derechos arancelarios | E11: Impuesto al valor agregado (IVA) | F11: Descripción | G11: Cultivo de cereales (excepto arroz), legumbres y semillas oleaginosas | H11: Cultivo de arroz | I11: Cultivo de hortalizas y melones, raíces y tubérculos | J11: Cultivo de caña de azúcar | K11: Cultivos de frutas, y otros tipos de cultivos n.c.p. | L11: Cultivo de otras plantas no perennes y propagación de plantas | M11: Cultivo de frutos oleaginosos | N11: Cultivo de plantas con las que se preparan bebidas | O11: Actividades de apoyo a la agricultura, poscosecha y tratamiento de semillas para propagación | P11: Ganadería | Q11: Silvicultura y extracción de madera | R11: Pesca y acuicultura | S11: Servicios Petroleros | T11: Extracción de petróleo crudo y gas natural | U11: Extracción de minerales metálicos | V11: Explotación de otras minas y canteras, y actividades de apoyo | W11: Elaboración y conservación de carne | X11: Preparación y conservación de pescado y otros productos acuaticos elaborados | Y11: Procesamiento y conservación de camarón | Z11: Elaboración de aceites y grasas de origen vegetal y animal | AA11: Elaboración de productos lácteos | AB11: Elaboración de productos de la panadería y pastelería | AC11: Elaboración de productos de molinería | AD11: Elaboración y refinación de azúcar | AE11: Elaboración de cacao, chocolate y productos de confitería | AF11: Elaboración de fideos y de otros productos farináceos | AG11: Elaboración de café | AH11: Elaboración de alimentos preparados para animales | AI11: Elaboración de otros productos alimenticios diversos | AJ11: Elaboración bebidas no alcohólicas (jugos) | AK11: Elaboración bebidas no alcohólicas (excepto jugos) | AL11: Elaboración bebidas alcohólicas | AM11: Elaboración de productos de tabaco | AN11: Fabricación de hilos, hilados; tejidos y confecciones | AO11: Fabricación de prendas de vestir | AP11: Fabricación de cuero, productos de cuero y calzado | AQ11: Producción de madera y de productos de madera | AR11: Fabricación de papel y productos de papel | AS11: Impresión y reproducción de grabaciones | AT11: Fabricación de productos refinados de petróleo y de otros | AU11: Fabricación de sustancias químicas básicas, abonos y plásticos primarios, caucho sintético y artificial | AV11: Fabricación de otros productos químicos | AW11: Fabricación de productos farmacéuticos y medicamentos | AX11: Fabricación de productos de caucho | AY11: Fabricación de productos de plástico | AZ11: Fabricación de vidrio, productos refractarios y de cerámica | BA11: Fabricación de cemento, artículos de hormigón y piedra | BB11: Fabricación de metales comunes | BC11: Fabricación de productos derivados del metal, excepto maquinaria y equipo | BD11: Fabricación de productos de informática, electrónica y óptica | BE11: Fabricación de equipo eléctrico | BF11: Fabricación de maquinaria y equipo n.c.p. | BG11: Fabricación de vehículos y equipos de transporte | BH11: Fabricación de muebles | BI11: Industrias manufactureras n.c.p. | BJ11: Suministro de electricidad, gas, vapor y aire acondicionado | BK11: Distribución de agua; alcantarillado, gestión de desechos y actividades de saneamiento | BL11: Construcción | BM11: Comercio al por mayor y al por menor; reparación de vehículos automotores y motocicletas | BN11: Transporte y almacenamiento | BO11: Actividades postales y de mensajería | BP11: Actividades de alojamiento | BQ11: Servicio de alimento y bebida | BR11: Información y comunicación | BS11: Actividades de servicios financieros, excepto las de seguros y fondos de pensiones | BT11: Seguros, reaseguros y fondos de pensiones, excepto los planes de seguridad social de afiliación obligatoria | BU11: Actividades auxiliares de las actividades de servicios financieros | BV11: Actividades inmobiliarias | BW11: Actividades profesionales, científicas, técnicas y administrativas | BX11: Administración pública y defensa; planes de seguridad social de afiliación obligatoria | BY11: Servicios de enseñanza privada | BZ11: Servicios de enseñanza pública (no de mercado) | CA11: Actividades de atención de la salud humana y de asistencia social privada | CB11: Actividades de atención de la salud humana y de asistencia social no de mercado | CC11: Servicios de asociaciones, personales; esparcimiento; culturales y deportivos | CD11: Actividades de los hogares como empleadores de personal doméstico | CE11: Total de las Industrias | CF11: ECONOMÍA TOTAL
F12: Productos directamente vinculados con la Bioeconomía | G12: 622752 | H12: 308691 | I12: 751214 | J12: 198252 | K12: 5187074 | L12: 1223440 | M12: 292688 | N12: 992908 | O12: 550598 | P12: 2226225 | Q12: 422401 | R12: 4108179 | S12: 0 | T12: 0 | U12: 0 | V12: 67379 | W12: 2357011 | X12: 2106566 | Y12: 3999171 | Z12: 1242291 | AA12: 1583021 | AB12: 614253 | AC12: 1668042 | AD12: 409970 | AE12: 306476 | AF12: 212779 | AG12: 166715 | AH12: 1737567 | AI12: 849758 | AJ12: 129736 | AK12: 701576 | AL12: 489308 | AM12: 29562 | AN12: 0 | AO12: 0 | AP12: 0 | AQ12: 1349471 | AR12: 0 | AS12: 0 | AT12: 0 | AU12: 57032 | AV12: 0 | AW12: 0 | AX12: 0 | AY12: 0 | AZ12: 0 | BA12: 0 | BB12: 0 | BC12: 0 | BD12: 0 | BE12: 0 | BF12: 0 | BG12: 0 | BH12: 0 | BI12: 0 | BJ12: 1053 | BK12: 53 | BL12: 0 | BM12: 0 | BN12: 0 | BO12: 0 | BP12: 0 | BQ12: 0 | BR12: 0 | BS12: 0 | BT12: 0 | BU12: 0 | BV12: 0 | BW12: 0 | BX12: 1296 | BY12: 0 | BZ12: 0 | CA12: 0 | CB12: 0 | CC12: 2260 | CD12: 0 | CE12: 36966768 | CF12: 36966768
F13: Productos funcionalmente relacionados con la Bioeconomía | G13: 0 | H13: 0 | I13: 0 | J13: 0 | K13: 0 | L13: 0 | M13: 0 | N13: 0 | O13: 0 | P13: 0 | Q13: 0 | R13: 0 | S13: 0 | T13: 0 | U13: 0 | V13: 0 | W13: 631 | X13: 16317 | Y13: 0 | Z13: 14 | AA13: 600 | AB13: 2 | AC13: 80 | AD13: 0 | AE13: 640 | AF13: 0 | AG13: 0 | AH13: 184 | AI13: 13489 | AJ13: 0 | AK13: 346 | AL13: 392 | AM13: 0 | AN13: 409179 | AO13: 738661 | AP13: 236339 | AQ13: 10429 | AR13: 1625677 | AS13: 458348 | AT13: 0 | AU13: 409568 | AV13: 822725 | AW13: 493535 | AX13: 1269 | AY13: 7 | AZ13: 187 | BA13: 2327 | BB13: 84 | BC13: 203618 | BD13: 3355 | BE13: 34584 | BF13: 71675 | BG13: 10247 | BH13: 15775 | BI13: 9400 | BJ13: 0 | BK13: 324154 | BL13: 282531 | BM13: 0 | BN13: 0 | BO13: 0 | BP13: 46441 | BQ13: 1890583 | BR13: 0 | BS13: 12 | BT13: 0 | BU13: 0 | BV13: 0 | BW13: 1270416 | BX13: 1137 | BY13: 0 | BZ13: 0 | CA13: 0 | CB13: 0 | CC13: 0 | CD13: 0 | CE13: 9404958 | CF13: 9404958
F14: Productos no relacionados con la Bioeconomía | G14: 8338 | H14: 18694 | I14: 8138 | J14: 10577 | K14: 29804 | L14: 41039 | M14: 19029 | N14: 7213 | O14: 26695 | P14: 21617 | Q14: 8081 | R14: 8003 | S14: 2618339 | T14: 5303744 | U14: 1265810 | V14: 174226 | W14: 20872 | X14: 86462 | Y14: 0 | Z14: 472 | AA14: 5605 | AB14: 3296 | AC14: 25765 | AD14: 14847 | AE14: 4925 | AF14: 21240 | AG14: 4032 | AH14: 31360 | AI14: 47279 | AJ14: 379 | AK14: 1829 | AL14: 754 | AM14: 255 | AN14: 10755 | AO14: 22886 | AP14: 3403 | AQ14: 22227 | AR14: 56827 | AS14: 100387 | AT14: 2537787 | AU14: 93842 | AV14: 147874 | AW14: 30089 | AX14: 150834 | AY14: 1153399 | AZ14: 287377 | BA14: 768632 | BB14: 1097457 | BC14: 901302 | BD14: 151486 | BE14: 519749 | BF14: 178455 | BG14: 404173 | BH14: 560067 | BI14: 480054 | BJ14: 3033445 | BK14: 439813 | BL14: 8127418 | BM14: 21143928 | BN14: 9585552 | BO14: 333504 | BP14: 398772 | BQ14: 15210 | BR14: 4286354 | BS14: 4876742 | BT14: 1345891 | BU14: 477632 | BV14: 9817594 | BW14: 9377525 | BX14: 9222415 | BY14: 2373032 | BZ14: 3713757 | CA14: 2986116 | CB14: 4041680 | CC14: 1933988 | CD14: 653703 | CE14: 117701852 | CF14: 117701852
F15: Producción Total de la Economía (pb) | G15: 631090 | H15: 327385 | I15: 759352 | J15: 208829 | K15: 5216878 | L15: 1264479 | M15: 311717 | N15: 1000121 | O15: 577293 | P15: 2247842 | Q15: 430482 | R15: 4116182 | S15: 2618339 | T15: 5303744 | U15: 1265810 | V15: 241605 | W15: 2378514 | X15: 2209345 | Y15: 3999171 | Z15: 1242777 | AA15: 1589226 | AB15: 617551 | AC15: 1693887 | AD15: 424817 | AE15: 312041 | AF15: 234019 | AG15: 170747 | AH15: 1769111 | AI15: 910526 | AJ15: 130115 | AK15: 703751 | AL15: 490454 | AM15: 29817 | AN15: 419934 | AO15: 761547 | AP15: 239742 | AQ15: 1382127 | AR15: 1682504 | AS15: 558735 | AT15: 2537787 | AU15: 560442 | AV15: 970599 | AW15: 523624 | AX15: 152103 | AY15: 1153406 | AZ15: 287564 | BA15: 770959 | BB15: 1097541 | BC15: 1104920 | BD15: 154841 | BE15: 554333 | BF15: 250130 | BG15: 414420 | BH15: 575842 | BI15: 489454 | BJ15: 3034498 | BK15: 764020 | BL15: 8409949 | BM15: 21143928 | BN15: 9585552 | BO15: 333504 | BP15: 445213 | BQ15: 1905793 | BR15: 4286354 | BS15: 4876754 | BT15: 1345891 | BU15: 477632 | BV15: 9817594 | BW15: 10647941 | BX15: 9224848 | BY15: 2373032 | BZ15: 3713757 | CA15: 2986116 | CB15: 4041680 | CC15: 1936248 | CD15: 653703 | CE15: 164073578 | CF15: 164073578
F17: Productos directamente vinculados con la Bioeconomía | G17: 243119.88 | H17: 182879.98 | I17: 315211.27 | J17: 116737.88 | K17: 2522886.9 | L17: 531056.28 | M17: 154314.31 | N17: 382554.92 | O17: 209722.87 | P17: 1273612 | Q17: 143297.56 | R17: 2877241.9 | S17: 0 | T17: 0 | U17: 0 | V17: 39958.88 | W17: 1405843.5 | X17: 1565272.6 | Y17: 2502839 | Z17: 952649.31 | AA17: 1009447.2 | AB17: 317189.97 | AC17: 1034389.9 | AD17: 257329.84 | AE17: 231602.55 | AF17: 143546.88 | AG17: 102556.67 | AH17: 1338375 | AI17: 485219.89 | AJ17: 99462.439 | AK17: 486071.1 | AL17: 248486.03 | AM17: 18343.768 | AN17: 0 | AO17: 0 | AP17: 0 | AQ17: 887904.5 | AR17: 0 | AS17: 0 | AT17: 0 | AU17: 35722.212 | AV17: 0 | AW17: 0 | AX17: 0 | AY17: 0 | AZ17: 0 | BA17: 0 | BB17: 0 | BC17: 0 | BD17: 0 | BE17: 0 | BF17: 0 | BG17: 0 | BH17: 0 | BI17: 0 | BJ17: 528.17016 | BK17: 30.716373 | BL17: 0 | BM17: 0 | BN17: 0 | BO17: 0 | BP17: 0 | BQ17: 0 | BR17: 0 | BS17: 0 | BT17: 0 | BU17: 0 | BV17: 0 | BW17: 0 | BX17: 178.36724 | BY17: 0 | BZ17: 0 | CA17: 0 | CB17: 0 | CC17: 1055.2766 | CD17: 0 | CE17: 22116640 | CF17: 22116640
F18: Productos funcionalmente relacionados con la Bioeconomía | G18: 0 | H18: 0 | I18: 0 | J18: 0 | K18: 0 | L18: 0 | M18: 0 | N18: 0 | O18: 0 | P18: 0 | Q18: 0 | R18: 0 | S18: 0 | T18: 0 | U18: 0 | V18: 0 | W18: 376.3611 | X18: 12124.26 | Y18: 0 | Z18: 10.735883 | AA18: 382.60285 | AB18: 1.0327665 | AC18: 49.609779 | AD18: 0 | AE18: 483.64516 | AF18: 0 | AG18: 0 | AH18: 141.72748 | AI18: 7702.3472 | AJ18: 0 | AK18: 239.71829 | AL18: 199.06996 | AM18: 0 | AN18: 258670.03 | AO18: 402345.11 | AP18: 146966.85 | AQ18: 6861.9155 | AR18: 1122394.7 | AS18: 248691.74 | AT18: 0 | AU18: 256534.49 | AV18: 514183.31 | AW18: 287937.52 | AX18: 808.51476 | AY18: 4.6148537 | AZ18: 115.20863 | BA18: 1242.1861 | BB18: 64.293992 | BC18: 104352.66 | BD18: 2105.1817 | BE18: 24272.929 | BF18: 39826.003 | BG18: 8510.4596 | BH18: 9396.4805 | BI18: 4565.4301 | BJ18: 0 | BK18: 187864.81 | BL18: 160975.92 | BM18: 0 | BN18: 0 | BO18: 0 | BP18: 22870.586 | BQ18: 995433.6 | BR18: 0 | BS18: 3.7696271 | BT18: 0 | BU18: 0 | BV18: 0 | BW18: 467285.89 | BX18: 156.48422 | BY18: 0 | BZ18: 0 | CA18: 0 | CB18: 0 | CC18: 0 | CD18: 0 | CE18: 5296151.8 | CF18: 5296151.8
F19: Productos no relacionados con la Bioeconomía | G19: 3255.1217 | H19: 11075.018 | I19: 3414.7252 | J19: 6228.1167 | K19: 14496.057 | L19: 17813.721 | M19: 10032.687 | N19: 2779.0779 | O19: 10168.13 | P19: 12366.976 | Q19: 2741.4414 | R19: 5605.0545 | S19: 936272 | T19: 2564297 | U19: 654678 | V19: 103324.12 | W19: 12449.142 | X19: 64245.127 | Y19: 0 | Z19: 361.95261 | AA19: 3574.1483 | AB19: 1701.9992 | AC19: 15977.45 | AD19: 9319.1603 | AE19: 3721.8007 | AF19: 14329.12 | AG19: 2480.3316 | AH19: 24155.293 | AI19: 26996.758 | AJ19: 290.56133 | AK19: 1267.1814 | AL19: 382.90497 | AM19: 158.23222 | AN19: 6798.971 | AO19: 12465.894 | AP19: 2116.1476 | AQ19: 14624.585 | AR19: 39234.315 | AS19: 54468.259 | AT19: 1870808 | AU19: 58778.297 | AV19: 92417.689 | AW19: 17554.483 | AX19: 96100.485 | AY19: 760395.39 | AZ19: 177049.79 | BA19: 410306.81 | BB19: 839998.71 | BC19: 461910.34 | BD19: 95053.818 | BE19: 364788.07 | BF19: 99157.997 | BG19: 335678.54 | BH19: 333607.52 | BI19: 233154.57 | BJ19: 1521533.8 | BK19: 254895.47 | BL19: 4630708.1 | BM19: 7541513 | BN19: 4877735 | BO19: 180395 | BP19: 196381.41 | BQ19: 8008.4001 | BR19: 1976162 | BS19: 1531958.2 | BT19: 954372 | BU19: 243690 | BV19: 2540968 | BW19: 3449252.1 | BX19: 1269272.1 | BY19: 754477 | BZ19: 281519 | CA19: 1562506 | CB19: 1251467 | CC19: 903049.72 | CD19: 0 | CE19: 46846291 | CF19: 46846291
F20: Demanda Intermedia Total de la Economía (pc) | G20: 246375 | H20: 193955 | I20: 318626 | J20: 122966 | K20: 2537383 | L20: 548870 | M20: 164347 | N20: 385334 | O20: 219891 | P20: 1285979 | Q20: 146039 | R20: 2882847 | S20: 936272 | T20: 2564297 | U20: 654678 | V20: 143283 | W20: 1418669 | X20: 1641642 | Y20: 2502839 | Z20: 953022 | AA20: 1013404 | AB20: 318893 | AC20: 1050417 | AD20: 266649 | AE20: 235808 | AF20: 157876 | AG20: 105037 | AH20: 1362672 | AI20: 519919 | AJ20: 99753 | AK20: 487578 | AL20: 249068 | AM20: 18502 | AN20: 265469 | AO20: 414811 | AP20: 149083 | AQ20: 909391 | AR20: 1161629 | AS20: 303160 | AT20: 1870808 | AU20: 351035 | AV20: 606601 | AW20: 305492 | AX20: 96909 | AY20: 760400 | AZ20: 177165 | BA20: 411549 | BB20: 840063 | BC20: 566263 | BD20: 97159 | BE20: 389061 | BF20: 138984 | BG20: 344189 | BH20: 343004 | BI20: 237720 | BJ20: 1522062 | BK20: 442791 | BL20: 4791684 | BM20: 7541513 | BN20: 4877735 | BO20: 180395 | BP20: 219252 | BQ20: 1003442 | BR20: 1976162 | BS20: 1531962 | BT20: 954372 | BU20: 243690 | BV20: 2540968 | BW20: 3916538 | BX20: 1269607 | BY20: 754477 | BZ20: 281519 | CA20: 1562506 | CB20: 1251467 | CC20: 904105 | CD20: 0 | CE20: 74259082 | CF20: 74259082
B22: 451010 | C22: -73 | D22: 71429 | E22: 899139 | F22: Productos directamente vinculados con la Bioeconomía | G22: 379632.12 | H22: 125811.02 | I22: 436002.73 | J22: 81514.117 | K22: 2664187.1 | L22: 692383.72 | M22: 138373.69 | N22: 610353.08 | O22: 340875.13 | P22: 952612.98 | Q22: 279103.44 | R22: 1230937.1 | S22: 0 | T22: 0 | U22: 0 | V22: 27420.12 | W22: 951167.5 | X22: 541293.39 | Y22: 1496332 | Z22: 289641.69 | AA22: 573573.75 | AB22: 297063.03 | AC22: 633652.06 | AD22: 152640.16 | AE22: 74873.446 | AF22: 69232.12 | AG22: 64158.332 | AH22: 399192.02 | AI22: 364538.11 | AJ22: 30273.561 | AK22: 215504.9 | AL22: 240821.97 | AM22: 11218.232 | AN22: 0 | AO22: 0 | AP22: 0 | AQ22: 461566.5 | AR22: 0 | AS22: 0 | AT22: 0 | AU22: 21309.788 | AV22: 0 | AW22: 0 | AX22: 0 | AY22: 0 | AZ22: 0 | BA22: 0 | BB22: 0 | BC22: 0 | BD22: 0 | BE22: 0 | BF22: 0 | BG22: 0 | BH22: 0 | BI22: 0 | BJ22: 524.82984 | BK22: 22.283627 | BL22: 0 | BM22: 0 | BN22: 0 | BO22: 0 | BP22: 0 | BQ22: 0 | BR22: 0 | BS22: 0 | BT22: 0 | BU22: 0 | BV22: 0 | BW22: 0 | BX22: 1117.6328 | BY22: 0 | BZ22: 0 | CA22: 0 | CB22: 0 | CC22: 1204.7234 | CD22: 0 | CE22: 14850128 | CF22: 16271633
B23: 33629 | C23: -16000 | D23: 152133 | E23: 905691 | F23: Productos funcionalmente relacionados con la Bioeconomía | G23: 0 | H23: 0 | I23: 0 | J23: 0 | K23: 0 | L23: 0 | M23: 0 | N23: 0 | O23: 0 | P23: 0 | Q23: 0 | R23: 0 | S23: 0 | T23: 0 | U23: 0 | V23: 0 | W23: 254.6389 | X23: 4192.7403 | Y23: 0 | Z23: 3.2641174 | AA23: 217.39715 | AB23: 0.96723348 | AC23: 30.390221 | AD23: 0 | AE23: 156.35484 | AF23: 0 | AG23: 0 | AH23: 42.272518 | AI23: 5786.6528 | AJ23: 0 | AK23: 106.28171 | AL23: 192.93004 | AM23: 0 | AN23: 150508.97 | AO23: 336315.89 | AP23: 89372.148 | AQ23: 3567.0845 | AR23: 503282.31 | AS23: 209656.26 | AT23: 0 | AU23: 153033.51 | AV23: 308541.69 | AW23: 205597.48 | AX23: 460.48524 | AY23: 2.3851463 | AZ23: 71.791368 | BA23: 1084.8139 | BB23: 19.706008 | BC23: 99265.341 | BD23: 1249.8183 | BE23: 10311.071 | BF23: 31848.997 | BG23: 1736.5404 | BH23: 6378.5195 | BI23: 4834.5699 | BJ23: 0 | BK23: 136289.19 | BL23: 121555.08 | BM23: 0 | BN23: 0 | BO23: 0 | BP23: 23570.414 | BQ23: 895149.4 | BR23: 0 | BS23: 8.2303729 | BT23: 0 | BU23: 0 | BV23: 0 | BW23: 803130.11 | BX23: 980.51578 | BY23: 0 | BZ23: 0 | CA23: 0 | CB23: 0 | CC23: 0 | CD23: 0 | CE23: 4108806.2 | CF23: 5184259.2
B24: 539419 | C24: -1225135 | D24: 646766 | E24: 3592969 | F24: Productos no relacionados con la Bioeconomía | G24: 5082.8783 | H24: 7618.982 | I24: 4723.2748 | J24: 4348.8833 | K24: 15307.943 | L24: 23225.279 | M24: 8996.3131 | N24: 4433.9221 | O24: 16526.87 | P24: 9250.024 | Q24: 5339.5586 | R24: 2397.9455 | S24: 1682067 | T24: 2739447 | U24: 611132 | V24: 70901.88 | W24: 8422.8576 | X24: 22216.873 | Y24: 0 | Z24: 110.04739 | AA24: 2030.8517 | AB24: 1594.0008 | AC24: 9787.5505 | AD24: 5527.8397 | AE24: 1203.1993 | AF24: 6910.8804 | AG24: 1551.6684 | AH24: 7204.7074 | AI24: 20282.242 | AJ24: 88.438673 | AK24: 561.81862 | AL24: 371.09503 | AM24: 96.767783 | AN24: 3956.029 | AO24: 10420.106 | AP24: 1286.8524 | AQ24: 7602.415 | AR24: 17592.685 | AS24: 45918.741 | AT24: 666979 | AU24: 35063.703 | AV24: 55456.311 | AW24: 12534.517 | AX24: 54733.515 | AY24: 393003.61 | AZ24: 110327.21 | BA24: 358325.19 | BB24: 257458.29 | BC24: 439391.66 | BD24: 56432.182 | BE24: 154960.93 | BF24: 79297.003 | BG24: 68494.46 | BH24: 226459.48 | BI24: 246899.43 | BJ24: 1511911.2 | BK24: 184917.53 | BL24: 3496709.9 | BM24: 13602415 | BN24: 4707817 | BO24: 153109 | BP24: 202390.59 | BQ24: 7201.5999 | BR24: 2310192 | BS24: 3344783.8 | BT24: 391519 | BU24: 233942 | BV24: 7276626 | BW24: 5928272.9 | BX24: 7953142.9 | BY24: 1618555 | BZ24: 3432238 | CA24: 1423610 | CB24: 2790213 | CC24: 1030938.3 | CD24: 653703 | CE24: 70855561 | CF24: 74409580
B25: 1024058 | C25: -1241208 | D25: 870328 | E25: 5397799 | F25: Valor Agregado Total de la Economía | G25: 384715 | H25: 133430 | I25: 440726 | J25: 85863 | K25: 2679495 | L25: 715609 | M25: 147370 | N25: 614787 | O25: 357402 | P25: 961863 | Q25: 284443 | R25: 1233335 | S25: 1682067 | T25: 2739447 | U25: 611132 | V25: 98322 | W25: 959845 | X25: 567703 | Y25: 1496332 | Z25: 289755 | AA25: 575822 | AB25: 298658 | AC25: 643470 | AD25: 158168 | AE25: 76233 | AF25: 76143 | AG25: 65710 | AH25: 406439 | AI25: 390607 | AJ25: 30362 | AK25: 216173 | AL25: 241386 | AM25: 11315 | AN25: 154465 | AO25: 346736 | AP25: 90659 | AQ25: 472736 | AR25: 520875 | AS25: 255575 | AT25: 666979 | AU25: 209407 | AV25: 363998 | AW25: 218132 | AX25: 55194 | AY25: 393006 | AZ25: 110399 | BA25: 359410 | BB25: 257478 | BC25: 538657 | BD25: 57682 | BE25: 165272 | BF25: 111146 | BG25: 70231 | BH25: 232838 | BI25: 251734 | BJ25: 1512436 | BK25: 321229 | BL25: 3618265 | BM25: 13602415 | BN25: 4707817 | BO25: 153109 | BP25: 225961 | BQ25: 902351 | BR25: 2310192 | BS25: 3344792 | BT25: 391519 | BU25: 233942 | BV25: 7276626 | BW25: 6731403 | BX25: 7955241 | BY25: 1618555 | BZ25: 3432238 | CA25: 1423610 | CB25: 2790213 | CC25: 1032143 | CD25: 653703 | CE25: 89814496 | CF25: 95865473
B27: 2.7717562 | C27: -0.00044863351 | D27: 0.43897867 | E27: 5.5258067 | F27: Participación de las Actividades Económicas en la Bioeconomía | G27: 2.3330917 | H27: 0.77319231 | I27: 2.6795265 | J27: 0.50095842 | K27: 16.3732 | L27: 4.2551581 | M27: 0.85039826 | N27: 3.7510253 | O27: 2.0949042 | P27: 5.8544398 | Q27: 1.7152761 | R27: 7.5649262 | S27: 0 | T27: 0 | U27: 0 | V27: 0.16851486 | W27: 5.8455564 | X27: 3.3266076 | Y27: 9.1959545 | Z27: 1.7800407 | AA27: 3.5249919 | AB27: 1.8256497 | AC27: 3.894213 | AD27: 0.93807522 | AE27: 0.46014708 | AF27: 0.42547738 | AG27: 0.39429559 | AH27: 2.4533003 | AI27: 2.2403289 | AJ27: 0.18605115 | AK27: 1.3244208 | AL27: 1.4800111 | AM27: 0.068943492 | AN27: 0 | AO27: 0 | AP27: 0 | AQ27: 2.8366329 | AR27: 0 | AS27: 0 | AT27: 0 | AU27: 0.13096281 | AV27: 0 | AW27: 0 | AX27: 0 | AY27: 0 | AZ27: 0 | BA27: 0 | BB27: 0 | BC27: 0 | BD27: 0 | BE27: 0 | BF27: 0 | BG27: 0 | BH27: 0 | BI27: 0 | BJ27: 0.0032254282 | BK27: 0.0001369477 | BL27: 0 | BM27: 0 | BN27: 0 | BO27: 0 | BP27: 0 | BQ27: 0 | BR27: 0 | BS27: 0 | BT27: 0 | BU27: 0 | BV27: 0 | BW27: 0 | BX27: 0.0068685961 | BY27: 0 | BZ27: 0 | CA27: 0 | CB27: 0 | CC27: 0.0074038256 | CD27: 0 | CE27: 91.263907 | CF27: 100
B28: 0.64867512 | C28: -0.30862654 | D28: 2.9345176 | E28: 17.470018 | F28: Participación de las Actividades Económicas en la Bioeconomía Extendida | G28: 0 | H28: 0 | I28: 0 | J28: 0 | K28: 0 | L28: 0 | M28: 0 | N28: 0 | O28: 0 | P28: 0 | Q28: 0 | R28: 0 | S28: 0 | T28: 0 | U28: 0 | V28: 0 | W28: 0.0049117703 | X28: 0.080874434 | Y28: 0 | Z28: 6.2962079e-05 | AA28: 0.0041934081 | AB28: 1.865712e-05 | AC28: 0.0005862018 | AD28: 0 | AE28: 0.0030159533 | AF28: 0 | AG28: 0 | AH28: 0.00081540131 | AI28: 0.11161967 | AJ28: 0 | AK28: 0.0020500847 | AL28: 0.0037214583 | AM28: 0 | AN28: 2.9031915 | AO28: 6.4872507 | AP28: 1.7239136 | AQ28: 0.068806059 | AR28: 9.7078925 | AS28: 4.0440929 | AT28: 0 | AU28: 2.9518877 | AV28: 5.9515097 | AW28: 3.9658025 | AX28: 0.0088823729 | AY28: 4.6007465e-05 | AZ28: 0.0013847951 | BA28: 0.020925148 | BB28: 0.00038011232 | BC28: 1.9147449 | BD28: 0.024107943 | BE28: 0.19889188 | BF28: 0.61434036 | BG28: 0.033496403 | BH28: 0.12303628 | BI28: 0.093254788 | BJ28: 0 | BK28: 2.6289038 | BL28: 2.3446953 | BM28: 0 | BN28: 0 | BO28: 0 | BP28: 0.45465346 | BQ28: 17.266679 | BR28: 0 | BS28: 0.00015875697 | BT28: 0 | BU28: 0 | BV28: 0 | BW28: 15.491704 | BX28: 0.018913325 | BY28: 0 | BZ28: 0 | CA28: 0 | CB28: 0 | CC28: 0 | CD28: 0 | CE28: 79.255416 | CF28: 100
B29: 0.72493219 | C29: -1.6464748 | D29: 0.86919721 | E29: 4.8286376 | F29: Participación de las Actividades Económicas en la No Bioeconomía | G29: 0.0068309461 | H29: 0.010239249 | I29: 0.0063476703 | J29: 0.0058445207 | K29: 0.020572543 | L29: 0.031212754 | M29: 0.012090262 | N29: 0.0059588054 | O29: 0.022210675 | P29: 0.012431227 | Q29: 0.0071759021 | R29: 0.00322263 | S29: 2.2605517 | T29: 3.6815783 | U29: 0.82130822 | V29: 0.095285956 | W29: 0.011319588 | X29: 0.029857543 | Y29: 0 | Z29: 0.00014789411 | AA29: 0.0027292879 | AB29: 0.0021421983 | AC29: 0.013153616 | AD29: 0.0074289355 | AE29: 0.0016169952 | AF29: 0.0092876218 | AG29: 0.0020853072 | AH29: 0.0096824996 | AI29: 0.027257568 | AJ29: 0.00011885388 | AK29: 0.00075503533 | AL29: 0.00049871943 | AM29: 0.00013004748 | AN29: 0.0053165586 | AO29: 0.014003715 | AP29: 0.0017294177 | AQ29: 0.010216984 | AR29: 0.023643038 | AS29: 0.061710791 | AT29: 0.89636173 | AU29: 0.047122565 | AV29: 0.074528456 | AW29: 0.016845299 | AX29: 0.07355708 | AY29: 0.52816265 | AZ29: 0.14827017 | BA29: 0.48155786 | BB29: 0.34600154 | BC29: 0.59050415 | BD29: 0.075839941 | BE29: 0.208254 | BF29: 0.10656827 | BG29: 0.092050592 | BH29: 0.30434183 | BI29: 0.33181135 | BJ29: 2.031877 | BK29: 0.24851306 | BL29: 4.6992738 | BM29: 18.280462 | BN29: 6.3268963 | BO29: 0.20576517 | BP29: 0.27199533 | BQ29: 0.0096783235 | BR29: 3.104697 | BS29: 4.4950983 | BT29: 0.52616746 | BU29: 0.31439769 | BV29: 9.779152 | BW29: 7.9670828 | BX29: 10.688332 | BY29: 2.1751971 | BZ29: 4.6126291 | CA29: 1.9132079 | CB29: 3.7498034 | CC29: 1.3854913 | CD29: 0.87851994 | CE29: 95.223708 | CF29: 100
B30: 1.068224 | C30: -1.2947393 | D30: 0.90786388 | E30: 5.6305976 | F30: Participación de las Actividades Económicas en el Total de la Economía | G30: 0.40130715 | H30: 0.13918463 | I30: 0.45973382 | J30: 0.089566136 | K30: 2.7950574 | L30: 0.74647209 | M30: 0.15372584 | N30: 0.6413018 | O30: 0.37281619 | P30: 1.0033466 | Q30: 0.29671058 | R30: 1.2865268 | S30: 1.7546119 | T30: 2.857595 | U30: 0.63748916 | V30: 0.10256247 | W30: 1.0012416 | X30: 0.59218714 | Y30: 1.5608664 | Z30: 0.30225168 | AA30: 0.6006563 | AB30: 0.31153865 | AC30: 0.67122185 | AD30: 0.16498954 | AE30: 0.079520809 | AF30: 0.079426928 | AG30: 0.068543969 | AH30: 0.42396807 | AI30: 0.40745327 | AJ30: 0.031671465 | AK30: 0.2254962 | AL30: 0.2517966 | AM30: 0.011802998 | AN30: 0.16112683 | AO30: 0.36169018 | AP30: 0.09456898 | AQ30: 0.49312436 | AR30: 0.54333952 | AS30: 0.26659755 | AT30: 0.69574475 | AU30: 0.21843839 | AV30: 0.37969666 | AW30: 0.22753969 | AX30: 0.05757443 | AY30: 0.40995573 | AZ30: 0.11516034 | BA30: 0.37491079 | BB30: 0.26858262 | BC30: 0.56188843 | BD30: 0.060169734 | BE30: 0.17239992 | BF30: 0.11593955 | BG30: 0.073259953 | BH30: 0.24287994 | BI30: 0.26259089 | BJ30: 1.577665 | BK30: 0.3350831 | BL30: 3.7743151 | BM30: 14.189066 | BN30: 4.9108577 | BO30: 0.15971235 | BP30: 0.23570634 | BQ30: 0.94126798 | BR30: 2.4098269 | BS30: 3.4890476 | BT30: 0.4084046 | BU30: 0.24403155 | BV30: 7.5904554 | BW30: 7.0217178 | BX30: 8.298338 | BY30: 1.6883607 | BZ30: 3.580265 | CA30: 1.4850081 | CB30: 2.9105505 | CC30: 1.0766577 | CD30: 0.68189618 | CE30: 93.688054 | CF30: 100
B32: 0.47046135 | C32: -7.6148375e-05 | D32: 0.07450962 | E32: 0.93791745 | F32: Participación de las Actividades Económicas de la Bioeconomía en el PIB | G32: 0.39600506 | H32: 0.13123705 | I32: 0.45480684 | J32: 0.085029692 | K32: 2.7790893 | L32: 0.72224514 | M32: 0.14434153 | N32: 0.63667665 | O32: 0.35557654 | P32: 0.99369767 | Q32: 0.29114073 | R32: 1.2840254 | S32: 0 | T32: 0 | U32: 0 | V32: 0.028602706 | W32: 0.99218986 | X32: 0.56463852 | Y32: 1.5608664 | Z32: 0.30213348 | AA32: 0.59831108 | AB32: 0.30987489 | AC32: 0.66098048 | AD32: 0.15922329 | AE32: 0.07810262 | AF32: 0.072217992 | AG32: 0.06692538 | AH32: 0.41640854 | AI32: 0.38026006 | AJ32: 0.031579212 | AK32: 0.22479929 | AL32: 0.25120825 | AM32: 0.011702057 | AN32: 0 | AO32: 0 | AP32: 0 | AQ32: 0.48147314 | AR32: 0 | AS32: 0 | AT32: 0 | AU32: 0.022228845 | AV32: 0 | AW32: 0 | AX32: 0 | AY32: 0 | AZ32: 0 | BA32: 0 | BB32: 0 | BC32: 0 | BD32: 0 | BE32: 0 | BF32: 0 | BG32: 0 | BH32: 0 | BI32: 0 | BJ32: 0.00054746493 | BK32: 2.3244685e-05 | BL32: 0 | BM32: 0 | BN32: 0 | BO32: 0 | BP32: 0 | BQ32: 0 | BR32: 0 | BS32: 0 | BT32: 0 | BU32: 0 | BV32: 0 | BW32: 0 | BX32: 0.0011658345 | BY32: 0 | BZ32: 0 | CA32: 0 | CB32: 0 | CC32: 0.0012566812 | CD32: 0 | CE32: 15.490591 | CF32: 16.973403
B33: 0.035079366 | C33: -0.016690055 | D33: 0.15869426 | E33: 0.94475203 | F33: Participación de las Actividades Económicas de la Bioeconomía Extendida en el PIB | G33: 0 | H33: 0 | I33: 0 | J33: 0 | K33: 0 | L33: 0 | M33: 0 | N33: 0 | O33: 0 | P33: 0 | Q33: 0 | R33: 0 | S33: 0 | T33: 0 | U33: 0 | V33: 0 | W33: 0.00026562108 | X33: 0.0043735666 | Y33: 0 | Z33: 3.4048936e-06 | AA33: 0.00022677314 | AB33: 1.0089487e-06 | AC33: 3.1700903e-05 | AD33: 0 | AE33: 0.00016309818 | AF33: 0 | AG33: 0 | AH33: 4.4095665e-05 | AI33: 0.006036222 | AJ33: 0 | AK33: 0.00011086547 | AL33: 0.00020125081 | AM33: 0 | AN33: 0.15700019 | AO33: 0.35082067 | AP33: 0.093226628 | AQ33: 0.0037209272 | AR33: 0.52498809 | AS33: 0.2186984 | AT33: 0 | AU33: 0.1596336 | AV33: 0.32184861 | AW33: 0.21446458 | AX33: 0.00048034524 | AY33: 2.4880139e-06 | AZ33: 7.4887617e-05 | BA33: 0.0011316003 | BB33: 2.0555897e-05 | BC33: 0.1035465 | BD33: 0.001303721 | BE33: 0.010755771 | BF33: 0.033222594 | BG33: 0.0018114346 | BH33: 0.0066536151 | BI33: 0.0050430773 | BJ33: 0 | BK33: 0.14216713 | BL33: 0.12679756 | BM33: 0 | BN33: 0 | BO33: 0 | BP33: 0.024586969 | BQ33: 0.93375579 | BR33: 0 | BS33: 8.5853359e-06 | BT33: 0 | BU33: 0 | BV33: 0 | BW33: 0.83776785 | BX33: 0.0010228039 | BY33: 0 | BZ33: 0 | CA33: 0 | CB33: 0 | CC33: 0 | CD33: 0 | CE33: 4.2860126 | CF33: 5.4078482
B34: 0.56268329 | C34: -1.2779731 | D34: 0.67466 | E34: 3.7479281 | F34: Participación de las Actividades Económicas de la No Bioeconomía en el PIB | G34: 0.0053020948 | H34: 0.0079475767 | I34: 0.0049269822 | J34: 0.0045364438 | K34: 0.01596815 | L34: 0.024226949 | M34: 0.0093843099 | N34: 0.0046251502 | O34: 0.017239648 | P34: 0.009648963 | Q34: 0.0055698454 | R34: 0.0025013651 | S34: 1.7546119 | T34: 2.857595 | U34: 0.63748916 | V34: 0.073959767 | W34: 0.0087861222 | X34: 0.023175052 | Y34: 0 | Z34: 0.00011479356 | AA34: 0.0021184391 | AB34: 0.0016627475 | AC34: 0.010209672 | AD34: 0.0057662468 | AE34: 0.0012550914 | AF34: 0.0072089358 | AG34: 0.0016185894 | AH34: 0.007515435 | AI34: 0.021156983 | AJ34: 9.2252894e-05 | AK34: 0.00058604898 | AL34: 0.00038709978 | AM34: 0.00010094123 | AN34: 0.0041266463 | AO34: 0.010869508 | AP34: 0.0013423524 | AQ34: 0.0079302952 | AR34: 0.01835143 | AS34: 0.047899144 | AT34: 0.69574475 | AU34: 0.036575945 | AV34: 0.057848055 | AW34: 0.013075111 | AX34: 0.057094085 | AY34: 0.40995324 | AZ34: 0.11508545 | BA34: 0.37377919 | BB34: 0.26856207 | BC34: 0.45834193 | BD34: 0.058866013 | BE34: 0.16164415 | BF34: 0.082716958 | BG34: 0.071448518 | BH34: 0.23622632 | BI34: 0.25754781 | BJ34: 1.5771175 | BK34: 0.19289273 | BL34: 3.6475175 | BM34: 14.189066 | BN34: 4.9108577 | BO34: 0.15971235 | BP34: 0.21111937 | BQ34: 0.0075121936 | BR34: 2.4098269 | BS34: 3.489039 | BT34: 0.4084046 | BU34: 0.24403155 | BV34: 7.5904554 | BW34: 6.18395 | BX34: 8.2961494 | BY34: 1.6883607 | BZ34: 3.580265 | CA34: 1.4850081 | CB34: 2.9105505 | CC34: 1.075401 | CD34: 0.68189618 | CE34: 73.91145 | CF34: 77.618749
B35: 1.068224 | C35: -1.2947393 | D35: 0.90786388 | E35: 5.6305976 | F35: Participación de las Actividades Económicas en el PIB | G35: 0.40130715 | H35: 0.13918463 | I35: 0.45973382 | J35: 0.089566136 | K35: 2.7950574 | L35: 0.74647209 | M35: 0.15372584 | N35: 0.6413018 | O35: 0.37281619 | P35: 1.0033466 | Q35: 0.29671058 | R35: 1.2865268 | S35: 1.7546119 | T35: 2.857595 | U35: 0.63748916 | V35: 0.10256247 | W35: 1.0012416 | X35: 0.59218714 | Y35: 1.5608664 | Z35: 0.30225168 | AA35: 0.6006563 | AB35: 0.31153865 | AC35: 0.67122185 | AD35: 0.16498954 | AE35: 0.079520809 | AF35: 0.079426928 | AG35: 0.068543969 | AH35: 0.42396807 | AI35: 0.40745327 | AJ35: 0.031671465 | AK35: 0.2254962 | AL35: 0.2517966 | AM35: 0.011802998 | AN35: 0.16112683 | AO35: 0.36169018 | AP35: 0.09456898 | AQ35: 0.49312436 | AR35: 0.54333952 | AS35: 0.26659755 | AT35: 0.69574475 | AU35: 0.21843839 | AV35: 0.37969666 | AW35: 0.22753969 | AX35: 0.05757443 | AY35: 0.40995573 | AZ35: 0.11516034 | BA35: 0.37491079 | BB35: 0.26858262 | BC35: 0.56188843 | BD35: 0.060169734 | BE35: 0.17239992 | BF35: 0.11593955 | BG35: 0.073259953 | BH35: 0.24287994 | BI35: 0.26259089 | BJ35: 1.577665 | BK35: 0.3350831 | BL35: 3.7743151 | BM35: 14.189066 | BN35: 4.9108577 | BO35: 0.15971235 | BP35: 0.23570634 | BQ35: 0.94126798 | BR35: 2.4098269 | BS35: 3.4890476 | BT35: 0.4084046 | BU35: 0.24403155 | BV35: 7.5904554 | BW35: 7.0217178 | BX35: 8.298338 | BY35: 1.6883607 | BZ35: 3.580265 | CA35: 1.4850081 | CB35: 2.9105505 | CC35: 1.0766577 | CD35: 0.68189618 | CE35: 93.688054 | CF35: 100
B37: (pb): precios básicos
B38: (pc): precios de comprador | CE38: PIB PRODUCCIÓN | CF38: 95865473
B39: Elaboración: Banco Central del Ecuador
CE40: PIB BIOECONOMÍA | CF40: 21455893

Sheet Q21P20
G8: A | S8: B | W8: C | BJ8: D | BK8: E | BL8: F | BM8: G | BN8: H | BP8: I | BR8: J | BS8: K | BV8: L | BW8: M - N | BX8: O | BY8: P | CA8: Q | CC8: R - S - U | CD8: T
G9: AGRICULTURA, GANADERÍA, SILVICULTURA Y PESCA. | S9: EXPLOTACIÓN DE MINAS Y CANTERAS. | W9: INDUSTRIAS MANUFACTURERAS. | BJ9: SUMINISTRO DE ELECTRICIDAD, GAS, VAPOR Y AIRE ACONDICIONADO. | BK9: DISTRIBUCIÓN DE AGUA; ALCANTARILLADO, GESTIÓN DE DESECHOS Y ACTIVIDADES DE SANEAMIENTO. | BL9: CONSTRUCCIÓN. | BM9: COMERCIO AL POR MAYOR Y AL POR MENOR; REPARACIÓN DE VEHÍCULOS AUTOMOTORES Y MOTOCICLETAS. | BN9: TRANSPORTE Y ALMACENAMIENTO. | BP9: ACTIVIDADES DE ALOJAMIENTO Y DE SERVICIO DE COMIDAS. | BR9: INFORMACIÓN Y COMUNICACIÓN. | BS9: ACTIVIDADES FINANCIERAS Y DE SEGUROS. | BV9: ACTIVIDADES INMOBILIARIAS. | BW9: ACTIVIDADES PROFESIONALES, CIENTÍFICAS Y TÉCNICAS, Y ACTIVIDADES DE SERVICIOS ADMINISTRATIVOS Y DE APOYO. | BX9: ADMINISTRACIÓN PÚBLICA Y DEFENSA; PLANES DE SEGURIDAD SOCIAL DE AFILIACIÓN OBLIGATORIA. | BY9: ENSEÑANZA. | CA9: ACTIVIDADES DE ATENCIÓN DE LA SALUD HUMANA Y DE ASISTENCIA SOCIAL. | CC9: ARTES, ENTRETENIMIENTO Y RECREACIÓN, OTRAS ACTIVIDADES DE SERVICIOS, Y ACTIVIDADES DE ORGANIZACIONES Y ÓRGANOS EXTRATERRITORIALES | CD9: ACTIVIDADES DE LOS HOGARES COMO EMPLEADORES; ACTIVIDADES NO DIFERENCIADAS DE LOS HOGARES COMO PRODUCTORES DE BIENES Y SERVICIOS PARA USO PROPIO.
B10: Otros elementos del PIB | G10: 01 | H10: 02 | I10: 03 | J10: 04 | K10: 05 | L10: 06 | M10: 07 | N10: 08 | O10: 09 | P10: 10 | Q10: 11 | R10: 12 | S10: 13 | T10: 14 | U10: 15 | V10: 16 | W10: 17 | X10: 18 | Y10: 19 | Z10: 20 | AA10: 21 | AB10: 22 | AC10: 23 | AD10: 24 | AE10: 25 | AF10: 26 | AG10: 27 | AH10: 28 | AI10: 29 | AJ10: 30 | AK10: 31 | AL10: 32 | AM10: 33 | AN10: 34 | AO10: 35 | AP10: 36 | AQ10: 37 | AR10: 38 | AS10: 39 | AT10: 40 | AU10: 41 | AV10: 42 | AW10: 43 | AX10: 44 | AY10: 45 | AZ10: 46 | BA10: 47 | BB10: 48 | BC10: 49 | BD10: 50 | BE10: 51 | BF10: 52 | BG10: 53 | BH10: 54 | BI10: 55 | BJ10: 56 | BK10: 57 | BL10: 58 | BM10: 59 | BN10: 60 | BO10: 61 | BP10: 62 | BQ10: 63 | BR10: 64 | BS10: 65 | BT10: 66 | BU10: 67 | BV10: 68 | BW10: 69 | BX10: 70 | BY10: 71 | BZ10: 72 | CA10: 73 | CB10: 74 | CC10: 75 | CD10: 76
B11: Impuestos indirectos sobre productos | C11: Subsidios sobre productos | D11: Derechos arancelarios | E11: Impuesto al valor agregado (IVA) | F11: Descripción | G11: Cultivo de cereales (excepto arroz), legumbres y semillas oleaginosas | H11: Cultivo de arroz | I11: Cultivo de hortalizas y melones, raíces y tubérculos | J11: Cultivo de caña de azúcar | K11: Cultivos de frutas, y otros tipos de cultivos n.c.p. | L11: Cultivo de otras plantas no perennes y propagación de plantas | M11: Cultivo de frutos oleaginosos | N11: Cultivo de plantas con las que se preparan bebidas | O11: Actividades de apoyo a la agricultura, poscosecha y tratamiento de semillas para propagación | P11: Ganadería | Q11: Silvicultura y extracción de madera | R11: Pesca y acuicultura | S11: Servicios Petroleros | T11: Extracción de petróleo crudo y gas natural | U11: Extracción de minerales metálicos | V11: Explotación de otras minas y canteras, y actividades de apoyo | W11: Elaboración y conservación de carne | X11: Preparación y conservación de pescado y otros productos acuaticos elaborados | Y11: Procesamiento y conservación de camarón | Z11: Elaboración de aceites y grasas de origen vegetal y animal | AA11: Elaboración de productos lácteos | AB11: Elaboración de productos de la panadería y pastelería | AC11: Elaboración de productos de molinería | AD11: Elaboración y refinación de azúcar | AE11: Elaboración de cacao, chocolate y productos de confitería | AF11: Elaboración de fideos y de otros productos farináceos | AG11: Elaboración de café | AH11: Elaboración de alimentos preparados para animales | AI11: Elaboración de otros productos alimenticios diversos | AJ11: Elaboración bebidas no alcohólicas (jugos) | AK11: Elaboración bebidas no alcohólicas (excepto jugos) | AL11: Elaboración bebidas alcohólicas | AM11: Elaboración de productos de tabaco | AN11: Fabricación de hilos, hilados; tejidos y confecciones | AO11: Fabricación de prendas de vestir | AP11: Fabricación de cuero, productos de cuero y calzado | AQ11: Producción de madera y de productos de madera | AR11: Fabricación de papel y productos de papel | AS11: Impresión y reproducción de grabaciones | AT11: Fabricación de productos refinados de petróleo y de otros | AU11: Fabricación de sustancias químicas básicas, abonos y plásticos primarios, caucho sintético y artificial | AV11: Fabricación de otros productos químicos | AW11: Fabricación de productos farmacéuticos y medicamentos | AX11: Fabricación de productos de caucho | AY11: Fabricación de productos de plástico | AZ11: Fabricación de vidrio, productos refractarios y de cerámica | BA11: Fabricación de cemento, artículos de hormigón y piedra | BB11: Fabricación de metales comunes | BC11: Fabricación de productos derivados del metal, excepto maquinaria y equipo | BD11: Fabricación de productos de informática, electrónica y óptica | BE11: Fabricación de equipo eléctrico | BF11: Fabricación de maquinaria y equipo n.c.p. | BG11: Fabricación de vehículos y equipos de transporte | BH11: Fabricación de muebles | BI11: Industrias manufactureras n.c.p. | BJ11: Suministro de electricidad, gas, vapor y aire acondicionado | BK11: Distribución de agua; alcantarillado, gestión de desechos y actividades de saneamiento | BL11: Construcción | BM11: Comercio al por mayor y al por menor; reparación de vehículos automotores y motocicletas | BN11: Transporte y almacenamiento | BO11: Actividades postales y de mensajería | BP11: Actividades de alojamiento | BQ11: Servicio de alimento y bebida | BR11: Información y comunicación | BS11: Actividades de servicios financieros, excepto las de seguros y fondos de pensiones | BT11: Seguros, reaseguros y fondos de pensiones, excepto los planes de seguridad social de afiliación obligatoria | BU11: Actividades auxiliares de las actividades de servicios financieros | BV11: Actividades inmobiliarias | BW11: Actividades profesionales, científicas, técnicas y administrativas | BX11: Administración pública y defensa; planes de seguridad social de afiliación obligatoria | BY11: Servicios de enseñanza privada | BZ11: Servicios de enseñanza pública (no de mercado) | CA11: Actividades de atención de la salud humana y de asistencia social privada | CB11: Actividades de atención de la salud humana y de asistencia social no de mercado | CC11: Servicios de asociaciones, personales; esparcimiento; culturales y deportivos | CD11: Actividades de los hogares como empleadores de personal doméstico | CE11: Total de las Industrias | CF11: ECONOMÍA TOTAL
F12: Productos directamente vinculados con la Bioeconomía | G12: 705037 | H12: 324158 | I12: 844732 | J12: 204497 | K12: 5209619 | L12: 1306292 | M12: 320738 | N12: 1016420 | O12: 574891 | P12: 2398879 | Q12: 438523 | R12: 5329943 | S12: 0 | T12: 0 | U12: 0 | V12: 70350 | W12: 2647176 | X12: 2422051 | Y12: 4903647 | Z12: 1311018 | AA12: 1691325 | AB12: 644245 | AC12: 1780748 | AD12: 441697 | AE12: 346022 | AF12: 200631 | AG12: 190316 | AH12: 2246934 | AI12: 883620 | AJ12: 151930 | AK12: 748102 | AL12: 532578 | AM12: 15049 | AN12: 0 | AO12: 0 | AP12: 0 | AQ12: 1224392 | AR12: 0 | AS12: 0 | AT12: 0 | AU12: 62251 | AV12: 0 | AW12: 0 | AX12: 0 | AY12: 0 | AZ12: 0 | BA12: 0 | BB12: 0 | BC12: 0 | BD12: 0 | BE12: 0 | BF12: 0 | BG12: 0 | BH12: 0 | BI12: 0 | BJ12: 1099 | BK12: 55 | BL12: 0 | BM12: 0 | BN12: 0 | BO12: 0 | BP12: 0 | BQ12: 0 | BR12: 0 | BS12: 0 | BT12: 0 | BU12: 0 | BV12: 0 | BW12: 0 | BX12: 1541 | BY12: 0 | BZ12: 0 | CA12: 0 | CB12: 0 | CC12: 2360 | CD12: 0 | CE12: 41192866 | CF12: 41192866
F13: Productos funcionalmente relacionados con la Bioeconomía | G13: 0 | H13: 0 | I13: 0 | J13: 0 | K13: 0 | L13: 0 | M13: 0 | N13: 0 | O13: 0 | P13: 0 | Q13: 0 | R13: 0 | S13: 0 | T13: 0 | U13: 0 | V13: 0 | W13: 780 | X13: 20169 | Y13: 0 | Z13: 17 | AA13: 742 | AB13: 2 | AC13: 99 | AD13: 0 | AE13: 791 | AF13: 0 | AG13: 0 | AH13: 227 | AI13: 16674 | AJ13: 0 | AK13: 428 | AL13: 485 | AM13: 0 | AN13: 508045 | AO13: 969998 | AP13: 295896 | AQ13: 12891 | AR13: 1807908 | AS13: 484186 | AT13: 0 | AU13: 526256 | AV13: 899500 | AW13: 521839 | AX13: 1551 | AY13: 9 | AZ13: 231 | BA13: 2876 | BB13: 104 | BC13: 251691 | BD13: 4147 | BE13: 42749 | BF13: 88597 | BG13: 12666 | BH13: 19499 | BI13: 10857 | BJ13: 0 | BK13: 327091 | BL13: 331208 | BM13: 0 | BN13: 0 | BO13: 0 | BP13: 55977 | BQ13: 2278792 | BR13: 0 | BS13: 11 | BT13: 0 | BU13: 0 | BV13: 0 | BW13: 1282083 | BX13: 2444 | BY13: 0 | BZ13: 0 | CA13: 0 | CB13: 0 | CC13: 0 | CD13: 0 | CE13: 10779516 | CF13: 10779516
F14: Productos no relacionados con la Bioeconomía | G14: 9386 | H14: 20338 | I14: 9136 | J14: 10941 | K14: 30009 | L14: 43969 | M14: 20136 | N14: 7585 | O14: 29114 | P14: 22890 | Q14: 7664 | R14: 10108 | S14: 2779468 | T14: 5217446 | U14: 2020674 | V14: 212453 | W14: 22445 | X14: 100262 | Y14: 0 | Z14: 502 | AA14: 5856 | AB14: 3675 | AC14: 28230 | AD14: 15114 | AE14: 5648 | AF14: 20124 | AG14: 6104 | AH14: 37594 | AI14: 52850 | AJ14: 445 | AK14: 1965 | AL14: 796 | AM14: 130 | AN14: 13443 | AO14: 29748 | AP14: 4273 | AQ14: 16177 | AR14: 65593 | AS14: 100459 | AT14: 3210560 | AU14: 111130 | AV14: 172508 | AW14: 31190 | AX14: 194350 | AY14: 1417820 | AZ14: 387833 | BA14: 958708 | BB14: 1440408 | BC14: 1139085 | BD14: 232947 | BE14: 675675 | BF14: 207069 | BG14: 542777 | BH14: 640121 | BI14: 586359 | BJ14: 3158102 | BK14: 463975 | BL14: 9296014 | BM14: 24446047 | BN14: 10815407 | BO14: 377932 | BP14: 492854 | BQ14: 19544 | BR14: 4440113 | BS14: 5394648 | BT14: 1386041 | BU14: 536696 | BV14: 10096500 | BW14: 10424381 | BX14: 9069653 | BY14: 2459512 | BZ14: 3858609 | CA14: 3562680 | CB14: 4533295 | CC14: 2136841 | CD14: 734561 | CE14: 130634695 | CF14: 130634695
F15: Producción Total de la Economía (pb) | G15: 714423 | H15: 344496 | I15: 853868 | J15: 215438 | K15: 5239628 | L15: 1350261 | M15: 340874 | N15: 1024005 | O15: 604005 | P15: 2421769 | Q15: 446187 | R15: 5340051 | S15: 2779468 | T15: 5217446 | U15: 2020674 | V15: 282803 | W15: 2670401 | X15: 2542482 | Y15: 4903647 | Z15: 1311537 | AA15: 1697923 | AB15: 647922 | AC15: 1809077 | AD15: 456811 | AE15: 352461 | AF15: 220755 | AG15: 196420 | AH15: 2284755 | AI15: 953144 | AJ15: 152375 | AK15: 750495 | AL15: 533859 | AM15: 15179 | AN15: 521488 | AO15: 999746 | AP15: 300169 | AQ15: 1253460 | AR15: 1873501 | AS15: 584645 | AT15: 3210560 | AU15: 699637 | AV15: 1072008 | AW15: 553029 | AX15: 195901 | AY15: 1417829 | AZ15: 388064 | BA15: 961584 | BB15: 1440512 | BC15: 1390776 | BD15: 237094 | BE15: 718424 | BF15: 295666 | BG15: 555443 | BH15: 659620 | BI15: 597216 | BJ15: 3159201 | BK15: 791121 | BL15: 9627222 | BM15: 24446047 | BN15: 10815407 | BO15: 377932 | BP15: 548831 | BQ15: 2298336 | BR15: 4440113 | BS15: 5394659 | BT15: 1386041 | BU15: 536696 | BV15: 10096500 | BW15: 11706464 | BX15: 9073638 | BY15: 2459512 | BZ15: 3858609 | CA15: 3562680 | CB15: 4533295 | CC15: 2139201 | CD15: 734561 | CE15: 182607077 | CF15: 182607077
F17: Productos directamente vinculados con la Bioeconomía | G17: 277855.97 | H17: 190628.76 | I17: 354801.73 | J17: 119443.53 | K17: 2496917 | L17: 566759.23 | M17: 169847.91 | N17: 384291.24 | O17: 218252.13 | P17: 1416236.3 | Q17: 147748.82 | R17: 3890480.9 | S17: 0 | T17: 0 | U17: 0 | V17: 41845.865 | W17: 1574214.6 | X17: 1767227.6 | Y17: 3247232 | Z17: 1012053.4 | AA17: 1077616.1 | AB17: 336280.69 | AC17: 1111367.8 | AD17: 269719.72 | AE17: 253790.31 | AF17: 136713.18 | AG17: 114696.35 | AH17: 1737241.3 | AI17: 506032.89 | AJ17: 115821.76 | AK17: 517713.96 | AL17: 271101.92 | AM17: 9184.6588 | AN17: 0 | AO17: 0 | AP17: 0 | AQ17: 808836.6 | AR17: 0 | AS17: 0 | AT17: 0 | AU17: 38282.251 | AV17: 0 | AW17: 0 | AX17: 0 | AY17: 0 | AZ17: 0 | BA17: 0 | BB17: 0 | BC17: 0 | BD17: 0 | BE17: 0 | BF17: 0 | BG17: 0 | BH17: 0 | BI17: 0 | BJ17: 550.48013 | BK17: 32.168828 | BL17: 0 | BM17: 0 | BN17: 0 | BO17: 0 | BP17: 0 | BQ17: 0 | BR17: 0 | BS17: 0 | BT17: 0 | BU17: 0 | BV17: 0 | BW17: 0 | BX17: 206.48593 | BY17: 0 | BZ17: 0 | CA17: 0 | CB17: 0 | CC17: 1122.8463 | CD17: 0 | CE17: 25182148 | CF17: 25182148
F18: Productos funcionalmente relacionados con la Bioeconomía | G18: 0 | H18: 0 | I18: 0 | J18: 0 | K18: 0 | L18: 0 | M18: 0 | N18: 0 | O18: 0 | P18: 0 | Q18: 0 | R18: 0 | S18: 0 | T18: 0 | U18: 0 | V18: 0 | W18: 463.84804 | X18: 14716.128 | Y18: 0 | Z18: 13.123319 | AA18: 472.76021 | AB18: 1.0439528 | AC18: 61.786067 | AD18: 0 | AE18: 580.16003 | AF18: 0 | AG18: 0 | AH18: 175.5075 | AI18: 9548.8925 | AJ18: 0 | AK18: 296.19166 | AL18: 246.88296 | AM18: 0 | AN18: 318984.59 | AO18: 530192.02 | AP18: 179905.01 | AQ18: 8515.8288 | AR18: 1238994.8 | AS18: 261919 | AT18: 0 | AU18: 323629.57 | AV18: 553622.18 | AW18: 299269.82 | AX18: 980.59277 | AY18: 5.7143182 | AZ18: 140.92902 | BA18: 1543.4022 | BB18: 80.839346 | BC18: 130150.82 | BD18: 2659.7443 | BE18: 29812.564 | BF18: 49695.238 | BG18: 10431.288 | BH18: 11563.686 | BI18: 5265.0313 | BJ18: 0 | BK18: 191311.53 | BL18: 192643.46 | BM18: 0 | BN18: 0 | BO18: 0 | BP18: 27736.424 | BQ18: 1200697.3 | BR18: 0 | BS18: 3.4361401 | BT18: 0 | BU18: 0 | BV18: 0 | BW18: 479836.63 | BX18: 327.48321 | BY18: 0 | BZ18: 0 | CA18: 0 | CB18: 0 | CC18: 0 | CD18: 0 | CE18: 6076495.2 | CF18: 6076495.2
F19: Productos no relacionados con la Bioeconomía | G19: 3699.0344 | H19: 11960.241 | I19: 3837.2745 | J19: 6390.4687 | K19: 14383.006 | L19: 19076.773 | M19: 10663.088 | N19: 2867.7604 | O19: 11052.865 | P19: 13513.666 | Q19: 2582.1837 | R19: 7378.1241 | S19: 930351 | T19: 2605278 | U19: 1074223 | V19: 126372.13 | W19: 13347.525 | X19: 73155.262 | Y19: 0 | Z19: 387.52388 | AA19: 3731.1103 | AB19: 1918.2633 | AC19: 17618.391 | AD19: 9229.2768 | AE19: 4142.5333 | AF19: 13712.817 | AG19: 3678.6529 | AH19: 29066.207 | AI19: 30266.221 | AJ19: 339.23967 | AK19: 1359.8519 | AL19: 405.19348 | AM19: 79.341195 | AN19: 8440.4133 | AO19: 16259.984 | AP19: 2597.9875 | AQ19: 10686.569 | AR19: 44952.17 | AS19: 54343.002 | AT19: 2415821 | AU19: 68341.177 | AV19: 106174.82 | AW19: 17887.176 | AX19: 122874.41 | AY19: 900208.29 | AZ19: 236610.07 | BA19: 514489.6 | BB19: 1119631.2 | BC19: 589027.18 | BD19: 149404.26 | BE19: 471206.44 | BF19: 116147.76 | BG19: 447012.71 | BH19: 379617.31 | BI19: 284350.97 | BJ19: 1581867.5 | BK19: 271373.3 | BL19: 5406923.5 | BM19: 8749123 | BN19: 5476204 | BO19: 204942 | BP19: 244207.58 | BQ19: 10297.749 | BR19: 2081920 | BS19: 1685160.6 | BT19: 1109833 | BU19: 277268 | BV19: 2653588 | BW19: 3901463.4 | BX19: 1215286 | BY19: 789489 | BZ19: 303710 | CA19: 1844032 | CB19: 1490710 | CC19: 1016671.2 | CD19: 0 | CE19: 53436220 | CF19: 53436220
F20: Demanda Intermedia Total de la Economía (pc) | G20: 281555 | H20: 202589 | I20: 358639 | J20: 125834 | K20: 2511300 | L20: 585836 | M20: 180511 | N20: 387159 | O20: 229305 | P20: 1429750 | Q20: 150331 | R20: 3897859 | S20: 930351 | T20: 2605278 | U20: 1074223 | V20: 168218 | W20: 1588026 | X20: 1855099 | Y20: 3247232 | Z20: 1012454 | AA20: 1081820 | AB20: 338200 | AC20: 1129048 | AD20: 278949 | AE20: 258513 | AF20: 150426 | AG20: 118375 | AH20: 1766483 | AI20: 545848 | AJ20: 116161 | AK20: 519370 | AL20: 271754 | AM20: 9264 | AN20: 327425 | AO20: 546452 | AP20: 182503 | AQ20: 828039 | AR20: 1283947 | AS20: 316262 | AT20: 2415821 | AU20: 430253 | AV20: 659797 | AW20: 317157 | AX20: 123855 | AY20: 900214 | AZ20: 236751 | BA20: 516033 | BB20: 1119712 | BC20: 719178 | BD20: 152064 | BE20: 501019 | BF20: 165843 | BG20: 457444 | BH20: 391181 | BI20: 289616 | BJ20: 1582418 | BK20: 462717 | BL20: 5599567 | BM20: 8749123 | BN20: 5476204 | BO20: 204942 | BP20: 271944 | BQ20: 1210995 | BR20: 2081920 | BS20: 1685164 | BT20: 1109833 | BU20: 277268 | BV20: 2653588 | BW20: 4381300 | BX20: 1215820 | BY20: 789489 | BZ20: 303710 | CA20: 1844032 | CB20: 1490710 | CC20: 1017794 | CD20: 0 | CE20: 84694864 | CF20: 84694864
B22: 453956 | C22: -78 | D22: 77990 | E22: 969851 | F22: Productos directamente vinculados con la Bioeconomía | G22: 427181.03 | H22: 133529.24 | I22: 489930.27 | J22: 85053.469 | K22: 2712702 | L22: 739532.77 | M22: 150890.09 | N22: 632128.76 | O22: 356638.87 | P22: 982642.67 | Q22: 290774.18 | R22: 1439462.1 | S22: 0 | T22: 0 | U22: 0 | V22: 28504.135 | W22: 1072961.4 | X22: 654823.39 | Y22: 1656415 | Z22: 298964.65 | AA22: 613708.87 | AB22: 307964.31 | AC22: 669380.18 | AD22: 171977.28 | AE22: 92231.693 | AF22: 63917.817 | AG22: 75619.653 | AH22: 509692.71 | AI22: 377587.11 | AJ22: 36108.24 | AK22: 230388.04 | AL22: 261476.08 | AM22: 5864.3412 | AN22: 0 | AO22: 0 | AP22: 0 | AQ22: 415555.4 | AR22: 0 | AS22: 0 | AT22: 0 | AU22: 23968.749 | AV22: 0 | AW22: 0 | AX22: 0 | AY22: 0 | AZ22: 0 | BA22: 0 | BB22: 0 | BC22: 0 | BD22: 0 | BE22: 0 | BF22: 0 | BG22: 0 | BH22: 0 | BI22: 0 | BJ22: 548.51987 | BK22: 22.831172 | BL22: 0 | BM22: 0 | BN22: 0 | BO22: 0 | BP22: 0 | BQ22: 0 | BR22: 0 | BS22: 0 | BT22: 0 | BU22: 0 | BV22: 0 | BW22: 0 | BX22: 1334.5141 | BY22: 0 | BZ22: 0 | CA22: 0 | CB22: 0 | CC22: 1237.1537 | CD22: 0 | CE22: 16010718 | CF22: 17512437
B23: 37274 | C23: -16542 | D23: 189191 | E23: 1050182 | F23: Productos funcionalmente relacionados con la Bioeconomía | G23: 0 | H23: 0 | I23: 0 | J23: 0 | K23: 0 | L23: 0 | M23: 0 | N23: 0 | O23: 0 | P23: 0 | Q23: 0 | R23: 0 | S23: 0 | T23: 0 | U23: 0 | V23: 0 | W23: 316.15196 | X23: 5452.8715 | Y23: 0 | Z23: 3.8766813 | AA23: 269.23979 | AB23: 0.95604718 | AC23: 37.213933 | AD23: 0 | AE23: 210.83997 | AF23: 0 | AG23: 0 | AH23: 51.492499 | AI23: 7125.1075 | AJ23: 0 | AK23: 131.80834 | AL23: 238.11704 | AM23: 0 | AN23: 189060.41 | AO23: 439805.98 | AP23: 115990.99 | AQ23: 4375.1712 | AR23: 568913.17 | AS23: 222267 | AT23: 0 | AU23: 202626.43 | AV23: 345877.82 | AW23: 222569.18 | AX23: 570.40723 | AY23: 3.2856818 | AZ23: 90.070975 | BA23: 1332.5978 | BB23: 23.160654 | BC23: 121540.18 | BD23: 1487.2557 | BE23: 12936.436 | BF23: 38901.762 | BG23: 2234.7124 | BH23: 7935.3144 | BI23: 5591.9687 | BJ23: 0 | BK23: 135779.47 | BL23: 138564.54 | BM23: 0 | BN23: 0 | BO23: 0 | BP23: 28240.576 | BQ23: 1078094.7 | BR23: 0 | BS23: 7.5638599 | BT23: 0 | BU23: 0 | BV23: 0 | BW23: 802246.37 | BX23: 2116.5168 | BY23: 0 | BZ23: 0 | CA23: 0 | CB23: 0 | CC23: 0 | CD23: 0 | CE23: 4703020.8 | CF23: 5963125.8
B24: 634897 | C24: -1331313 | D24: 804935 | E24: 4115259 | F24: Productos no relacionados con la Bioeconomía | G24: 5686.9656 | H24: 8377.7593 | I24: 5298.7255 | J24: 4550.5313 | K24: 15625.994 | L24: 24892.227 | M24: 9472.9119 | N24: 4717.2396 | O24: 18061.135 | P24: 9376.334 | Q24: 5081.8163 | R24: 2729.8759 | S24: 1849117 | T24: 2612168 | U24: 946451 | V24: 86080.865 | W24: 9097.4752 | X24: 27106.738 | Y24: 0 | Z24: 114.47612 | AA24: 2124.8897 | AB24: 1756.7367 | AC24: 10611.609 | AD24: 5884.7232 | AE24: 1505.4667 | AF24: 6411.1834 | AG24: 2425.3471 | AH24: 8527.7929 | AI24: 22583.779 | AJ24: 105.76033 | AK24: 605.1481 | AL24: 390.80652 | AM24: 50.658805 | AN24: 5002.5867 | AO24: 13488.016 | AP24: 1675.0125 | AQ24: 5490.4309 | AR24: 20640.83 | AS24: 46115.998 | AT24: 794739 | AU24: 42788.823 | AV24: 66333.176 | AW24: 13302.824 | AX24: 71475.593 | AY24: 517611.71 | AZ24: 151222.93 | BA24: 444218.4 | BB24: 320776.84 | BC24: 550057.82 | BD24: 83542.744 | BE24: 204468.56 | BF24: 90921.238 | BG24: 95764.288 | BH24: 260503.69 | BI24: 302008.03 | BJ24: 1576234.5 | BK24: 192601.7 | BL24: 3889090.5 | BM24: 15696924 | BN24: 5339203 | BO24: 172990 | BP24: 248646.42 | BQ24: 9246.2514 | BR24: 2358193 | BS24: 3709487.4 | BT24: 276208 | BU24: 259428 | BV24: 7442912 | BW24: 6522917.6 | BX24: 7854367 | BY24: 1670023 | BZ24: 3554899 | CA24: 1718648 | CB24: 3042585 | CC24: 1120169.8 | CD24: 734561 | CE24: 77198475 | CF24: 81422253
B25: 1126127 | C25: -1347933 | D25: 1072116 | E25: 6135292 | F25: Valor Agregado Total de la Economía | G25: 432868 | H25: 141907 | I25: 495229 | J25: 89604 | K25: 2728328 | L25: 764425 | M25: 160363 | N25: 636846 | O25: 374700 | P25: 992019 | Q25: 295856 | R25: 1442192 | S25: 1849117 | T25: 2612168 | U25: 946451 | V25: 114585 | W25: 1082375 | X25: 687383 | Y25: 1656415 | Z25: 299083 | AA25: 616103 | AB25: 309722 | AC25: 680029 | AD25: 177862 | AE25: 93948 | AF25: 70329 | AG25: 78045 | AH25: 518272 | AI25: 407296 | AJ25: 36214 | AK25: 231125 | AL25: 262105 | AM25: 5915 | AN25: 194063 | AO25: 453294 | AP25: 117666 | AQ25: 425421 | AR25: 589554 | AS25: 268383 | AT25: 794739 | AU25: 269384 | AV25: 412211 | AW25: 235872 | AX25: 72046 | AY25: 517615 | AZ25: 151313 | BA25: 445551 | BB25: 320800 | BC25: 671598 | BD25: 85030 | BE25: 217405 | BF25: 129823 | BG25: 97999 | BH25: 268439 | BI25: 307600 | BJ25: 1576783 | BK25: 328404 | BL25: 4027655 | BM25: 15696924 | BN25: 5339203 | BO25: 172990 | BP25: 276887 | BQ25: 1087341 | BR25: 2358193 | BS25: 3709495 | BT25: 276208 | BU25: 259428 | BV25: 7442912 | BW25: 7325164 | BX25: 7857818 | BY25: 1670023 | BZ25: 3554899 | CA25: 1718648 | CB25: 3042585 | CC25: 1121407 | CD25: 734561 | CE25: 97912213 | CF25: 104897815
B27: 2.5921921 | C27: -0.00044539776 | D27: 0.44534066 | E27: 5.53807 | F27: Participación de las Actividades Económicas en la Bioeconomía | G27: 2.439301 | H27: 0.76248237 | I27: 2.7976134 | J27: 0.48567467 | K27: 15.490146 | L27: 4.2229005 | M27: 0.86161676 | N27: 3.6095992 | O27: 2.0364891 | P27: 5.6111134 | Q27: 1.6603868 | R27: 8.2196565 | S27: 0 | T27: 0 | U27: 0 | V27: 0.1627651 | W27: 6.1268537 | X27: 3.7391907 | Y27: 9.4585068 | Z27: 1.7071562 | AA27: 3.5044174 | AB27: 1.7585463 | AC27: 3.8223132 | AD27: 0.98202941 | AE27: 0.52666397 | AF27: 0.36498529 | AG27: 0.43180544 | AH27: 2.9104615 | AI27: 2.1561084 | AJ27: 0.20618627 | AK27: 1.3155682 | AL27: 1.4930879 | AM27: 0.033486724 | AN27: 0 | AO27: 0 | AP27: 0 | AQ27: 2.3729159 | AR27: 0 | AS27: 0 | AT27: 0 | AU27: 0.13686701 | AV27: 0 | AW27: 0 | AX27: 0 | AY27: 0 | AZ27: 0 | BA27: 0 | BB27: 0 | BC27: 0 | BD27: 0 | BE27: 0 | BF27: 0 | BG27: 0 | BH27: 0 | BI27: 0 | BJ27: 0.0031321733 | BK27: 0.00013037119 | BL27: 0 | BM27: 0 | BN27: 0 | BO27: 0 | BP27: 0 | BQ27: 0 | BR27: 0 | BS27: 0 | BT27: 0 | BU27: 0 | BV27: 0 | BW27: 0 | BX27: 0.0076203792 | BY27: 0 | BZ27: 0 | CA27: 0 | CB27: 0 | CC27: 0.0070644296 | CD27: 0 | CE27: 91.424843 | CF27: 100
B28: 0.62507486 | C28: -0.27740485 | D28: 3.1726817 | E28: 17.611267 | F28: Participación de las Actividades Económicas en la Bioeconomía Extendida | G28: 0 | H28: 0 | I28: 0 | J28: 0 | K28: 0 | L28: 0 | M28: 0 | N28: 0 | O28: 0 | P28: 0 | Q28: 0 | R28: 0 | S28: 0 | T28: 0 | U28: 0 | V28: 0 | W28: 0.0053017825 | X28: 0.091443175 | Y28: 0 | Z28: 6.5010893e-05 | AA28: 0.0045150781 | AB28: 1.6032652e-05 | AC28: 0.00062406756 | AD28: 0 | AE28: 0.0035357291 | AF28: 0 | AG28: 0 | AH28: 0.00086351522 | AI28: 0.11948612 | AJ28: 0 | AK28: 0.0022103901 | AL28: 0.0039931581 | AM28: 0 | AN28: 3.1704918 | AO28: 7.3754269 | AP28: 1.9451374 | AQ28: 0.073370433 | AR28: 9.5405194 | AS28: 3.7273573 | AT28: 0 | AU28: 3.3979902 | AV28: 5.8002772 | AW28: 3.7324246 | AX28: 0.0095655743 | AY28: 5.5099992e-05 | AZ28: 0.0015104658 | BA28: 0.022347302 | BB28: 0.00038839788 | BC28: 2.0381959 | BD28: 0.024940875 | BE28: 0.21694052 | BF28: 0.65237198 | BG28: 0.037475519 | BH28: 0.13307307 | BI28: 0.093775797 | BJ28: 0 | BK28: 2.2769849 | BL28: 2.3236897 | BM28: 0 | BN28: 0 | BO28: 0 | BP28: 0.47358679 | BQ28: 18.079356 | BR28: 0 | BS28: 0.00012684388 | BT28: 0 | BU28: 0 | BV28: 0 | BW28: 13.453454 | BX28: 0.035493412 | BY28: 0 | BZ28: 0 | CA28: 0 | CB28: 0 | CC28: 0 | CD28: 0 | CE28: 78.868381 | CF28: 100
B29: 0.77975858 | C29: -1.6350727 | D29: 0.98859338 | E29: 5.054219 | F29: Participación de las Actividades Económicas en la No Bioeconomía | G29: 0.0069845349 | H29: 0.010289275 | I29: 0.0065077117 | J29: 0.0055888055 | K29: 0.019191306 | L29: 0.030571773 | M29: 0.011634303 | N29: 0.0057935508 | O29: 0.022182062 | P29: 0.01151569 | Q29: 0.0062413114 | R29: 0.0033527394 | S29: 2.2710217 | T29: 3.2081746 | U29: 1.1623984 | V29: 0.10572155 | W29: 0.011173205 | X29: 0.03329156 | Y29: 0 | Z29: 0.00014059562 | AA29: 0.0026097162 | AB29: 0.0021575634 | AC29: 0.013032812 | AD29: 0.0072274138 | AE29: 0.0018489622 | AF29: 0.0078739942 | AG29: 0.0029787276 | AH29: 0.010473541 | AI29: 0.027736618 | AJ29: 0.00012989118 | AK29: 0.00074322201 | AL29: 0.00047997508 | AM29: 6.2217395e-05 | AN29: 0.0061440042 | AO29: 0.016565515 | AP29: 0.0020571925 | AQ29: 0.0067431577 | AR29: 0.025350355 | AS29: 0.056638077 | AT29: 0.976071 | AU29: 0.052551756 | AV29: 0.081468117 | AW29: 0.01633807 | AX29: 0.087783856 | AY29: 0.63571284 | AZ29: 0.18572678 | BA29: 0.54557371 | BB29: 0.39396704 | BC29: 0.67556202 | BD29: 0.10260431 | BE29: 0.25112123 | BF29: 0.11166633 | BG29: 0.11761439 | BH29: 0.31994163 | BI29: 0.37091584 | BJ29: 1.9358768 | BK29: 0.23654675 | BL29: 4.7764467 | BM29: 19.27842 | BN29: 6.5574248 | BO29: 0.21246035 | BP29: 0.30537895 | BQ29: 0.011355927 | BR29: 2.8962512 | BS29: 4.5558644 | BT29: 0.33922913 | BU29: 0.31862051 | BV29: 9.1411276 | BW29: 8.0112223 | BX29: 9.6464624 | BY29: 2.0510646 | BZ29: 4.3660042 | CA29: 2.1107841 | CB29: 3.7367979 | CC29: 1.3757539 | CD29: 0.90216246 | CE29: 94.812502 | CF29: 100
B30: 1.0735467 | C30: -1.2849963 | D30: 1.0220575 | E30: 5.8488273 | F30: Participación de las Actividades Económicas en el Total de la Economía | G30: 0.41265683 | H30: 0.13528118 | I30: 0.47210612 | J30: 0.085420273 | K30: 2.6009388 | L30: 0.72873301 | M30: 0.15287544 | N30: 0.60711083 | O30: 0.35720477 | P30: 0.94570035 | Q30: 0.2820421 | R30: 1.3748542 | S30: 1.7627793 | T30: 2.4902025 | U30: 0.90225998 | V30: 0.10923488 | W30: 1.0318375 | X30: 0.6552882 | Y30: 1.5790748 | Z30: 0.28511843 | AA30: 0.58733635 | AB30: 0.29526068 | AC30: 0.64827756 | AD30: 0.16955739 | AE30: 0.089561446 | AF30: 0.067045248 | AG30: 0.074400978 | AH30: 0.49407321 | AI30: 0.38827882 | AJ30: 0.034523121 | AK30: 0.22033347 | AL30: 0.24986698 | AM30: 0.005638821 | AN30: 0.18500195 | AO30: 0.43212912 | AP30: 0.11217202 | AQ30: 0.40555754 | AR30: 0.56202696 | AS30: 0.25585185 | AT30: 0.75763161 | AU30: 0.25680611 | AV30: 0.39296433 | AW30: 0.22485883 | AX30: 0.068682079 | AY30: 0.49344688 | AZ30: 0.144248 | BA30: 0.42474765 | BB30: 0.30582143 | BC30: 0.64024022 | BD30: 0.081059839 | BE30: 0.20725408 | BF30: 0.1237614 | BG30: 0.0934233 | BH30: 0.25590524 | BI30: 0.29323776 | BJ30: 1.503161 | BK30: 0.31307039 | BL30: 3.8395986 | BM30: 14.964014 | BN30: 5.0899087 | BO30: 0.16491287 | BP30: 0.26395879 | BQ30: 1.0365716 | BR30: 2.2480859 | BS30: 3.5362939 | BT30: 0.26331149 | BU30: 0.24731497 | BV30: 7.0953928 | BW30: 6.9831426 | BX30: 7.4909263 | BY30: 1.5920475 | BZ30: 3.3889162 | CA30: 1.6384021 | CB30: 2.9005228 | CC30: 1.0690471 | CD30: 0.70026339 | CE30: 93.340565 | CF30: 100
B32: 0.65320059 | C32: 6.8493151 | D32: 9.1853449 | E32: 7.8644125 | F32: Tasa de evolución de la Bioeconomía | G32: 12.524997 | H32: 6.1347749 | I32: 12.368627 | J32: 4.3420111 | K32: 1.8210038 | L32: 6.8096709 | M32: 9.0453622 | N32: 3.567719 | O32: 4.6244897 | P32: 3.1523495 | Q32: 4.1815114 | R32: 16.940352 | S32: 0 | T32: 0 | U32: 0 | V32: 3.9533552 | W32: 12.804671 | X32: 20.973839 | Y32: 10.698361 | Z32: 3.2187903 | AA32: 6.9973773 | AB32: 3.6696842 | AC32: 5.6384441 | AD32: 12.668433 | AE32: 23.183449 | AF32: -7.6760658 | AG32: 17.86412 | AH32: 27.681088 | AI32: 3.5796005 | AJ32: 19.273181 | AK32: 6.9061742 | AL32: 8.576502 | AM32: -47.724908 | AN32: 0 | AO32: 0 | AP32: 0 | AQ32: -9.9684666 | AR32: 0 | AS32: 0 | AT32: 0 | AU32: 12.477651 | AV32: 0 | AW32: 0 | AX32: 0 | AY32: 0 | AZ32: 0 | BA32: 0 | BB32: 0 | BC32: 0 | BD32: 0 | BE32: 0 | BF32: 0 | BG32: 0 | BH32: 0 | BI32: 0 | BJ32: 4.5138488 | BK32: 2.4571632 | BL32: 0 | BM32: 0 | BN32: 0 | BO32: 0 | BP32: 0 | BQ32: 0 | BR32: 0 | BS32: 0 | BT32: 0 | BU32: 0 | BV32: 0 | BW32: 0 | BX32: 19.405418 | BY32: 0 | BZ32: 0 | CA32: 0 | CB32: 0 | CC32: 2.6919367 | CD32: 0 | CE32: 7.8153483 | CF32: 7.6255605
B33: 10.838859 | C33: 3.3875 | D33: 24.358949 | E33: 15.953675 | F33: Tasa de evolución de la Bioeconomía Extendida | G33: 0 | H33: 0 | I33: 0 | J33: 0 | K33: 0 | L33: 0 | M33: 0 | N33: 0 | O33: 0 | P33: 0 | Q33: 0 | R33: 0 | S33: 0 | T33: 0 | U33: 0 | V33: 0 | W33: 24.156974 | X33: 30.055074 | Y33: 0 | Z33: 18.766603 | AA33: 23.846973 | AB33: -1.156525 | AC33: 22.453646 | AD33: 0 | AE33: 34.847106 | AF33: 0 | AG33: 0 | AH33: 21.810816 | AI33: 23.130034 | AJ33: 0 | AK33: 24.017898 | AL33: 23.421441 | AM33: 0 | AN33: 25.614049 | AO33: 30.771692 | AP33: 29.784268 | AQ33: 22.653984 | AR33: 13.040565 | AS33: 6.0149611 | AT33: 0 | AU33: 32.406575 | AV33: 12.10084 | AW33: 8.2548152 | AX33: 23.870904 | AY33: 37.75599 | AZ33: 25.462124 | BA33: 22.841135 | BB33: 17.530926 | BC33: 22.439699 | BD33: 18.997759 | BE33: 25.461618 | BF33: 22.144387 | BG33: 28.687614 | BH33: 24.406836 | BI33: 15.666311 | BJ33: 0 | BK33: -0.37399476 | BL33: 13.993209 | BM33: 0 | BN33: 0 | BO33: 0 | BP33: 19.813661 | BQ33: 20.437409 | BR33: 0 | BS33: -8.0982113 | BT33: 0 | BU33: 0 | BV33: 0 | BW33: -0.11003765 | BX33: 115.85749 | BY33: 0 | BZ33: 0 | CA33: 0 | CB33: 0 | CC33: 0 | CD33: 0 | CE33: 14.461975 | CF33: 15.023681
B34: 17.700155 | C34: 8.6666367 | D34: 24.455367 | E34: 14.536446 | F34: Tasa de evolución de la No Bioeconomía | G34: 11.884749 | H34: 9.9590379 | I34: 12.183298 | J34: 4.6367767 | K34: 2.0776878 | L34: 7.177298 | M34: 5.2977124 | N34: 6.3897705 | O34: 9.283457 | P34: 1.3655094 | Q34: -4.827034 | R34: 13.842286 | S34: 9.9312334 | T34: -4.6461567 | U34: 54.868506 | V34: 21.408438 | W34: 8.0093666 | X34: 22.009693 | Y34: 0 | Z34: 4.0243877 | AA34: 4.6304736 | AB34: 10.209275 | AC34: 8.419461 | AD34: 6.4561099 | AE34: 25.12197 | AF34: -7.2305835 | AG34: 56.305764 | AH34: 18.364182 | AI34: 11.34755 | AJ34: 19.586063 | AK34: 7.712361 | AL34: 5.3117093 | AM34: -47.649101 | AN34: 26.454752 | AO34: 29.44222 | AP34: 30.163523 | AQ34: -27.780437 | AR34: 17.326204 | AS34: 0.42957985 | AT34: 19.155026 | AU34: 22.031673 | AV34: 19.613394 | AW34: 6.1295364 | AX34: 30.588348 | AY34: 31.706604 | AZ34: 37.067665 | BA34: 23.970745 | BB34: 24.59371 | BC34: 25.186222 | BD34: 48.040961 | BE34: 31.948463 | BF34: 14.65911 | BG34: 39.813188 | BH34: 15.033244 | BI34: 22.320263 | BJ34: 4.2544371 | BK34: 4.1554562 | BL34: 11.221421 | BM34: 15.398067 | BN34: 13.411439 | BO34: 12.984867 | BP34: 22.854738 | BQ34: 28.391629 | BR34: 2.0777927 | BS34: 10.903655 | BT34: -29.45221 | BU34: 10.894153 | BV34: 2.2852075 | BW34: 10.030657 | BX34: -1.2419729 | BY34: 3.1798734 | BZ34: 3.5737906 | CA34: 20.724637 | CB34: 9.0449009 | CC34: 8.6553746 | CD34: 12.369226 | CE34: 8.9518918 | CF34: 9.4244211
