Workbook
Name \C: #REF!
Name \X: #REF!
Name a: #REF!
Name ALLOCATION: #REF!
Name b: #REF!
Name cei: #REF!
Name Fin_Lateral: #REF!
Name Fin_Lateral: #REF!
Name Fin_Registro: #REF!
Name Fin_Registro: #REF!
Name Fin_Superior: #REF!
Name Fin_Superior: #REF!
Name hola: #REF!
Name Ini_Lateral: #REF!
Name Ini_Lateral: #REF!
Name Ini_Registro: #REF!
Name Ini_Registro: #REF!
Name Ini_Superior: #REF!
Name Ini_Superior: #REF!
Name jj: #REF!
Name m: #REF!
Name malo: #REF!
Name malo1: #REF!
Name malo2: #REF!
Name malo3: #REF!
Name malo4: #REF!
Name malo5: #REF!
Name malo6: #REF!
Name malo7: #REF!
Name q: #REF!
Name REDISTRIBUTION: #REF!
Name SECONDARY: #REF!
Name secundaria: #REF!
Name solucion: #REF!
Name SYNOPTIC: #REF!
Name synot: #REF!
Name Titulo: #REF!
Name Titulo: #REF!
Name wot: #REF!
Name X: #REF!
Name xx: #REF!
Name yy: #REF!

Sheet Carátula

Sheet Índice
A9: Datos Corrientes
A11: Valor Agregado Bruto 2018
A12: Valor Agregado Bruto 2019
A13: Valor Agregado Bruto 2020
A14: Valor Agregado Bruto 2021
A15: Valor Agregado Bruto 2022
A16: Valor Agregado Bruto 2023
A17: Valor Agregado Bruto 2024 (p)
A19: A precios del año anterior
A21: Valor Agregado Bruto 2019 a precios 2018
A22: Valor Agregado Bruto 2020 a precios 2019
A23: Valor Agregado Bruto 2021 a precios 2020
... A86: CARÁTULA

Sheet 2018
G8: A | S8: B | W8: C | BJ8: D | BK8: E | BL8: F | BM8: G | BN8: H | BP8: I | BR8: J | BS8: K | BV8: L | BW8: M - N | BX8: O | BY8: P | CA8: Q | CC8: R - S - U | CD8: T
G9: AGRICULTURA, GANADERÍA, SILVICULTURA Y PESCA. | S9: EXPLOTACIÓN DE MINAS Y CANTERAS. | W9: INDUSTRIAS MANUFACTURERAS. | BJ9: SUMINISTRO DE ELECTRICIDAD, GAS, VAPOR Y AIRE ACONDICIONADO. | BK9: DISTRIBUCIÓN DE AGUA; ALCANTARILLADO, GESTIÓN DE DESECHOS Y ACTIVIDADES DE SANEAMIENTO. | BL9: CONSTRUCCIÓN. | BM9: COMERCIO AL POR MAYOR Y AL POR MENOR; REPARACIÓN DE VEHÍCULOS AUTOMOTORES Y MOTOCICLETAS. | BN9: TRANSPORTE Y ALMACENAMIENTO. | BP9: ACTIVIDADES DE ALOJAMIENTO Y DE SERVICIO DE COMIDAS. | BR9: INFORMACIÓN Y COMUNICACIÓN. | BS9: ACTIVIDADES FINANCIERAS Y DE SEGUROS. | BV9: ACTIVIDADES INMOBILIARIAS. | BW9: ACTIVIDADES PROFESIONALES, CIENTÍFICAS Y TÉCNICAS, Y ACTIVIDADES DE SERVICIOS ADMINISTRATIVOS Y DE APOYO. | BX9: ADMINISTRACIÓN PÚBLICA Y DEFENSA; PLANES DE SEGURIDAD SOCIAL DE AFILIACIÓN OBLIGATORIA. | BY9: ENSEÑANZA. | CA9: ACTIVIDADES DE ATENCIÓN DE LA SALUD HUMANA Y DE ASISTENCIA SOCIAL. | CC9: ARTES, ENTRETENIMIENTO Y RECREACIÓN, OTRAS ACTIVIDADES DE SERVICIOS, Y ACTIVIDADES DE ORGANIZACIONES Y ÓRGANOS EXTRATERRITORIALES | CD9: ACTIVIDADES DE LOS HOGARES COMO EMPLEADORES; ACTIVIDADES NO DIFERENCIADAS DE LOS HOGARES COMO PRODUCTORES DE BIENES Y SERVICIOS PARA USO PROPIO.
B10: Otros elementos del PIB | G10: 01 | H10: 02 | I10: 03 | J10: 04 | K10: 05 | L10: 06 | M10: 07 | N10: 08 | O10: 09 | P10: 10 | Q10: 11 | R10: 12 | S10: 13 | T10: 14 | U10: 15 | V10: 16 | W10: 17 | X10: 18 | Y10: 19 | Z10: 20 | AA10: 21 | AB10: 22 | AC10: 23 | AD10: 24 | AE10: 25 | AF10: 26 | AG10: 27 | AH10: 28 | AI10: 29 | AJ10: 30 | AK10: 31 | AL10: 32 | AM10: 33 | AN10: 34 | AO10: 35 | AP10: 36 | AQ10: 37 | AR10: 38 | AS10: 39 | AT10: 40 | AU10: 41 | AV10: 42 | AW10: 43 | AX10: 44 | AY10: 45 | AZ10: 46 | BA10: 47 | BB10: 48 | BC10: 49 | BD10: 50 | BE10: 51 | BF10: 52 | BG10: 53 | BH10: 54 | BI10: 55 | BJ10: 56 | BK10: 57 | BL10: 58 | BM10: 59 | BN10: 60 | BO10: 61 | BP10: 62 | BQ10: 63 | BR10: 64 | BS10: 65 | BT10: 66 | BU10: 67 | BV10: 68 | BW10: 69 | BX10: 70 | BY10: 71 | BZ10: 72 | CA10: 73 | CB10: 74 | CC10: 75 | CD10: 76
B11: Impuestos indirectos sobre productos | C11: Subsidios sobre productos | D11: Derechos arancelarios | E11: Impuesto al valor agregado (IVA) | F11: Descripción | G11: Cultivo de cereales (excepto arroz), legumbres y semillas oleaginosas | H11: Cultivo de arroz | I11: Cultivo de hortalizas y melones, raíces y tubérculos | J11: Cultivo de caña de azúcar | K11: Cultivos de frutas, y otros tipos de cultivos n.c.p. | L11: Cultivo de otras plantas no perennes y propagación de plantas | M11: Cultivo de frutos oleaginosos | N11: Cultivo de plantas con las que se preparan bebidas | O11: Actividades de apoyo a la agricultura, poscosecha y tratamiento de semillas para propagación | P11: Ganadería | Q11: Silvicultura y extracción de madera | R11: Pesca y acuicultura | S11: Servicios Petroleros | T11: Extracción de petróleo crudo y gas natural | U11: Extracción de minerales metálicos | V11: Explotación de otras minas y canteras, y actividades de apoyo | W11: Elaboración y conservación de carne | X11: Preparación y conservación de pescado y otros productos acuaticos elaborados | Y11: Procesamiento y conservación de camarón | Z11: Elaboración de aceites y grasas de origen vegetal y animal | AA11: Elaboración de productos lácteos | AB11: Elaboración de productos de la panadería y pastelería | AC11: Elaboración de productos de molinería | AD11: Elaboración y refinación de azúcar | AE11: Elaboración de cacao, chocolate y productos de confitería | AF11: Elaboración de fideos y de otros productos farináceos | AG11: Elaboración de café | AH11: Elaboración de alimentos preparados para animales | AI11: Elaboración de otros productos alimenticios diversos | AJ11: Elaboración bebidas no alcohólicas (jugos) | AK11: Elaboración bebidas no alcohólicas (excepto jugos) | AL11: Elaboración bebidas alcohólicas | AM11: Elaboración de productos de tabaco | AN11: Fabricación de hilos, hilados; tejidos y confecciones | AO11: Fabricación de prendas de vestir | AP11: Fabricación de cuero, productos de cuero y calzado | AQ11: Producción de madera y de productos de madera | AR11: Fabricación de papel y productos de papel | AS11: Impresión y reproducción de grabaciones | AT11: Fabricación de productos refinados de petróleo y de otros | AU11: Fabricación de sustancias químicas básicas, abonos y plásticos primarios, caucho sintético y artificial | AV11: Fabricación de otros productos químicos | AW11: Fabricación de productos farmacéuticos y medicamentos | AX11: Fabricación de productos de caucho | AY11: Fabricación de productos de plástico | AZ11: Fabricación de vidrio, productos refractarios y de cerámica | BA11: Fabricación de cemento, artículos de hormigón y piedra | BB11: Fabricación de metales comunes | BC11: Fabricación de productos derivados del metal, excepto maquinaria y equipo | BD11: Fabricación de productos de informática, electrónica y óptica | BE11: Fabricación de equipo eléctrico | BF11: Fabricación de maquinaria y equipo n.c.p. | BG11: Fabricación de vehículos y equipos de transporte | BH11: Fabricación de muebles | BI11: Industrias manufactureras n.c.p. | BJ11: Suministro de electricidad, gas, vapor y aire acondicionado | BK11: Distribución de agua; alcantarillado, gestión de desechos y actividades de saneamiento | BL11: Construcción | BM11: Comercio al por mayor y al por menor; reparación de vehículos automotores y motocicletas | BN11: Transporte y almacenamiento | BO11: Actividades postales y de mensajería | BP11: Actividades de alojamiento | BQ11: Servicio de alimento y bebida | BR11: Información y comunicación | BS11: Actividades de servicios financieros, excepto las de seguros y fondos de pensiones | BT11: Seguros, reaseguros y fondos de pensiones, excepto los planes de seguridad social de afiliación obligatoria | BU11: Actividades auxiliares de las actividades de servicios financieros | BV11: Actividades inmobiliarias | BW11: Actividades profesionales, científicas, técnicas y administrativas | BX11: Administración pública y defensa; planes de seguridad social de afiliación obligatoria | BY11: Servicios de enseñanza privada | BZ11: Servicios de enseñanza pública (no de mercado) | CA11: Actividades de atención de la salud humana y de asistencia social privada | CB11: Actividades de atención de la salud humana y de asistencia social no de mercado | CC11: Servicios de asociaciones, personales; esparcimiento; culturales y deportivos | CD11: Actividades de los hogares como empleadores de personal doméstico | CE11: Total de las Industrias | CF11: ECONOMÍA TOTAL
F12: Productos directamente vinculados con la Bioeconomía | G12: 626745 | H12: 281314 | I12: 776670 | J12: 179568 | K12: 4885186 | L12: 1298604 | M12: 293413 | N12: 841167 | O12: 586834 | P12: 2273954 | Q12: 576403 | R12: 3977749 | S12: 0 | T12: 0 | U12: 0 | V12: 75152 | W12: 2456075 | X12: 2218109 | Y12: 3383771 | Z12: 1437239 | AA12: 1751115 | AB12: 667223 | AC12: 1699356 | AD12: 409157 | AE12: 386979 | AF12: 211059 | AG12: 177131 | AH12: 1449497 | AI12: 873440 | AJ12: 144732 | AK12: 902420 | AL12: 784884 | AM12: 71266 | AN12: 0 | AO12: 0 | AP12: 0 | AQ12: 1074350 | AR12: 0 | AS12: 0 | AT12: 0 | AU12: 7894 | AV12: 0 | AW12: 0 | AX12: 0 | AY12: 0 | AZ12: 0 | BA12: 0 | BB12: 0 | BC12: 0 | BD12: 0 | BE12: 0 | BF12: 0 | BG12: 0 | BH12: 0 | BI12: 0 | BJ12: 1102 | BK12: 4 | BL12: 0 | BM12: 0 | BN12: 0 | BO12: 0 | BP12: 0 | BQ12: 0 | BR12: 0 | BS12: 0 | BT12: 0 | BU12: 0 | BV12: 0 | BW12: 0 | BX12: 2782 | BY12: 0 | BZ12: 0 | CA12: 0 | CB12: 0 | CC12: 2594 | CD12: 0 | CE12: 36784938 | CF12: 36784938
F13: Productos funcionalmente relacionados con la Bioeconomía | G13: 0 | H13: 0 | I13: 0 | J13: 0 | K13: 0 | L13: 0 | M13: 0 | N13: 0 | O13: 0 | P13: 0 | Q13: 0 | R13: 0 | S13: 0 | T13: 0 | U13: 0 | V13: 0 | W13: 627 | X13: 9524 | Y13: 0 | Z13: 19 | AA13: 887 | AB13: 6 | AC13: 81 | AD13: 251 | AE13: 853 | AF13: 0 | AG13: 0 | AH13: 222 | AI13: 11178 | AJ13: 0 | AK13: 525 | AL13: 2529 | AM13: 0 | AN13: 576188 | AO13: 1036892 | AP13: 408528 | AQ13: 11701 | AR13: 1892447 | AS13: 598303 | AT13: 0 | AU13: 543239 | AV13: 991690 | AW13: 453690 | AX13: 4006 | AY13: 9 | AZ13: 21 | BA13: 2467 | BB13: 10 | BC13: 272293 | BD13: 3448 | BE13: 40706 | BF13: 62351 | BG13: 9574 | BH13: 20316 | BI13: 11556 | BJ13: 0 | BK13: 275756 | BL13: 417509 | BM13: 0 | BN13: 0 | BO13: 0 | BP13: 100648 | BQ13: 2190572 | BR13: 0 | BS13: 14 | BT13: 0 | BU13: 0 | BV13: 0 | BW13: 1331116 | BX13: 3128 | BY13: 0 | BZ13: 0 | CA13: 0 | CB13: 0 | CC13: 0 | CD13: 0 | CE13: 11284880 | CF13: 11284880
F14: Productos no relacionados con la Bioeconomía | G14: 6407 | H14: 16227 | I14: 7166 | J14: 12330 | K14: 24141 | L14: 33130 | M14: 15667 | N14: 4962 | O14: 24110 | P14: 17763 | Q14: 3261 | R14: 5755 | S14: 3838655 | T14: 9043783 | U14: 422692 | V14: 238624 | W14: 38487 | X14: 46613 | Y14: 39 | Z14: 180 | AA14: 7580 | AB14: 3232 | AC14: 31359 | AD14: 18935 | AE14: 10891 | AF14: 10831 | AG14: 1518 | AH14: 18978 | AI14: 33231 | AJ14: 2822 | AK14: 1849 | AL14: 134 | AM14: 0 | AN14: 12634 | AO14: 26407 | AP14: 5153 | AQ14: 20926 | AR14: 50383 | AS14: 104622 | AT14: 4741992 | AU14: 99770 | AV14: 183131 | AW14: 15152 | AX14: 221337 | AY14: 1315513 | AZ14: 420042 | BA14: 1095239 | BB14: 1420294 | BC14: 1068006 | BD14: 279008 | BE14: 620792 | BF14: 211352 | BG14: 1053295 | BH14: 759472 | BI14: 617651 | BJ14: 3100604 | BK14: 447876 | BL14: 11595182 | BM14: 23467761 | BN14: 10922243 | BO14: 327749 | BP14: 633002 | BQ14: 12130 | BR14: 4935255 | BS14: 4867122 | BT14: 1389522 | BU14: 521223 | BV14: 9969431 | BW14: 11369734 | BX14: 9647069 | BY14: 2458616 | BZ14: 4441012 | CA14: 2922028 | CB14: 4371380 | CC14: 2211416 | CD14: 847047 | CE14: 138740925 | CF14: 138740925
F15: Producción Total de la Economía (pb) | G15: 633152 | H15: 297541 | I15: 783836 | J15: 191898 | K15: 4909327 | L15: 1331734 | M15: 309080 | N15: 846129 | O15: 610944 | P15: 2291717 | Q15: 579664 | R15: 3983504 | S15: 3838655 | T15: 9043783 | U15: 422692 | V15: 313776 | W15: 2495189 | X15: 2274246 | Y15: 3383810 | Z15: 1437438 | AA15: 1759582 | AB15: 670461 | AC15: 1730796 | AD15: 428343 | AE15: 398723 | AF15: 221890 | AG15: 178649 | AH15: 1468697 | AI15: 917849 | AJ15: 147554 | AK15: 904794 | AL15: 787547 | AM15: 71266 | AN15: 588822 | AO15: 1063299 | AP15: 413681 | AQ15: 1106977 | AR15: 1942830 | AS15: 702925 | AT15: 4741992 | AU15: 650903 | AV15: 1174821 | AW15: 468842 | AX15: 225343 | AY15: 1315522 | AZ15: 420063 | BA15: 1097706 | BB15: 1420304 | BC15: 1340299 | BD15: 282456 | BE15: 661498 | BF15: 273703 | BG15: 1062869 | BH15: 779788 | BI15: 629207 | BJ15: 3101706 | BK15: 723636 | BL15: 12012691 | BM15: 23467761 | BN15: 10922243 | BO15: 327749 | BP15: 733650 | BQ15: 2202702 | BR15: 4935255 | BS15: 4867136 | BT15: 1389522 | BU15: 521223 | BV15: 9969431 | BW15: 12700850 | BX15: 9652979 | BY15: 2458616 | BZ15: 4441012 | CA15: 2922028 | CB15: 4371380 | CC15: 2214010 | CD15: 847047 | CE15: 186810743 | CF15: 186810743
F17: Productos directamente vinculados con la Bioeconomía | G17: 240762.76 | H17: 167525.64 | I17: 330683.92 | J17: 102263.12 | K17: 2307536.9 | L17: 549863.87 | M17: 161464.49 | N17: 331574.06 | O17: 230770.81 | P17: 1259378.4 | Q17: 135030.07 | R17: 2652714.1 | S17: 0 | T17: 0 | U17: 0 | V17: 43486.829 | W17: 1478319.2 | X17: 1755592.6 | Y17: 2221223.4 | Z17: 1072913.4 | AA17: 1040615.4 | AB17: 344772.83 | AC17: 1010512.4 | AD17: 228265.29 | AE17: 271750.93 | AF17: 143807.19 | AG17: 113863.2 | AH17: 1144900.7 | AI17: 535295.55 | AJ17: 107781.47 | AK17: 603094.44 | AL17: 333987.83 | AM17: 46947 | AN17: 0 | AO17: 0 | AP17: 0 | AQ17: 685980.42 | AR17: 0 | AS17: 0 | AT17: 0 | AU17: 5468.7498 | AV17: 0 | AW17: 0 | AX17: 0 | AY17: 0 | AZ17: 0 | BA17: 0 | BB17: 0 | BC17: 0 | BD17: 0 | BE17: 0 | BF17: 0 | BG17: 0 | BH17: 0 | BI17: 0 | BJ17: 595.65264 | BK17: 2.1580684 | BL17: 0 | BM17: 0 | BN17: 0 | BO17: 0 | BP17: 0 | BQ17: 0 | BR17: 0 | BS17: 0 | BT17: 0 | BU17: 0 | BV17: 0 | BW17: 0 | BX17: 470.62591 | BY17: 0 | BZ17: 0 | CA17: 0 | CB17: 0 | CC17: 1320.0026 | CD17: 0 | CE17: 21660535 | CF17: 21660535
F18: Productos funcionalmente relacionados con la Bioeconomía | G18: 0 | H18: 0 | I18: 0 | J18: 0 | K18: 0 | L18: 0 | M18: 0 | N18: 0 | O18: 0 | P18: 0 | Q18: 0 | R18: 0 | S18: 0 | T18: 0 | U18: 0 | V18: 0 | W18: 377.39325 | X18: 7538.0713 | Y18: 0 | Z18: 14.183692 | AA18: 527.10751 | AB18: 3.1003683 | AC18: 48.166189 | AD18: 140.03081 | AE18: 599.00807 | AF18: 0 | AG18: 0 | AH18: 175.34907 | AI18: 6850.5377 | AJ18: 0 | AK18: 350.86166 | AL18: 1076.1529 | AM18: 0 | AN18: 366681.82 | AO18: 556023.5 | AP18: 251588.57 | AQ18: 7471.175 | AR18: 1330069.3 | AS18: 323366.63 | AT18: 0 | AU18: 376341.29 | AV18: 614668.83 | AW18: 269390.11 | AX18: 2543.1024 | AY18: 6.0807717 | AZ18: 13.26991 | BA18: 1432.6748 | BB18: 7.969132 | BC18: 142710.04 | BD18: 2508.472 | BE18: 29843.157 | BF18: 33231.329 | BG18: 7914.7465 | BH18: 12290.535 | BI18: 5696.152 | BJ18: 0 | BK18: 148775.08 | BL18: 226220.59 | BM18: 0 | BN18: 0 | BO18: 0 | BP18: 46389.859 | BQ18: 1161148.3 | BR18: 0 | BS18: 4.4394638 | BT18: 0 | BU18: 0 | BV18: 0 | BW18: 516899.38 | BX18: 529.1581 | BY18: 0 | BZ18: 0 | CA18: 0 | CB18: 0 | CC18: 0 | CD18: 0 | CE18: 6451465.5 | CF18: 6451465.5
F19: Productos no relacionados con la Bioeconomía | G19: 2461.2355 | H19: 9663.3604 | I19: 3051.0783 | J19: 7021.8765 | K19: 11403.097 | L19: 14028.133 | M19: 8621.5134 | N19: 1955.938 | O19: 9481.1893 | P19: 9837.6387 | Q19: 763.93261 | R19: 3837.9419 | S19: 1273113 | T19: 3475231 | U19: 207204 | V19: 138080.17 | W19: 23165.445 | X19: 36893.335 | Y19: 25.600938 | Z19: 134.37182 | AA19: 4504.4813 | AB19: 1670.065 | AC19: 18647.451 | AD19: 10563.679 | AE19: 7648.062 | AF19: 7379.8116 | AG19: 975.79948 | AH19: 14989.976 | AI19: 20365.917 | AJ19: 2101.5345 | AK19: 1235.7014 | AL19: 57.020361 | AM19: 0 | AN19: 8040.1849 | AO19: 14160.503 | AP19: 3173.4322 | AQ19: 13361.406 | AR19: 35410.704 | AS19: 56545.369 | AT19: 3277648 | AU19: 69117.959 | AV19: 113508.17 | AW19: 8996.8898 | AX19: 140509.9 | AY19: 888814.92 | AZ19: 265424.73 | BA19: 636044.33 | BB19: 1131851 | BC19: 559746.96 | BD19: 202982.53 | BE19: 455126.84 | BF19: 112644.67 | BG19: 870750.25 | BH19: 459456.46 | BI19: 304450.85 | BJ19: 1675937.3 | BK19: 241636.76 | BL19: 6282664.4 | BM19: 8218887 | BN19: 5732173 | BO19: 162291 | BP19: 291758.14 | BQ19: 6429.7037 | BR19: 2368253 | BS19: 1543386.6 | BT19: 964798 | BU19: 252618 | BV19: 2652696 | BW19: 4415098.6 | BX19: 1631977.2 | BY19: 884325 | BZ19: 644214 | CA19: 1505756 | CB19: 1676496 | CC19: 1125318 | CD19: 0 | CE19: 57230593 | CF19: 57230593
F20: Demanda Intermedia Total de la Economía (pc) | G20: 243224 | H20: 177189 | I20: 333735 | J20: 109285 | K20: 2318940 | L20: 563892 | M20: 170086 | N20: 333530 | O20: 240252 | P20: 1269216 | Q20: 135794 | R20: 2656552 | S20: 1273113 | T20: 3475231 | U20: 207204 | V20: 181567 | W20: 1501862 | X20: 1800024 | Y20: 2221249 | Z20: 1073062 | AA20: 1045647 | AB20: 346446 | AC20: 1029208 | AD20: 238969 | AE20: 279998 | AF20: 151187 | AG20: 114839 | AH20: 1160066 | AI20: 562512 | AJ20: 109883 | AK20: 604681 | AL20: 335121 | AM20: 46947 | AN20: 374722 | AO20: 570184 | AP20: 254762 | AQ20: 706813 | AR20: 1365480 | AS20: 379912 | AT20: 3277648 | AU20: 450928 | AV20: 728177 | AW20: 278387 | AX20: 143053 | AY20: 888821 | AZ20: 265438 | BA20: 637477 | BB20: 1131859 | BC20: 702457 | BD20: 205491 | BE20: 484970 | BF20: 145876 | BG20: 878665 | BH20: 471747 | BI20: 310147 | BJ20: 1676533 | BK20: 390414 | BL20: 6508885 | BM20: 8218887 | BN20: 5732173 | BO20: 162291 | BP20: 338148 | BQ20: 1167578 | BR20: 2368253 | BS20: 1543391 | BT20: 964798 | BU20: 252618 | BV20: 2652696 | BW20: 4931998 | BX20: 1632977 | BY20: 884325 | BZ20: 644214 | CA20: 1505756 | CB20: 1676496 | CC20: 1126638 | CD20: 0 | CE20: 85342594 | CF20: 85342594
B22: 550348 | C22: -71 | D22: 80863 | E22: 1045914 | F22: Productos directamente vinculados con la Bioeconomía | G22: 385982.24 | H22: 113788.36 | I22: 445986.08 | J22: 77304.876 | K22: 2577649.1 | L22: 748740.13 | M22: 131948.51 | N22: 509592.94 | O22: 356063.19 | P22: 1014575.6 | Q22: 441372.93 | R22: 1325034.9 | S22: 0 | T22: 0 | U22: 0 | V22: 31665.171 | W22: 977755.84 | X22: 462516.41 | Y22: 1162547.6 | Z22: 364325.56 | AA22: 710499.59 | AB22: 322450.17 | AC22: 688843.62 | AD22: 180891.71 | AE22: 115228.07 | AF22: 67251.812 | AG22: 63267.799 | AH22: 304596.32 | AI22: 338144.45 | AJ22: 36950.535 | AK22: 299325.56 | AL22: 450896.17 | AM22: 24319 | AN22: 0 | AO22: 0 | AP22: 0 | AQ22: 388369.58 | AR22: 0 | AS22: 0 | AT22: 0 | AU22: 2425.2502 | AV22: 0 | AW22: 0 | AX22: 0 | AY22: 0 | AZ22: 0 | BA22: 0 | BB22: 0 | BC22: 0 | BD22: 0 | BE22: 0 | BF22: 0 | BG22: 0 | BH22: 0 | BI22: 0 | BJ22: 506.34736 | BK22: 1.8419316 | BL22: 0 | BM22: 0 | BN22: 0 | BO22: 0 | BP22: 0 | BQ22: 0 | BR22: 0 | BS22: 0 | BT22: 0 | BU22: 0 | BV22: 0 | BW22: 0 | BX22: 2311.3741 | BY22: 0 | BZ22: 0 | CA22: 0 | CB22: 0 | CC22: 1273.9974 | CD22: 0 | CE22: 15124403 | CF22: 16801457
B23: 48260 | C23: -15259 | D23: 245704 | E23: 1127489 | F23: Productos funcionalmente relacionados con la Bioeconomía | G23: 0 | H23: 0 | I23: 0 | J23: 0 | K23: 0 | L23: 0 | M23: 0 | N23: 0 | O23: 0 | P23: 0 | Q23: 0 | R23: 0 | S23: 0 | T23: 0 | U23: 0 | V23: 0 | W23: 249.60675 | X23: 1985.9287 | Y23: 0 | Z23: 4.8163079 | AA23: 359.89249 | AB23: 2.8996317 | AC23: 32.833811 | AD23: 110.96919 | AE23: 253.99193 | AF23: 0 | AG23: 0 | AH23: 46.650931 | AI23: 4327.4623 | AJ23: 0 | AK23: 174.13834 | AL23: 1452.8471 | AM23: 0 | AN23: 209506.18 | AO23: 480868.5 | AP23: 156939.43 | AQ23: 4229.825 | AR23: 562377.7 | AS23: 274936.37 | AT23: 0 | AU23: 166897.71 | AV23: 377021.17 | AW23: 184299.89 | AX23: 1462.8976 | AY23: 2.9192283 | AZ23: 7.7300905 | BA23: 1034.3252 | BB23: 2.030868 | BC23: 129582.96 | BD23: 939.528 | BE23: 10862.843 | BF23: 29119.671 | BG23: 1659.2535 | BH23: 8025.4646 | BI23: 5859.848 | BJ23: 0 | BK23: 126980.92 | BL23: 191288.41 | BM23: 0 | BN23: 0 | BO23: 0 | BP23: 54258.141 | BQ23: 1029423.7 | BR23: 0 | BS23: 9.5605362 | BT23: 0 | BU23: 0 | BV23: 0 | BW23: 814216.62 | BX23: 2598.8419 | BY23: 0 | BZ23: 0 | CA23: 0 | CB23: 0 | CC23: 0 | CD23: 0 | CE23: 4833414.5 | CF23: 6239608.5
B24: 720591 | C24: -3390641 | D24: 1138507 | E24: 4459107 | F24: Productos no relacionados con la Bioeconomía | G24: 3945.7645 | H24: 6563.6396 | I24: 4114.9217 | J24: 5308.1235 | K24: 12737.903 | L24: 19101.867 | M24: 7045.4866 | N24: 3006.062 | O24: 14628.811 | P24: 7925.3613 | Q24: 2497.0674 | R24: 1917.0581 | S24: 2565542 | T24: 5568552 | U24: 215488 | V24: 100543.83 | W24: 15321.555 | X24: 9719.6654 | Y24: 13.399062 | Z24: 45.62818 | AA24: 3075.5187 | AB24: 1561.935 | AC24: 12711.549 | AD24: 8371.3209 | AE24: 3242.938 | AF24: 3451.1884 | AG24: 542.20052 | AH24: 3988.0242 | AI24: 12865.083 | AJ24: 720.46547 | AK24: 613.29865 | AL24: 76.979639 | AM24: 0 | AN24: 4593.8151 | AO24: 12246.497 | AP24: 1979.5678 | AQ24: 7564.5943 | AR24: 14972.296 | AS24: 48076.631 | AT24: 1464344 | AU24: 30652.041 | AV24: 69622.83 | AW24: 6155.1102 | AX24: 80827.102 | AY24: 426698.08 | AZ24: 154617.27 | BA24: 459194.67 | BB24: 288442.97 | BC24: 508259.04 | BD24: 76025.472 | BE24: 165665.16 | BF24: 98707.329 | BG24: 182544.75 | BH24: 300015.54 | BI24: 313200.15 | BJ24: 1424666.7 | BK24: 206239.24 | BL24: 5312517.6 | BM24: 15248874 | BN24: 5190070 | BO24: 165458 | BP24: 341243.86 | BQ24: 5700.2963 | BR24: 2567002 | BS24: 3323735.4 | BT24: 424724 | BU24: 268605 | BV24: 7316735 | BW24: 6954635.4 | BX24: 8015091.8 | BY24: 1574291 | BZ24: 3796798 | CA24: 1416272 | CB24: 2694884 | CC24: 1086098 | CD24: 847047 | CE24: 81510332 | CF24: 84437896
B25: 1319199 | C25: -3405971 | D25: 1465074 | E25: 6632510 | F25: Valor Agregado Total de la Economía | G25: 389928 | H25: 120352 | I25: 450101 | J25: 82613 | K25: 2590387 | L25: 767842 | M25: 138994 | N25: 512599 | O25: 370692 | P25: 1022501 | Q25: 443870 | R25: 1326952 | S25: 2565542 | T25: 5568552 | U25: 215488 | V25: 132209 | W25: 993327 | X25: 474222 | Y25: 1162561 | Z25: 364376 | AA25: 713935 | AB25: 324015 | AC25: 701588 | AD25: 189374 | AE25: 118725 | AF25: 70703 | AG25: 63810 | AH25: 308631 | AI25: 355337 | AJ25: 37671 | AK25: 300113 | AL25: 452426 | AM25: 24319 | AN25: 214100 | AO25: 493115 | AP25: 158919 | AQ25: 400164 | AR25: 577350 | AS25: 323013 | AT25: 1464344 | AU25: 199975 | AV25: 446644 | AW25: 190455 | AX25: 82290 | AY25: 426701 | AZ25: 154625 | BA25: 460229 | BB25: 288445 | BC25: 637842 | BD25: 76965 | BE25: 176528 | BF25: 127827 | BG25: 184204 | BH25: 308041 | BI25: 319060 | BJ25: 1425173 | BK25: 333222 | BL25: 5503806 | BM25: 15248874 | BN25: 5190070 | BO25: 165458 | BP25: 395502 | BQ25: 1035124 | BR25: 2567002 | BS25: 3323745 | BT25: 424724 | BU25: 268605 | BV25: 7316735 | BW25: 7768852 | BX25: 8020002 | BY25: 1574291 | BZ25: 3796798 | CA25: 1416272 | CB25: 2694884 | CC25: 1087372 | CD25: 847047 | CE25: 101468149 | CF25: 107478961
B27: 3.2755969 | C27: -0.00042258241 | D27: 0.48128565 | E27: 6.2251388 | F27: Participación de las Actividades Económicas en la Bioeconomía | G27: 2.2973141 | H27: 0.67725294 | I27: 2.6544489 | J27: 0.46010818 | K27: 15.341819 | L27: 4.4564001 | M27: 0.78533972 | N27: 3.0330283 | O27: 2.11924 | P27: 6.0386171 | Q27: 2.6269921 | R27: 7.8864289 | S27: 0 | T27: 0 | U27: 0 | V27: 0.18846682 | W27: 5.8194706 | X27: 2.7528351 | Y27: 6.9193262 | Z27: 2.1684165 | AA27: 4.2287975 | AB27: 1.9191798 | AC27: 4.0999041 | AD27: 1.076643 | AE27: 0.6858219 | AF27: 0.4002737 | AG27: 0.37656139 | AH27: 1.8129162 | AI27: 2.0125901 | AJ27: 0.21992459 | AK27: 1.7815453 | AL27: 2.6836731 | AM27: 0.1447434 | AN27: 0 | AO27: 0 | AP27: 0 | AQ27: 2.3115233 | AR27: 0 | AS27: 0 | AT27: 0 | AU27: 0.014434762 | AV27: 0 | AW27: 0 | AX27: 0 | AY27: 0 | AZ27: 0 | BA27: 0 | BB27: 0 | BC27: 0 | BD27: 0 | BE27: 0 | BF27: 0 | BG27: 0 | BH27: 0 | BI27: 0 | BJ27: 0.0030137111 | BK27: 1.0962928e-05 | BL27: 0 | BM27: 0 | BN27: 0 | BO27: 0 | BP27: 0 | BQ27: 0 | BR27: 0 | BS27: 0 | BT27: 0 | BU27: 0 | BV27: 0 | BW27: 0 | BX27: 0.013756986 | BY27: 0 | BZ27: 0 | CA27: 0 | CB27: 0 | CC27: 0.0075826603 | CD27: 0 | CE27: 90.018401 | CF27: 100
B28: 0.77344596 | C28: -0.2445506 | D28: 3.9378112 | E28: 18.069868 | F28: Participación de las Actividades Económicas en la Bioeconomía Extendida | G28: 0 | H28: 0 | I28: 0 | J28: 0 | K28: 0 | L28: 0 | M28: 0 | N28: 0 | O28: 0 | P28: 0 | Q28: 0 | R28: 0 | S28: 0 | T28: 0 | U28: 0 | V28: 0 | W28: 0.0040003592 | X28: 0.031827777 | Y28: 0 | Z28: 7.7189264e-05 | AA28: 0.0057678697 | AB28: 4.6471373e-05 | AC28: 0.00052621588 | AD28: 0.0017784639 | AE28: 0.0040706389 | AF28: 0 | AG28: 0 | AH28: 0.00074765798 | AI28: 0.069354709 | AJ28: 0 | AK28: 0.0027908536 | AL28: 0.023284267 | AM28: 0 | AN28: 3.3576816 | AO28: 7.7067095 | AP28: 2.5152128 | AQ28: 0.06778991 | AR28: 9.0130287 | AS28: 4.406308 | AT28: 0 | AU28: 2.6748106 | AV28: 6.042385 | AW28: 2.9537092 | AX28: 0.023445343 | AY28: 4.678544e-05 | AZ28: 0.00012388743 | BA28: 0.016576764 | BB28: 3.2548004e-05 | BC28: 2.0767803 | BD28: 0.015057483 | BE28: 0.17409494 | BF28: 0.46669067 | BG28: 0.026592269 | BH28: 0.12862128 | BI28: 0.093913712 | BJ28: 0 | BK28: 2.0350783 | BL28: 3.0657117 | BM28: 0 | BN28: 0 | BO28: 0 | BP28: 0.86957605 | BQ28: 16.49821 | BR28: 0 | BS28: 0.00015322333 | BT28: 0 | BU28: 0 | BV28: 0 | BW28: 13.049162 | BX28: 0.041650721 | BY28: 0 | BZ28: 0 | CA28: 0 | CB28: 0 | CC28: 0 | CD28: 0 | CE28: 77.463426 | CF28: 100
B29: 0.85339763 | C29: -4.0155442 | D29: 1.3483365 | E29: 5.280931 | F29: Participación de las Actividades Económicas en la No Bioeconomía | G29: 0.0046729783 | H29: 0.007773334 | I29: 0.0048733115 | J29: 0.0062864233 | K29: 0.015085529 | L29: 0.022622386 | M29: 0.0083439865 | N29: 0.0035600864 | O29: 0.017324935 | P29: 0.0093860242 | Q29: 0.0029572828 | R29: 0.0022703765 | S29: 3.0383775 | T29: 6.5948493 | U29: 0.25520295 | V29: 0.11907429 | W29: 0.018145354 | X29: 0.011511023 | Y29: 1.5868541e-05 | Z29: 5.4037562e-05 | AA29: 0.0036423441 | AB29: 0.0018498033 | AC29: 0.015054318 | AD29: 0.0099141751 | AE29: 0.0038406192 | AF29: 0.0040872506 | AG29: 0.00064212936 | AH29: 0.0047230265 | AI29: 0.015236149 | AJ29: 0.00085324896 | AK29: 0.00072633104 | AL29: 9.1167169e-05 | AM29: 0 | AN29: 0.0054404661 | AO29: 0.014503555 | AP29: 0.0023444069 | AQ29: 0.0089587669 | AR29: 0.017731725 | AS29: 0.056937268 | AT29: 1.7342261 | AU29: 0.036301285 | AV29: 0.082454482 | AW29: 0.0072895115 | AX29: 0.095723729 | AY29: 0.50533955 | AZ29: 0.1831136 | BA29: 0.54382534 | BB29: 0.34160369 | BC29: 0.60193238 | BD29: 0.090037147 | BE29: 0.19619764 | BF29: 0.11689932 | BG29: 0.21618818 | BH29: 0.35530911 | BI29: 0.37092368 | BJ29: 1.6872361 | BK29: 0.24424962 | BL29: 6.2916272 | BM29: 18.059278 | BN29: 6.1466122 | BO29: 0.1959523 | BP29: 0.40413591 | BQ29: 0.0067508744 | BR29: 3.0401065 | BS29: 3.9363078 | BT29: 0.50300164 | BU29: 0.31810954 | BV29: 8.6652266 | BW29: 8.2363912 | BX29: 9.4922922 | BY29: 1.8644366 | BZ29: 4.4965569 | CA29: 1.6772943 | CB29: 3.1915575 | CC29: 1.2862684 | CD29: 1.0031598 | CE29: 96.532879 | CF29: 100
B30: 1.2274021 | C30: -3.1689653 | D30: 1.3631263 | E30: 6.1709845 | F30: Participación de las Actividades Económicas en el Total de la Economía | G30: 0.36279472 | H30: 0.11197726 | I30: 0.41878056 | J30: 0.076864346 | K30: 2.410134 | L30: 0.71441145 | M30: 0.12932205 | N30: 0.47692962 | O30: 0.34489727 | P30: 0.95134991 | Q30: 0.41298315 | R30: 1.2346156 | S30: 2.3870179 | T30: 5.1810624 | U30: 0.20049319 | V30: 0.12300919 | W30: 0.92420599 | X30: 0.4412231 | Y30: 1.0816638 | Z30: 0.33902077 | AA30: 0.66425558 | AB30: 0.3014683 | AC30: 0.65276775 | AD30: 0.17619634 | AE30: 0.11046348 | AF30: 0.065783107 | AG30: 0.059369759 | AH30: 0.2871548 | AI30: 0.33061075 | AJ30: 0.03504965 | AK30: 0.27922953 | AL30: 0.42094378 | AM30: 0.022626754 | AN30: 0.19920178 | AO30: 0.45880142 | AP30: 0.14786057 | AQ30: 0.37231845 | AR30: 0.5371749 | AS30: 0.30053603 | AT30: 1.3624471 | AU30: 0.18605967 | AV30: 0.41556412 | AW30: 0.17720212 | AX30: 0.076563822 | AY30: 0.39700886 | AZ30: 0.14386537 | BA30: 0.4282038 | BB30: 0.26837345 | BC30: 0.59345754 | BD30: 0.071609364 | BE30: 0.16424424 | BF30: 0.11893211 | BG30: 0.1713861 | BH30: 0.28660586 | BI30: 0.2968581 | BJ30: 1.3260018 | BK30: 0.31003463 | BL30: 5.1208217 | BM30: 14.187776 | BN30: 4.8289172 | BO30: 0.15394455 | BP30: 0.36798086 | BQ30: 0.96309454 | BR30: 2.3883763 | BS30: 3.092461 | BT30: 0.39516943 | BU30: 0.24991403 | BV30: 6.8075974 | BW30: 7.2282537 | BX30: 7.4619274 | BY30: 1.4647434 | BZ30: 3.5325965 | CA30: 1.3177202 | CB30: 2.5073596 | CC30: 1.0117068 | CD30: 0.78810494 | CE30: 94.407452 | CF30: 100
B32: 0.51205184 | C32: -6.605944e-05 | D32: 0.07523612 | E32: 0.97313371 | F32: Participación de las Actividades Económicas de la Bioeconomía en el PIB | G32: 0.35912353 | H32: 0.10587036 | I32: 0.41495198 | J32: 0.07192559 | K32: 2.3982825 | L32: 0.69663879 | M32: 0.12276683 | N32: 0.47413274 | O32: 0.33128641 | P32: 0.94397604 | Q32: 0.41065984 | R32: 1.2328319 | S32: 0 | T32: 0 | U32: 0 | V32: 0.029461739 | W32: 0.90971836 | X32: 0.43033204 | Y32: 1.0816513 | Z32: 0.33897383 | AA32: 0.66105923 | AB32: 0.30001236 | AC32: 0.64091019 | AD32: 0.1683043 | AE32: 0.10720988 | AF32: 0.062572071 | AG32: 0.058865288 | AH32: 0.28340088 | AI32: 0.31461455 | AJ32: 0.034379319 | AK32: 0.27849689 | AL32: 0.41952041 | AM32: 0.022626754 | AN32: 0 | AO32: 0 | AP32: 0 | AQ32: 0.36134475 | AR32: 0 | AS32: 0 | AT32: 0 | AU32: 0.0022564883 | AV32: 0 | AW32: 0 | AX32: 0 | AY32: 0 | AZ32: 0 | BA32: 0 | BB32: 0 | BC32: 0 | BD32: 0 | BE32: 0 | BF32: 0 | BG32: 0 | BH32: 0 | BI32: 0 | BJ32: 0.000471113 | BK32: 1.7137601e-06 | BL32: 0 | BM32: 0 | BN32: 0 | BO32: 0 | BP32: 0 | BQ32: 0 | BR32: 0 | BS32: 0 | BT32: 0 | BU32: 0 | BV32: 0 | BW32: 0 | BX32: 0.0021505363 | BY32: 0 | BZ32: 0 | CA32: 0 | CB32: 0 | CC32: 0.0011853458 | CD32: 0 | CE32: 14.071966 | CF32: 15.632321
B33: 0.044901811 | C33: -0.014197197 | D33: 0.2286066 | E33: 1.0490323 | F33: Participación de las Actividades Económicas de la Bioeconomía Extendida en el PIB | G33: 0 | H33: 0 | I33: 0 | J33: 0 | K33: 0 | L33: 0 | M33: 0 | N33: 0 | O33: 0 | P33: 0 | Q33: 0 | R33: 0 | S33: 0 | T33: 0 | U33: 0 | V33: 0 | W33: 0.00023223778 | X33: 0.0018477371 | Y33: 0 | Z33: 4.4811634e-06 | AA33: 0.00033484924 | AB33: 2.6978599e-06 | AC33: 3.0549058e-05 | AD33: 0.00010324736 | AE33: 0.00023631781 | AF33: 0 | AG33: 0 | AH33: 4.3404709e-05 | AI33: 0.0040263344 | AJ33: 0 | AK33: 0.00016202086 | AL33: 0.0013517502 | AM33: 0 | AN33: 0.19492762 | AO33: 0.4474071 | AP33: 0.14601875 | AQ33: 0.0039354911 | AR33: 0.52324446 | AS33: 0.25580483 | AT33: 0 | AU33: 0.15528407 | AV33: 0.35078602 | AW33: 0.17147532 | AX33: 0.0013611014 | AY33: 2.7160927e-06 | AZ33: 7.1921894e-06 | BA33: 0.00096235129 | BB33: 1.8895494e-06 | BC33: 0.12056588 | BD33: 0.00087415061 | BE33: 0.010106948 | BF33: 0.027093368 | BG33: 0.0015437938 | BH33: 0.0074670098 | BI33: 0.0054520884 | BJ33: 0 | BK33: 0.11814491 | BL33: 0.17797754 | BM33: 0 | BN33: 0 | BO33: 0 | BP33: 0.05048257 | BQ33: 0.9577909 | BR33: 0 | BS33: 8.895263e-06 | BT33: 0 | BU33: 0 | BV33: 0 | BW33: 0.75755908 | BX33: 0.0024180006 | BY33: 0 | BZ33: 0 | CA33: 0 | CB33: 0 | CC33: 0 | CD33: 0 | CE33: 4.4970797 | CF33: 5.8054232
B34: 0.67044842 | C34: -3.1547021 | D34: 1.0592836 | E34: 4.1488185 | F34: Participación de las Actividades Económicas de la No Bioeconomía en el PIB | G34: 0.0036711971 | H34: 0.0061069065 | I34: 0.0038285834 | J34: 0.0049387559 | K34: 0.011851532 | L34: 0.017772657 | M34: 0.006555224 | N34: 0.0027968841 | O34: 0.01361086 | P34: 0.0073738723 | Q34: 0.0023233081 | R34: 0.001783659 | S34: 2.3870179 | T34: 5.1810624 | U34: 0.20049319 | V34: 0.093547451 | W34: 0.0142554 | X34: 0.0090433191 | Y34: 1.2466683e-05 | Z34: 4.2453127e-05 | AA34: 0.0028615076 | AB34: 0.0014532472 | AC34: 0.011827011 | AD34: 0.0077887996 | AE34: 0.003017277 | AF34: 0.0032110362 | AG34: 0.0005044713 | AH34: 0.0037105161 | AI34: 0.011969862 | AJ34: 0.00067033163 | AK34: 0.00057062205 | AL34: 7.1622984e-05 | AM34: 0 | AN34: 0.0042741529 | AO34: 0.01139432 | AP34: 0.0018418189 | AQ34: 0.0070382093 | AR34: 0.013930443 | AS34: 0.044731202 | AT34: 1.3624471 | AU34: 0.028519108 | AV34: 0.064778101 | AW34: 0.0057268047 | AX34: 0.07520272 | AY34: 0.39700615 | AZ34: 0.14385817 | BA34: 0.42724145 | BB34: 0.26837156 | BC34: 0.47289166 | BD34: 0.070735213 | BE34: 0.15413729 | BF34: 0.091838745 | BG34: 0.16984231 | BH34: 0.27913885 | BI34: 0.29140601 | BJ34: 1.3255307 | BK34: 0.19188801 | BL34: 4.9428442 | BM34: 14.187776 | BN34: 4.8289172 | BO34: 0.15394455 | BP34: 0.31749829 | BQ34: 0.0053036392 | BR34: 2.3883763 | BS34: 3.0924521 | BT34: 0.39516943 | BU34: 0.24991403 | BV34: 6.8075974 | BW34: 6.4706946 | BX34: 7.4573588 | BY34: 1.4647434 | BZ34: 3.5325965 | CA34: 1.3177202 | CB34: 2.5073596 | CC34: 1.0105215 | CD34: 0.78810494 | CE34: 75.838407 | CF34: 78.562255
B35: 1.2274021 | C35: -3.1689653 | D35: 1.3631263 | E35: 6.1709845 | F35: Participación de las Actividades Económicas en el PIB | G35: 0.36279472 | H35: 0.11197726 | I35: 0.41878056 | J35: 0.076864346 | K35: 2.410134 | L35: 0.71441145 | M35: 0.12932205 | N35: 0.47692962 | O35: 0.34489727 | P35: 0.95134991 | Q35: 0.41298315 | R35: 1.2346156 | S35: 2.3870179 | T35: 5.1810624 | U35: 0.20049319 | V35: 0.12300919 | W35: 0.92420599 | X35: 0.4412231 | Y35: 1.0816638 | Z35: 0.33902077 | AA35: 0.66425558 | AB35: 0.3014683 | AC35: 0.65276775 | AD35: 0.17619634 | AE35: 0.11046348 | AF35: 0.065783107 | AG35: 0.059369759 | AH35: 0.2871548 | AI35: 0.33061075 | AJ35: 0.03504965 | AK35: 0.27922953 | AL35: 0.42094378 | AM35: 0.022626754 | AN35: 0.19920178 | AO35: 0.45880142 | AP35: 0.14786057 | AQ35: 0.37231845 | AR35: 0.5371749 | AS35: 0.30053603 | AT35: 1.3624471 | AU35: 0.18605967 | AV35: 0.41556412 | AW35: 0.17720212 | AX35: 0.076563822 | AY35: 0.39700886 | AZ35: 0.14386537 | BA35: 0.4282038 | BB35: 0.26837345 | BC35: 0.59345754 | BD35: 0.071609364 | BE35: 0.16424424 | BF35: 0.11893211 | BG35: 0.1713861 | BH35: 0.28660586 | BI35: 0.2968581 | BJ35: 1.3260018 | BK35: 0.31003463 | BL35: 5.1208217 | BM35: 14.187776 | BN35: 4.8289172 | BO35: 0.15394455 | BP35: 0.36798086 | BQ35: 0.96309454 | BR35: 2.3883763 | BS35: 3.092461 | BT35: 0.39516943 | BU35: 0.24991403 | BV35: 6.8075974 | BW35: 7.2282537 | BX35: 7.4619274 | BY35: 1.4647434 | BZ35: 3.5325965 | CA35: 1.3177202 | CB35: 2.5073596 | CC35: 1.0117068 | CD35: 0.78810494 | CE35: 94.407452 | CF35: 100
B37: (pb): precios básicos
B38: (pc): precios de comprador | CE38: PIB PRODUCCIÓN | CF38: 107478961
B39: Elaboración: Banco Central del Ecuador
CE40: PIB BIOECONOMÍA | CF40: 23041065

Sheet Q19P18
G8: A | S8: B | W8: C | BJ8: D | BK8: E | BL8: F | BM8: G | BN8: H | BP8: I | BR8: J | BS8: K | BV8: L | BW8: M - N | BX8: O | BY8: P | CA8: Q | CC8: R - S - U | CD8: T
G9: AGRICULTURA, GANADERÍA, SILVICULTURA Y PESCA. | S9: EXPLOTACIÓN DE MINAS Y CANTERAS. | W9: INDUSTRIAS MANUFACTURERAS. | BJ9: SUMINISTRO DE ELECTRICIDAD, GAS, VAPOR Y AIRE ACONDICIONADO. | BK9: DISTRIBUCIÓN DE AGUA; ALCANTARILLADO, GESTIÓN DE DESECHOS Y ACTIVIDADES DE SANEAMIENTO. | BL9: CONSTRUCCIÓN. | BM9: COMERCIO AL POR MAYOR Y AL POR MENOR; REPARACIÓN DE VEHÍCULOS AUTOMOTORES Y MOTOCICLETAS. | BN9: TRANSPORTE Y ALMACENAMIENTO. | BP9: ACTIVIDADES DE ALOJAMIENTO Y DE SERVICIO DE COMIDAS. | BR9: INFORMACIÓN Y COMUNICACIÓN. | BS9: ACTIVIDADES FINANCIERAS Y DE SEGUROS. | BV9: ACTIVIDADES INMOBILIARIAS. | BW9: ACTIVIDADES PROFESIONALES, CIENTÍFICAS Y TÉCNICAS, Y ACTIVIDADES DE SERVICIOS ADMINISTRATIVOS Y DE APOYO. | BX9: ADMINISTRACIÓN PÚBLICA Y DEFENSA; PLANES DE SEGURIDAD SOCIAL DE AFILIACIÓN OBLIGATORIA. | BY9: ENSEÑANZA. | CA9: ACTIVIDADES DE ATENCIÓN DE LA SALUD HUMANA Y DE ASISTENCIA SOCIAL. | CC9: ARTES, ENTRETENIMIENTO Y RECREACIÓN, OTRAS ACTIVIDADES DE SERVICIOS, Y ACTIVIDADES DE ORGANIZACIONES Y ÓRGANOS EXTRATERRITORIALES | CD9: ACTIVIDADES DE LOS HOGARES COMO EMPLEADORES; ACTIVIDADES NO DIFERENCIADAS DE LOS HOGARES COMO PRODUCTORES DE BIENES Y SERVICIOS PARA USO PROPIO.
B10: Otros elementos del PIB | G10: 01 | H10: 02 | I10: 03 | J10: 04 | K10: 05 | L10: 06 | M10: 07 | N10: 08 | O10: 09 | P10: 10 | Q10: 11 | R10: 12 | S10: 13 | T10: 14 | U10: 15 | V10: 16 | W10: 17 | X10: 18 | Y10: 19 | Z10: 20 | AA10: 21 | AB10: 22 | AC10: 23 | AD10: 24 | AE10: 25 | AF10: 26 | AG10: 27 | AH10: 28 | AI10: 29 | AJ10: 30 | AK10: 31 | AL10: 32 | AM10: 33 | AN10: 34 | AO10: 35 | AP10: 36 | AQ10: 37 | AR10: 38 | AS10: 39 | AT10: 40 | AU10: 41 | AV10: 42 | AW10: 43 | AX10: 44 | AY10: 45 | AZ10: 46 | BA10: 47 | BB10: 48 | BC10: 49 | BD10: 50 | BE10: 51 | BF10: 52 | BG10: 53 | BH10: 54 | BI10: 55 | BJ10: 56 | BK10: 57 | BL10: 58 | BM10: 59 | BN10: 60 | BO10: 61 | BP10: 62 | BQ10: 63 | BR10: 64 | BS10: 65 | BT10: 66 | BU10: 67 | BV10: 68 | BW10: 69 | BX10: 70 | BY10: 71 | BZ10: 72 | CA10: 73 | CB10: 74 | CC10: 75 | CD10: 76
B11: Impuestos indirectos sobre productos | C11: Subsidios sobre productos | D11: Derechos arancelarios | E11: Impuesto al valor agregado (IVA) | F11: Descripción | G11: Cultivo de cereales (excepto arroz), legumbres y semillas oleaginosas | H11: Cultivo de arroz | I11: Cultivo de hortalizas y melones, raíces y tubérculos | J11: Cultivo de caña de azúcar | K11: Cultivos de frutas, y otros tipos de cultivos n.c.p. | L11: Cultivo de otras plantas no perennes y propagación de plantas | M11: Cultivo de frutos oleaginosos | N11: Cultivo de plantas con las que se preparan bebidas | O11: Actividades de apoyo a la agricultura, poscosecha y tratamiento de semillas para propagación | P11: Ganadería | Q11: Silvicultura y extracción de madera | R11: Pesca y acuicultura | S11: Servicios Petroleros | T11: Extracción de petróleo crudo y gas natural | U11: Extracción de minerales metálicos | V11: Explotación de otras minas y canteras, y actividades de apoyo | W11: Elaboración y conservación de carne | X11: Preparación y conservación de pescado y otros productos acuaticos elaborados | Y11: Procesamiento y conservación de camarón | Z11: Elaboración de aceites y grasas de origen vegetal y animal | AA11: Elaboración de productos lácteos | AB11: Elaboración de productos de la panadería y pastelería | AC11: Elaboración de productos de molinería | AD11: Elaboración y refinación de azúcar | AE11: Elaboración de cacao, chocolate y productos de confitería | AF11: Elaboración de fideos y de otros productos farináceos | AG11: Elaboración de café | AH11: Elaboración de alimentos preparados para animales | AI11: Elaboración de otros productos alimenticios diversos | AJ11: Elaboración bebidas no alcohólicas (jugos) | AK11: Elaboración bebidas no alcohólicas (excepto jugos) | AL11: Elaboración bebidas alcohólicas | AM11: Elaboración de productos de tabaco | AN11: Fabricación de hilos, hilados; tejidos y confecciones | AO11: Fabricación de prendas de vestir | AP11: Fabricación de cuero, productos de cuero y calzado | AQ11: Producción de madera y de productos de madera | AR11: Fabricación de papel y productos de papel | AS11: Impresión y reproducción de grabaciones | AT11: Fabricación de productos refinados de petróleo y de otros | AU11: Fabricación de sustancias químicas básicas, abonos y plásticos primarios, caucho sintético y artificial | AV11: Fabricación de otros productos químicos | AW11: Fabricación de productos farmacéuticos y medicamentos | AX11: Fabricación de productos de caucho | AY11: Fabricación de productos de plástico | AZ11: Fabricación de vidrio, productos refractarios y de cerámica | BA11: Fabricación de cemento, artículos de hormigón y piedra | BB11: Fabricación de metales comunes | BC11: Fabricación de productos derivados del metal, excepto maquinaria y equipo | BD11: Fabricación de productos de informática, electrónica y óptica | BE11: Fabricación de equipo eléctrico | BF11: Fabricación de maquinaria y equipo n.c.p. | BG11: Fabricación de vehículos y equipos de transporte | BH11: Fabricación de muebles | BI11: Industrias manufactureras n.c.p. | BJ11: Suministro de electricidad, gas, vapor y aire acondicionado | BK11: Distribución de agua; alcantarillado, gestión de desechos y actividades de saneamiento | BL11: Construcción | BM11: Comercio al por mayor y al por menor; reparación de vehículos automotores y motocicletas | BN11: Transporte y almacenamiento | BO11: Actividades postales y de mensajería | BP11: Actividades de alojamiento | BQ11: Servicio de alimento y bebida | BR11: Información y comunicación | BS11: Actividades de servicios financieros, excepto las de seguros y fondos de pensiones | BT11: Seguros, reaseguros y fondos de pensiones, excepto los planes de seguridad social de afiliación obligatoria | BU11: Actividades auxiliares de las actividades de servicios financieros | BV11: Actividades inmobiliarias | BW11: Actividades profesionales, científicas, técnicas y administrativas | BX11: Administración pública y defensa; planes de seguridad social de afiliación obligatoria | BY11: Servicios de enseñanza privada | BZ11: Servicios de enseñanza pública (no de mercado) | CA11: Actividades de atención de la salud humana y de asistencia social privada | CB11: Actividades de atención de la salud humana y de asistencia social no de mercado | CC11: Servicios de asociaciones, personales; esparcimiento; culturales y deportivos | CD11: Actividades de los hogares como empleadores de personal doméstico | CE11: Total de las Industrias | CF11: ECONOMÍA TOTAL
F12: Productos directamente vinculados con la Bioeconomía | G12: 671237 | H12: 269575 | I12: 786510 | J12: 210622 | K12: 4845907 | L12: 1351465 | M12: 274473 | N12: 780275 | O12: 589548 | P12: 2321504 | Q12: 513237 | R12: 4666627 | S12: 0 | T12: 0 | U12: 0 | V12: 75494 | W12: 2613504 | X12: 2340905 | Y12: 4214908 | Z12: 1293159 | AA12: 1767256 | AB12: 650598 | AC12: 1760082 | AD12: 471396 | AE12: 360266 | AF12: 218983 | AG12: 182720 | AH12: 1615105 | AI12: 866692 | AJ12: 129513 | AK12: 834428 | AL12: 623001 | AM12: 49089 | AN12: 0 | AO12: 0 | AP12: 0 | AQ12: 1062395 | AR12: 0 | AS12: 0 | AT12: 0 | AU12: 8481 | AV12: 0 | AW12: 0 | AX12: 0 | AY12: 0 | AZ12: 0 | BA12: 0 | BB12: 0 | BC12: 0 | BD12: 0 | BE12: 0 | BF12: 0 | BG12: 0 | BH12: 0 | BI12: 0 | BJ12: 1107 | BK12: 4 | BL12: 0 | BM12: 0 | BN12: 0 | BO12: 0 | BP12: 0 | BQ12: 0 | BR12: 0 | BS12: 0 | BT12: 0 | BU12: 0 | BV12: 0 | BW12: 0 | BX12: 2229 | BY12: 0 | BZ12: 0 | CA12: 0 | CB12: 0 | CC12: 2606 | CD12: 0 | CE12: 38424901 | CF12: 38424901
F13: Productos funcionalmente relacionados con la Bioeconomía | G13: 0 | H13: 0 | I13: 0 | J13: 0 | K13: 0 | L13: 0 | M13: 0 | N13: 0 | O13: 0 | P13: 0 | Q13: 0 | R13: 0 | S13: 0 | T13: 0 | U13: 0 | V13: 0 | W13: 618 | X13: 9394 | Y13: 0 | Z13: 19 | AA13: 875 | AB13: 6 | AC13: 80 | AD13: 248 | AE13: 841 | AF13: 0 | AG13: 0 | AH13: 219 | AI13: 11025 | AJ13: 0 | AK13: 518 | AL13: 2494 | AM13: 0 | AN13: 535048 | AO13: 1022803 | AP13: 403292 | AQ13: 11541 | AR13: 1871501 | AS13: 573948 | AT13: 0 | AU13: 468263 | AV13: 907923 | AW13: 440895 | AX13: 3975 | AY13: 9 | AZ13: 21 | BA13: 2433 | BB13: 10 | BC13: 268576 | BD13: 3401 | BE13: 40150 | BF13: 61500 | BG13: 9443 | BH13: 20039 | BI13: 11320 | BJ13: 0 | BK13: 304578 | BL13: 397055 | BM13: 0 | BN13: 0 | BO13: 0 | BP13: 104680 | BQ13: 2278318 | BR13: 0 | BS13: 15 | BT13: 0 | BU13: 0 | BV13: 0 | BW13: 1321271 | BX13: 3218 | BY13: 0 | BZ13: 0 | CA13: 0 | CB13: 0 | CC13: 0 | CD13: 0 | CE13: 11091563 | CF13: 11091563
F14: Productos no relacionados con la Bioeconomía | G14: 6860 | H14: 14905 | I14: 7240 | J14: 14264 | K14: 23954 | L14: 34308 | M14: 14435 | N14: 4604 | O14: 24237 | P14: 18054 | Q14: 2905 | R14: 6751 | S14: 3571348 | T14: 9454100 | U14: 463986 | V14: 209512 | W14: 31588 | X14: 49082 | Y14: 0 | Z14: 162 | AA14: 7649 | AB14: 3152 | AC14: 33048 | AD14: 21310 | AE14: 10161 | AF14: 13252 | AG14: 1564 | AH14: 21021 | AI14: 33047 | AJ14: 2534 | AK14: 1710 | AL14: 106 | AM14: 3999 | AN14: 11747 | AO14: 26076 | AP14: 5089 | AQ14: 20538 | AR14: 49972 | AS14: 102894 | AT14: 4601190 | AU14: 98740 | AV14: 180769 | AW14: 14749 | AX14: 208350 | AY14: 1317068 | AZ14: 361831 | BA14: 973607 | BB14: 1353702 | BC14: 1013567 | BD14: 199877 | BE14: 601002 | BF14: 193759 | BG14: 824549 | BH14: 724649 | BI14: 605067 | BJ14: 3274128 | BK14: 458862 | BL14: 10948887 | BM14: 23942123 | BN14: 11101378 | BO14: 332109 | BP14: 636643 | BQ14: 12619 | BR14: 4933058 | BS14: 5117428 | BT14: 1436789 | BU14: 563496 | BV14: 9966911 | BW14: 11142485 | BX14: 9375173 | BY14: 2547481 | BZ14: 4342443 | CA14: 3057759 | CB14: 4248950 | CC14: 2303090 | CD14: 963467 | CE14: 138298919 | CF14: 138298919
F15: Producción Total de la Economía (pb) | G15: 678097 | H15: 284480 | I15: 793750 | J15: 224886 | K15: 4869861 | L15: 1385773 | M15: 288908 | N15: 784879 | O15: 613785 | P15: 2339558 | Q15: 516142 | R15: 4673378 | S15: 3571348 | T15: 9454100 | U15: 463986 | V15: 285006 | W15: 2645710 | X15: 2399381 | Y15: 4214908 | Z15: 1293340 | AA15: 1775780 | AB15: 653756 | AC15: 1793210 | AD15: 492954 | AE15: 371268 | AF15: 232235 | AG15: 184284 | AH15: 1636345 | AI15: 910764 | AJ15: 132047 | AK15: 836656 | AL15: 625601 | AM15: 53088 | AN15: 546795 | AO15: 1048879 | AP15: 408381 | AQ15: 1094474 | AR15: 1921473 | AS15: 676842 | AT15: 4601190 | AU15: 575484 | AV15: 1088692 | AW15: 455644 | AX15: 212325 | AY15: 1317077 | AZ15: 361852 | BA15: 976040 | BB15: 1353712 | BC15: 1282143 | BD15: 203278 | BE15: 641152 | BF15: 255259 | BG15: 833992 | BH15: 744688 | BI15: 616387 | BJ15: 3275235 | BK15: 763444 | BL15: 11345942 | BM15: 23942123 | BN15: 11101378 | BO15: 332109 | BP15: 741323 | BQ15: 2290937 | BR15: 4933058 | BS15: 5117443 | BT15: 1436789 | BU15: 563496 | BV15: 9966911 | BW15: 12463756 | BX15: 9380620 | BY15: 2547481 | BZ15: 4342443 | CA15: 3057759 | CB15: 4248950 | CC15: 2305696 | CD15: 963467 | CE15: 187815383 | CF15: 187815383
F17: Productos directamente vinculados con la Bioeconomía | G17: 263017.97 | H17: 165780.85 | I17: 334358.16 | J17: 116261.4 | K17: 2322433.9 | L17: 547104.33 | M17: 150691.86 | N17: 306801.72 | O17: 229736.28 | P17: 1290146.7 | Q17: 125631.9 | R17: 3112745.9 | S17: 0 | T17: 0 | U17: 0 | V17: 43406.017 | W17: 1574114.3 | X17: 1835137.1 | Y17: 2756828 | Z17: 1002576.7 | AA17: 1056312.1 | AB17: 342048.7 | AC17: 1057021.9 | AD17: 269265.87 | AE17: 247234.81 | AF17: 150892.57 | AG17: 117749.12 | AH17: 1283132.7 | AI17: 531821.44 | AJ17: 92909.176 | AK17: 548692.94 | AL17: 276475.17 | AM17: 29080.942 | AN17: 0 | AO17: 0 | AP17: 0 | AQ17: 686689.42 | AR17: 0 | AS17: 0 | AT17: 0 | AU17: 5801.9611 | AV17: 0 | AW17: 0 | AX17: 0 | AY17: 0 | AZ17: 0 | BA17: 0 | BB17: 0 | BC17: 0 | BD17: 0 | BE17: 0 | BF17: 0 | BG17: 0 | BH17: 0 | BI17: 0 | BJ17: 591.46062 | BK17: 2.0896673 | BL17: 0 | BM17: 0 | BN17: 0 | BO17: 0 | BP17: 0 | BQ17: 0 | BR17: 0 | BS17: 0 | BT17: 0 | BU17: 0 | BV17: 0 | BW17: 0 | BX17: 337.88908 | BY17: 0 | BZ17: 0 | CA17: 0 | CB17: 0 | CC17: 1318.5443 | CD17: 0 | CE17: 22874152 | CF17: 22874152
F18: Productos funcionalmente relacionados con la Bioeconomía | G18: 0 | H18: 0 | I18: 0 | J18: 0 | K18: 0 | L18: 0 | M18: 0 | N18: 0 | O18: 0 | P18: 0 | Q18: 0 | R18: 0 | S18: 0 | T18: 0 | U18: 0 | V18: 0 | W18: 372.2216 | X18: 7364.3647 | Y18: 0 | Z18: 14.73056 | AA18: 522.99898 | AB18: 3.1544705 | AC18: 48.044211 | AD18: 141.65995 | AE18: 577.14154 | AF18: 0 | AG18: 0 | AH18: 173.98625 | AI18: 6765.1846 | AJ18: 0 | AK18: 340.62009 | AL18: 1106.7865 | AM18: 0 | AN18: 343751.91 | AO18: 555035.56 | AP18: 246966.62 | AQ18: 7459.6385 | AR18: 1311057.7 | AS18: 305066.49 | AT18: 0 | AU18: 320344.74 | AV18: 562571.97 | AW18: 259809.74 | AX18: 2450.225 | AY18: 6.0399863 | AZ18: 13.338945 | BA18: 1343.4844 | BB18: 7.9598984 | BC18: 137532.86 | BD18: 2448.4664 | BE18: 29870.029 | BF18: 32586.02 | BG18: 7842.3169 | BH18: 12480.54 | BI18: 5534.5756 | BJ18: 0 | BK18: 159116.68 | BL18: 222218.81 | BM18: 0 | BN18: 0 | BO18: 0 | BP18: 48220.497 | BQ18: 1181331.9 | BR18: 0 | BS18: 5.0913249 | BT18: 0 | BU18: 0 | BV18: 0 | BW18: 514886.62 | BX18: 487.80935 | BY18: 0 | BZ18: 0 | CA18: 0 | CB18: 0 | CC18: 0 | CD18: 0 | CE18: 6287878.5 | CF18: 6287878.5
F19: Productos no relacionados con la Bioeconomía | G19: 2688.0272 | H19: 9166.1454 | I19: 3077.8414 | J19: 7873.5966 | K19: 11480.117 | L19: 13888.673 | M19: 7925.1402 | N19: 1810.2786 | O19: 9444.724 | P19: 10033.284 | Q19: 711.09581 | R19: 4503.0699 | S19: 1385235 | T19: 3266525 | U19: 227645 | V19: 120460.98 | W19: 19025.463 | X19: 38477.512 | Y19: 0 | Z19: 125.59741 | AA19: 4571.9076 | AB19: 1657.1485 | AC19: 19847.064 | AD19: 12172.474 | AE19: 6973.0502 | AF19: 9131.4317 | AG19: 1007.8789 | AH19: 16700.297 | AI19: 20278.373 | AJ19: 1817.8241 | AK19: 1124.4408 | AL19: 47.040644 | AM19: 2369.058 | AN19: 7547.0868 | AO19: 14150.435 | AP19: 3116.3849 | AQ19: 13274.938 | AR19: 35007.289 | AS19: 54690.514 | AT19: 3418195 | AU19: 67549.303 | AV19: 112009.03 | AW19: 8691.2617 | AX19: 128428.77 | AY19: 883896.96 | AZ19: 229830.66 | BA19: 537618.52 | BB19: 1077533 | BC19: 519029.14 | BD19: 143896.53 | BE19: 447121.97 | BF19: 102663.98 | BG19: 684779.68 | BH19: 451320.46 | BI19: 295829.42 | BJ19: 1749338.5 | BK19: 239717.23 | BL19: 6127737.2 | BM19: 8265351 | BN19: 5716890 | BO19: 162292 | BP19: 293267.5 | BQ19: 6543.0846 | BR19: 2366716 | BS19: 1736965.9 | BT19: 1004615 | BU19: 270502 | BV19: 2653411 | BW19: 4342119.4 | BX19: 1421161.3 | BY19: 918657 | BZ19: 573300 | CA19: 1585441 | CB19: 1627903 | CC19: 1165282.5 | CD19: 0 | CE19: 56701186 | CF19: 56701186
F20: Demanda Intermedia Total de la Economía (pc) | G20: 265706 | H20: 174947 | I20: 337436 | J20: 124135 | K20: 2333914 | L20: 560993 | M20: 158617 | N20: 308612 | O20: 239181 | P20: 1300180 | Q20: 126343 | R20: 3117249 | S20: 1385235 | T20: 3266525 | U20: 227645 | V20: 163867 | W20: 1593512 | X20: 1880979 | Y20: 2756828 | Z20: 1002717 | AA20: 1061407 | AB20: 343709 | AC20: 1076917 | AD20: 281580 | AE20: 254785 | AF20: 160024 | AG20: 118757 | AH20: 1300007 | AI20: 558865 | AJ20: 94727 | AK20: 550158 | AL20: 277629 | AM20: 31450 | AN20: 351299 | AO20: 569186 | AP20: 250083 | AQ20: 707424 | AR20: 1346065 | AS20: 359757 | AT20: 3418195 | AU20: 393696 | AV20: 674581 | AW20: 268501 | AX20: 130879 | AY20: 883903 | AZ20: 229844 | BA20: 538962 | BB20: 1077541 | BC20: 656562 | BD20: 146345 | BE20: 476992 | BF20: 135250 | BG20: 692622 | BH20: 463801 | BI20: 301364 | BJ20: 1749930 | BK20: 398836 | BL20: 6349956 | BM20: 8265351 | BN20: 5716890 | BO20: 162292 | BP20: 341488 | BQ20: 1187875 | BR20: 2366716 | BS20: 1736971 | BT20: 1004615 | BU20: 270502 | BV20: 2653411 | BW20: 4857006 | BX20: 1421987 | BY20: 918657 | BZ20: 573300 | CA20: 1585441 | CB20: 1627903 | CC20: 1166601 | CD20: 0 | CE20: 85863216 | CF20: 85863216
B22: 448282 | C22: -61 | D22: 83497 | E22: 1014882 | F22: Productos directamente vinculados con la Bioeconomía | G22: 408219.03 | H22: 103794.15 | I22: 452151.84 | J22: 94360.597 | K22: 2523473.1 | L22: 804360.67 | M22: 123781.14 | N22: 473473.28 | O22: 359811.72 | P22: 1031357.3 | Q22: 387605.1 | R22: 1553881.1 | S22: 0 | T22: 0 | U22: 0 | V22: 32087.983 | W22: 1039389.7 | X22: 505767.88 | Y22: 1458080 | Z22: 290582.33 | AA22: 710943.91 | AB22: 308549.3 | AC22: 703060.11 | AD22: 202130.13 | AE22: 113031.19 | AF22: 68090.432 | AG22: 64970.879 | AH22: 331972.28 | AI22: 334870.56 | AJ22: 36603.824 | AK22: 285735.06 | AL22: 346525.83 | AM22: 20008.058 | AN22: 0 | AO22: 0 | AP22: 0 | AQ22: 375705.58 | AR22: 0 | AS22: 0 | AT22: 0 | AU22: 2679.0389 | AV22: 0 | AW22: 0 | AX22: 0 | AY22: 0 | AZ22: 0 | BA22: 0 | BB22: 0 | BC22: 0 | BD22: 0 | BE22: 0 | BF22: 0 | BG22: 0 | BH22: 0 | BI22: 0 | BJ22: 515.53938 | BK22: 1.9103327 | BL22: 0 | BM22: 0 | BN22: 0 | BO22: 0 | BP22: 0 | BQ22: 0 | BR22: 0 | BS22: 0 | BT22: 0 | BU22: 0 | BV22: 0 | BW22: 0 | BX22: 1891.1109 | BY22: 0 | BZ22: 0 | CA22: 0 | CB22: 0 | CC22: 1287.4557 | CD22: 0 | CE22: 15550749 | CF22: 17097349
B23: 48287 | C23: -15842 | D23: 246578 | E23: 1119941 | F23: Productos funcionalmente relacionados con la Bioeconomía | G23: 0 | H23: 0 | I23: 0 | J23: 0 | K23: 0 | L23: 0 | M23: 0 | N23: 0 | O23: 0 | P23: 0 | Q23: 0 | R23: 0 | S23: 0 | T23: 0 | U23: 0 | V23: 0 | W23: 245.7784 | X23: 2029.6353 | Y23: 0 | Z23: 4.2694396 | AA23: 352.00102 | AB23: 2.8455295 | AC23: 31.955789 | AD23: 106.34005 | AE23: 263.85846 | AF23: 0 | AG23: 0 | AH23: 45.013748 | AI23: 4259.8154 | AJ23: 0 | AK23: 177.37991 | AL23: 1387.2135 | AM23: 0 | AN23: 191296.09 | AO23: 467767.44 | AP23: 156325.38 | AQ23: 4081.3615 | AR23: 560443.29 | AS23: 268881.51 | AT23: 0 | AU23: 147918.26 | AV23: 345351.03 | AW23: 181085.26 | AX23: 1524.775 | AY23: 2.9600137 | AZ23: 7.6610548 | BA23: 1089.5156 | BB23: 2.0401016 | BC23: 131043.14 | BD23: 952.53364 | BE23: 10279.971 | BF23: 28913.98 | BG23: 1600.6831 | BH23: 7558.4602 | BI23: 5785.4244 | BJ23: 0 | BK23: 145461.32 | BL23: 174836.19 | BM23: 0 | BN23: 0 | BO23: 0 | BP23: 56459.503 | BQ23: 1096986.1 | BR23: 0 | BS23: 9.9086751 | BT23: 0 | BU23: 0 | BV23: 0 | BW23: 806384.38 | BX23: 2730.1906 | BY23: 0 | BZ23: 0 | CA23: 0 | CB23: 0 | CC23: 0 | CD23: 0 | CE23: 4803684.5 | CF23: 6202648.5
B24: 716942 | C24: -3602832 | D24: 1194795 | E24: 4450100 | F24: Productos no relacionados con la Bioeconomía | G24: 4171.9728 | H24: 5738.8546 | I24: 4162.1586 | J24: 6390.4034 | K24: 12473.883 | L24: 20419.327 | M24: 6509.8598 | N24: 2793.7214 | O24: 14792.276 | P24: 8020.7161 | Q24: 2193.9042 | R24: 2247.9301 | S24: 2186113 | T24: 6187575 | U24: 236341 | V24: 89051.017 | W24: 12562.537 | X24: 10604.488 | Y24: 0 | Z24: 36.40259 | AA24: 3077.0924 | AB24: 1494.8515 | AC24: 13200.936 | AD24: 9137.5259 | AE24: 3187.9498 | AF24: 4120.5683 | AG24: 556.12114 | AH24: 4320.7032 | AI24: 12768.627 | AJ24: 716.17591 | AK24: 585.55915 | AL24: 58.959356 | AM24: 1629.942 | AN24: 4199.9132 | AO24: 11925.565 | AP24: 1972.6151 | AQ24: 7263.0623 | AR24: 14964.711 | AS24: 48203.486 | AT24: 1182995 | AU24: 31190.697 | AV24: 68759.972 | AW24: 6057.7383 | AX24: 79921.225 | AY24: 433171.04 | AZ24: 132000.34 | BA24: 435988.48 | BB24: 276168.96 | BC24: 494537.86 | BD24: 55980.466 | BE24: 153880.03 | BF24: 91095.02 | BG24: 139769.32 | BH24: 273328.54 | BI24: 309237.58 | BJ24: 1524789.5 | BK24: 219144.77 | BL24: 4821149.8 | BM24: 15676772 | BN24: 5384488 | BO24: 169817 | BP24: 343375.5 | BQ24: 6075.9154 | BR24: 2566342 | BS24: 3380462.1 | BT24: 432174 | BU24: 292994 | BV24: 7313500 | BW24: 6800365.6 | BX24: 7954011.7 | BY24: 1628824 | BZ24: 3769143 | CA24: 1472318 | CB24: 2621047 | CC24: 1137807.5 | CD24: 963467 | CE24: 81597733 | CF24: 84356738
B25: 1213511 | C25: -3618735 | D25: 1524870 | E25: 6584923 | F25: Valor Agregado Total de la Economía | G25: 412391 | H25: 109533 | I25: 456314 | J25: 100751 | K25: 2535947 | L25: 824780 | M25: 130291 | N25: 476267 | O25: 374604 | P25: 1039378 | Q25: 389799 | R25: 1556129 | S25: 2186113 | T25: 6187575 | U25: 236341 | V25: 121139 | W25: 1052198 | X25: 518402 | Y25: 1458080 | Z25: 290623 | AA25: 714373 | AB25: 310047 | AC25: 716293 | AD25: 211374 | AE25: 116483 | AF25: 72211 | AG25: 65527 | AH25: 336338 | AI25: 351899 | AJ25: 37320 | AK25: 286498 | AL25: 347972 | AM25: 21638 | AN25: 195496 | AO25: 479693 | AP25: 158298 | AQ25: 387050 | AR25: 575408 | AS25: 317085 | AT25: 1182995 | AU25: 181788 | AV25: 414111 | AW25: 187143 | AX25: 81446 | AY25: 433174 | AZ25: 132008 | BA25: 437078 | BB25: 276171 | BC25: 625581 | BD25: 56933 | BE25: 164160 | BF25: 120009 | BG25: 141370 | BH25: 280887 | BI25: 315023 | BJ25: 1525305 | BK25: 364608 | BL25: 4995986 | BM25: 15676772 | BN25: 5384488 | BO25: 169817 | BP25: 399835 | BQ25: 1103062 | BR25: 2566342 | BS25: 3380472 | BT25: 432174 | BU25: 292994 | BV25: 7313500 | BW25: 7606750 | BX25: 7958633 | BY25: 1628824 | BZ25: 3769143 | CA25: 1472318 | CB25: 2621047 | CC25: 1139095 | CD25: 963467 | CE25: 1.0195217e+08 | CF25: 1.0765674e+08
B27: 2.6219386 | C27: -0.00035678046 | D27: 0.48836226 | E27: 5.9359027 | F27: Participación de las Actividades Económicas en la Bioeconomía | G27: 2.3876159 | H27: 0.60707742 | I27: 2.6445728 | J27: 0.55190191 | K27: 14.759441 | L27: 4.7045929 | M27: 0.72397855 | N27: 2.7692789 | O27: 2.1044884 | P27: 6.0322643 | Q27: 2.2670479 | R27: 9.0884327 | S27: 0 | T27: 0 | U27: 0 | V27: 0.18767812 | W27: 6.0792447 | X27: 2.9581655 | Y27: 8.5281057 | Z27: 1.6995753 | AA27: 4.1582113 | AB27: 1.8046617 | AC27: 4.1121001 | AD27: 1.1822308 | AE27: 0.66110361 | AF27: 0.3982514 | AG27: 0.38000557 | AH27: 1.9416594 | AI27: 1.958611 | AJ27: 0.21409064 | AK27: 1.6712244 | AL27: 2.026781 | AM27: 0.11702433 | AN27: 0 | AO27: 0 | AP27: 0 | AQ27: 2.1974493 | AR27: 0 | AS27: 0 | AT27: 0 | AU27: 0.015669323 | AV27: 0 | AW27: 0 | AX27: 0 | AY27: 0 | AZ27: 0 | BA27: 0 | BB27: 0 | BC27: 0 | BD27: 0 | BE27: 0 | BF27: 0 | BG27: 0 | BH27: 0 | BI27: 0 | BJ27: 0.0030153177 | BK27: 1.1173268e-05 | BL27: 0 | BM27: 0 | BN27: 0 | BO27: 0 | BP27: 0 | BQ27: 0 | BR27: 0 | BS27: 0 | BT27: 0 | BU27: 0 | BV27: 0 | BW27: 0 | BX27: 0.011060843 | BY27: 0 | BZ27: 0 | CA27: 0 | CB27: 0 | CC27: 0.0075301484 | CD27: 0 | CE27: 90.954153 | CF27: 100
B28: 0.77849003 | C28: -0.25540703 | D28: 3.9753664 | E28: 18.055852 | F28: Participación de las Actividades Económicas en la Bioeconomía Extendida | G28: 0 | H28: 0 | I28: 0 | J28: 0 | K28: 0 | L28: 0 | M28: 0 | N28: 0 | O28: 0 | P28: 0 | Q28: 0 | R28: 0 | S28: 0 | T28: 0 | U28: 0 | V28: 0 | W28: 0.0039624751 | X28: 0.032722075 | Y28: 0 | Z28: 6.8832526e-05 | AA28: 0.0056750116 | AB28: 4.5876041e-05 | AC28: 0.00051519587 | AD28: 0.0017144297 | AE28: 0.0042539645 | AF28: 0 | AG28: 0 | AH28: 0.00072571819 | AI28: 0.068677362 | AJ28: 0 | AK28: 0.0028597447 | AL28: 0.022364858 | AM28: 0 | AN28: 3.0841033 | AO28: 7.5414146 | AP28: 2.5203006 | AQ28: 0.065800303 | AR28: 9.0355482 | AS28: 4.3349469 | AT28: 0 | AU28: 2.3847598 | AV28: 5.5677995 | AW28: 2.9194829 | AX28: 0.024582644 | AY28: 4.7721772e-05 | AZ28: 0.00012351264 | BA28: 0.017565328 | BB28: 3.2890814e-05 | BC28: 2.1126965 | BD28: 0.015356886 | BE28: 0.16573519 | BF28: 0.46615538 | BG28: 0.025806446 | BH28: 0.12185859 | BI28: 0.093273452 | BJ28: 0 | BK28: 2.3451486 | BL28: 2.8187344 | BM28: 0 | BN28: 0 | BO28: 0 | BP28: 0.91024831 | BQ28: 17.685769 | BR28: 0 | BS28: 0.0001597491 | BT28: 0 | BU28: 0 | BV28: 0 | BW28: 13.000646 | BX28: 0.044016531 | BY28: 0 | BZ28: 0 | CA28: 0 | CB28: 0 | CC28: 0 | CD28: 0 | CE28: 77.445699 | CF28: 100
B29: 0.84989298 | C29: -4.2709475 | D29: 1.4163599 | E29: 5.2753343 | F29: Participación de las Actividades Económicas en la No Bioeconomía | G29: 0.0049456308 | H29: 0.0068030779 | I29: 0.0049339965 | J29: 0.007575451 | K29: 0.014787061 | L29: 0.024205923 | M29: 0.0077170597 | N29: 0.003311794 | O29: 0.017535382 | P29: 0.0095080917 | Q29: 0.0026007456 | R29: 0.0026647902 | S29: 2.5915096 | T29: 7.3350098 | U29: 0.28016849 | V29: 0.10556479 | W29: 0.014892156 | X29: 0.012571003 | Y29: 0 | Z29: 4.315315e-05 | AA29: 0.0036477138 | AB29: 0.0017720594 | AC29: 0.015648941 | AD29: 0.010832005 | AE29: 0.0037791289 | AF29: 0.0048846937 | AG29: 0.00065924922 | AH29: 0.005121942 | AI29: 0.015136464 | AJ29: 0.00084898482 | AK29: 0.00069414627 | AL29: 6.9892882e-05 | AM29: 0.0019322013 | AN29: 0.0049787524 | AO29: 0.014137063 | AP29: 0.0023384203 | AQ29: 0.0086099374 | AR29: 0.017739794 | AS29: 0.057142425 | AT29: 1.4023717 | AU29: 0.036974755 | AV29: 0.081510942 | AW29: 0.0071810959 | AX29: 0.094741957 | AY29: 0.51349904 | AZ29: 0.15647871 | BA29: 0.51683895 | BB29: 0.32738222 | BC29: 0.58624583 | BD29: 0.066361582 | BE29: 0.18241581 | BF29: 0.10798784 | BG29: 0.16568838 | BH29: 0.32401506 | BI29: 0.36658313 | BJ29: 1.8075491 | BK29: 0.25978335 | BL29: 5.7151923 | BM29: 18.5839 | BN29: 6.3829969 | BO29: 0.20130816 | BP29: 0.40705165 | BQ29: 0.0072026438 | BR29: 3.042249 | BS29: 4.0073409 | BT29: 0.5123171 | BU29: 0.34732732 | BV29: 8.6697283 | BW29: 8.0614373 | BX29: 9.4290176 | BY29: 1.930876 | BZ29: 4.4680995 | CA29: 1.7453472 | CB29: 3.1070986 | CC29: 1.3488046 | CD29: 1.142134 | CE29: 96.72936 | CF29: 100
